{"text_format":"1","workbook":"xlsx","n_sheets":12,"sheets":["Legend","ED272, ED272A Ed YTD by Squad.","ED273 Stdnts & Cls YTD by Distr","ED272 Students YTD by Squadron","ED272A Classes YTD by Squadron","ED273 Students YTD by District","Classes by District","Monthly Summary","Long Term Data","Chart - Year to Year Comparison","Chart - Monthly Values","273 XLATR"],"not_rendered":{"charts":5,"images":0,"macros":1,"external_links":0,"defined_names":12,"comments":0,"pivot_tables":0},"unopened":[],"bounds":{"document_bytes":16777216,"sheet_cells":100000,"rows_first":2000,"rows_last":500,"rows_between":2000,"halvings":0,"cell_chars":16384,"cell_head_chars":4096},"cells_cut":0,"cells_raw":0,"read":"whole","date_system":"1900"}

{"sheet":"Legend","index":0,"n_rows":3,"n_cols":5,"rows_kept":3,"cut":false,"hidden":false,"merged":[]}
[{"$f":"'ED272 Students YTD by Squadron'!A1:C1","v":"2016-07-29"},"7/29/2016 Final 2015-2016"]
[]
[null,null,null,"12-13","13-14"]

{"sheet":"ED272, ED272A Ed YTD by Squad.","index":1,"n_rows":390,"n_cols":11,"rows_kept":390,"cut":false,"hidden":false,"merged":[[0,0,0,2],[0,3,0,8],[1,0,2,0],[1,1,2,1],[1,2,2,2],[389,3,389,8],[0,9,0,10],[388,9,388,10],[389,9,389,10],[388,3,388,4],[388,5,388,6],[388,7,388,8],[1,7,1,8],[1,9,1,10],[1,3,1,4],[1,5,1,6]]}
[{"$f":"'ED272 Students YTD by Squadron'!A1:C1","v":"2016-07-29"},null,null,"ABC Students",null,null,null,null,null,"ABC Classes"]
["Dist.","Sqdn #","Squadron Name","Registration",null,"Examined",null,"Passed",null,"No. of Classes"]
[null,null,null,{"$f":"'ED272 Students YTD by Squadron'!D3","v":"14-15"},{"$f":"'ED272 Students YTD by Squadron'!E3","v":"15-16"},{"$f":"'ED272 Students YTD by Squadron'!F3","v":"14-15"},{"$f":"'ED272 Students YTD by Squadron'!G3","v":"15-16"},{"$f":"'ED272 Students YTD by Squadron'!H3","v":"14-15"},{"$f":"'ED272 Students YTD by Squadron'!I3","v":"15-16"},{"$f":"'ED272A Classes YTD by Squadron'!D3","v":"14-15"},{"$f":"'ED272A Classes YTD by Squadron'!E3","v":"15-16"}]
[{"$f":"IF(('ED272 Students YTD by Squadron'!$A4)<>0,'ED272 Students YTD by Squadron'!A4,\" \")","v":1},{"$f":"IF(('ED272 Students YTD by Squadron'!$A4)<>0,'ED272 Students YTD by Squadron'!B4,\" \")","v":2220},{"$f":"IF(('ED272 Students YTD by Squadron'!$A4)<>0,'ED272 Students YTD by Squadron'!C4,\" \")","v":"Hartford Power Squadron  "},{"$f":"IF(('ED272 Students YTD by Squadron'!$A4)<>0,'ED272 Students YTD by Squadron'!D4,\" \")","v":22},{"$f":"IF(('ED272 Students YTD by Squadron'!$A4)<>0,'ED272 Students YTD by Squadron'!E4,\" \")","v":6},{"$f":"IF(('ED272 Students YTD by Squadron'!$A4)<>0,'ED272 Students YTD by Squadron'!F4,\" \")","v":22},{"$f":"IF(('ED272 Students YTD by Squadron'!$A4)<>0,'ED272 Students YTD by Squadron'!G4,\" \")","v":6},{"$f":"IF(('ED272 Students YTD by Squadron'!$A4)<>0,'ED272 Students YTD by Squadron'!H4,\" \")","v":22},{"$f":"IF(('ED272 Students YTD by Squadron'!$A4)<>0,'ED272 Students YTD by Squadron'!I4,\" \")","v":6},{"$f":"IF(('ED272 Students YTD by Squadron'!$A4)<>0,'ED272A Classes YTD by Squadron'!D4,\" \")","v":2},{"$f":"IF(('ED272 Students YTD by Squadron'!$A4)<>0,'ED272A Classes YTD by Squadron'!E4,\" \")","v":1}]
[{"$f":"IF(('ED272 Students YTD by Squadron'!$A5)<>0,'ED272 Students YTD by Squadron'!A5,\" \")","v":1},{"$f":"IF(('ED272 Students YTD by Squadron'!$A5)<>0,'ED272 Students YTD by Squadron'!B5,\" \")","v":3060},{"$f":"IF(('ED272 Students YTD by Squadron'!$A5)<>0,'ED272 Students YTD by Squadron'!C5,\" \")","v":"Manchester Power Squadron"},{"$f":"IF(('ED272 Students YTD by Squadron'!$A5)<>0,'ED272 Students YTD by Squadron'!D5,\" \")","v":16},{"$f":"IF(('ED272 Students YTD by Squadron'!$A5)<>0,'ED272 Students YTD by Squadron'!E5,\" \")","v":0},{"$f":"IF(('ED272 Students YTD by Squadron'!$A5)<>0,'ED272 Students YTD by Squadron'!F5,\" \")","v":16},{"$f":"IF(('ED272 Students YTD by Squadron'!$A5)<>0,'ED272 Students YTD by Squadron'!G5,\" \")","v":0},{"$f":"IF(('ED272 Students YTD by Squadron'!$A5)<>0,'ED272 Students YTD by Squadron'!H5,\" \")","v":16},{"$f":"IF(('ED272 Students YTD by Squadron'!$A5)<>0,'ED272 Students YTD by Squadron'!I5,\" \")","v":0},{"$f":"IF(('ED272 Students YTD by Squadron'!$A5)<>0,'ED272A Classes YTD by Squadron'!D5,\" \")","v":4},{"$f":"IF(('ED272 Students YTD by Squadron'!$A5)<>0,'ED272A Classes YTD by Squadron'!E5,\" \")","v":0}]
[{"$f":"IF(('ED272 Students YTD by Squadron'!$A6)<>0,'ED272 Students YTD by Squadron'!A6,\" \")","v":1},{"$f":"IF(('ED272 Students YTD by Squadron'!$A6)<>0,'ED272 Students YTD by Squadron'!B6,\" \")","v":3210},{"$f":"IF(('ED272 Students YTD by Squadron'!$A6)<>0,'ED272 Students YTD by Squadron'!C6,\" \")","v":"Meriden Power Squadron   "},{"$f":"IF(('ED272 Students YTD by Squadron'!$A6)<>0,'ED272 Students YTD by Squadron'!D6,\" \")","v":20},{"$f":"IF(('ED272 Students YTD by Squadron'!$A6)<>0,'ED272 Students YTD by Squadron'!E6,\" \")","v":8},{"$f":"IF(('ED272 Students YTD by Squadron'!$A6)<>0,'ED272 Students YTD by Squadron'!F6,\" \")","v":16},{"$f":"IF(('ED272 Students YTD by Squadron'!$A6)<>0,'ED272 Students YTD by Squadron'!G6,\" \")","v":8},{"$f":"IF(('ED272 Students YTD by Squadron'!$A6)<>0,'ED272 Students YTD by Squadron'!H6,\" \")","v":16},{"$f":"IF(('ED272 Students YTD by Squadron'!$A6)<>0,'ED272 Students YTD by Squadron'!I6,\" \")","v":8},{"$f":"IF(('ED272 Students YTD by Squadron'!$A6)<>0,'ED272A Classes YTD by Squadron'!D6,\" \")","v":1},{"$f":"IF(('ED272 Students YTD by Squadron'!$A6)<>0,'ED272A Classes YTD by Squadron'!E6,\" \")","v":1}]
[{"$f":"IF(('ED272 Students YTD by Squadron'!$A7)<>0,'ED272 Students YTD by Squadron'!A7,\" \")","v":1},{"$f":"IF(('ED272 Students YTD by Squadron'!$A7)<>0,'ED272 Students YTD by Squadron'!B7,\" \")","v":3300},{"$f":"IF(('ED272 Students YTD by Squadron'!$A7)<>0,'ED272 Students YTD by Squadron'!C7,\" \")","v":"Middletown Sail & Power  "},{"$f":"IF(('ED272 Students YTD by Squadron'!$A7)<>0,'ED272 Students YTD by Squadron'!D7,\" \")","v":5},{"$f":"IF(('ED272 Students YTD by Squadron'!$A7)<>0,'ED272 Students YTD by Squadron'!E7,\" \")","v":14},{"$f":"IF(('ED272 Students YTD by Squadron'!$A7)<>0,'ED272 Students YTD by Squadron'!F7,\" \")","v":5},{"$f":"IF(('ED272 Students YTD by Squadron'!$A7)<>0,'ED272 Students YTD by Squadron'!G7,\" \")","v":13},{"$f":"IF(('ED272 Students YTD by Squadron'!$A7)<>0,'ED272 Students YTD by Squadron'!H7,\" \")","v":5},{"$f":"IF(('ED272 Students YTD by Squadron'!$A7)<>0,'ED272 Students YTD by Squadron'!I7,\" \")","v":13},{"$f":"IF(('ED272 Students YTD by Squadron'!$A7)<>0,'ED272A Classes YTD by Squadron'!D7,\" \")","v":1},{"$f":"IF(('ED272 Students YTD by Squadron'!$A7)<>0,'ED272A Classes YTD by Squadron'!E7,\" \")","v":1}]
[{"$f":"IF(('ED272 Students YTD by Squadron'!$A8)<>0,'ED272 Students YTD by Squadron'!A8,\" \")","v":1},{"$f":"IF(('ED272 Students YTD by Squadron'!$A8)<>0,'ED272 Students YTD by Squadron'!B8,\" \")","v":3375},{"$f":"IF(('ED272 Students YTD by Squadron'!$A8)<>0,'ED272 Students YTD by Squadron'!C8,\" \")","v":"Milford Power Squadron   "},{"$f":"IF(('ED272 Students YTD by Squadron'!$A8)<>0,'ED272 Students YTD by Squadron'!D8,\" \")","v":0},{"$f":"IF(('ED272 Students YTD by Squadron'!$A8)<>0,'ED272 Students YTD by Squadron'!E8,\" \")","v":17},{"$f":"IF(('ED272 Students YTD by Squadron'!$A8)<>0,'ED272 Students YTD by Squadron'!F8,\" \")","v":0},{"$f":"IF(('ED272 Students YTD by Squadron'!$A8)<>0,'ED272 Students YTD by Squadron'!G8,\" \")","v":15},{"$f":"IF(('ED272 Students YTD by Squadron'!$A8)<>0,'ED272 Students YTD by Squadron'!H8,\" \")","v":0},{"$f":"IF(('ED272 Students YTD by Squadron'!$A8)<>0,'ED272 Students YTD by Squadron'!I8,\" \")","v":15},{"$f":"IF(('ED272 Students YTD by Squadron'!$A8)<>0,'ED272A Classes YTD by Squadron'!D8,\" \")","v":0},{"$f":"IF(('ED272 Students YTD by Squadron'!$A8)<>0,'ED272A Classes YTD by Squadron'!E8,\" \")","v":2}]
[{"$f":"IF(('ED272 Students YTD by Squadron'!$A9)<>0,'ED272 Students YTD by Squadron'!A9,\" \")","v":1},{"$f":"IF(('ED272 Students YTD by Squadron'!$A9)<>0,'ED272 Students YTD by Squadron'!B9,\" \")","v":3690},{"$f":"IF(('ED272 Students YTD by Squadron'!$A9)<>0,'ED272 Students YTD by Squadron'!C9,\" \")","v":"New Britain Power Squad  "},{"$f":"IF(('ED272 Students YTD by Squadron'!$A9)<>0,'ED272 Students YTD by Squadron'!D9,\" \")","v":12},{"$f":"IF(('ED272 Students YTD by Squadron'!$A9)<>0,'ED272 Students YTD by Squadron'!E9,\" \")","v":0},{"$f":"IF(('ED272 Students YTD by Squadron'!$A9)<>0,'ED272 Students YTD by Squadron'!F9,\" \")","v":11},{"$f":"IF(('ED272 Students YTD by Squadron'!$A9)<>0,'ED272 Students YTD by Squadron'!G9,\" \")","v":0},{"$f":"IF(('ED272 Students YTD by Squadron'!$A9)<>0,'ED272 Students YTD by Squadron'!H9,\" \")","v":11},{"$f":"IF(('ED272 Students YTD by Squadron'!$A9)<>0,'ED272 Students YTD by Squadron'!I9,\" \")","v":0},{"$f":"IF(('ED272 Students YTD by Squadron'!$A9)<>0,'ED272A Classes YTD by Squadron'!D9,\" \")","v":1},{"$f":"IF(('ED272 Students YTD by Squadron'!$A9)<>0,'ED272A Classes YTD by Squadron'!E9,\" \")","v":0}]
[{"$f":"IF(('ED272 Students YTD by Squadron'!$A10)<>0,'ED272 Students YTD by Squadron'!A10,\" \")","v":1},{"$f":"IF(('ED272 Students YTD by Squadron'!$A10)<>0,'ED272 Students YTD by Squadron'!B10,\" \")","v":3705},{"$f":"IF(('ED272 Students YTD by Squadron'!$A10)<>0,'ED272 Students YTD by Squadron'!C10,\" \")","v":"New Haven Power Squadron "},{"$f":"IF(('ED272 Students YTD by Squadron'!$A10)<>0,'ED272 Students YTD by Squadron'!D10,\" \")","v":2},{"$f":"IF(('ED272 Students YTD by Squadron'!$A10)<>0,'ED272 Students YTD by Squadron'!E10,\" \")","v":20},{"$f":"IF(('ED272 Students YTD by Squadron'!$A10)<>0,'ED272 Students YTD by Squadron'!F10,\" \")","v":2},{"$f":"IF(('ED272 Students YTD by Squadron'!$A10)<>0,'ED272 Students YTD by Squadron'!G10,\" \")","v":20},{"$f":"IF(('ED272 Students YTD by Squadron'!$A10)<>0,'ED272 Students YTD by Squadron'!H10,\" \")","v":2},{"$f":"IF(('ED272 Students YTD by Squadron'!$A10)<>0,'ED272 Students YTD by Squadron'!I10,\" \")","v":20},{"$f":"IF(('ED272 Students YTD by Squadron'!$A10)<>0,'ED272A Classes YTD by Squadron'!D10,\" \")","v":1},{"$f":"IF(('ED272 Students YTD by Squadron'!$A10)<>0,'ED272A Classes YTD by Squadron'!E10,\" \")","v":3}]
[{"$f":"IF(('ED272 Students YTD by Squadron'!$A11)<>0,'ED272 Students YTD by Squadron'!A11,\" \")","v":1},{"$f":"IF(('ED272 Students YTD by Squadron'!$A11)<>0,'ED272 Students YTD by Squadron'!B11,\" \")","v":3720},{"$f":"IF(('ED272 Students YTD by Squadron'!$A11)<>0,'ED272 Students YTD by Squadron'!C11,\" \")","v":"New London Power Squadron"},{"$f":"IF(('ED272 Students YTD by Squadron'!$A11)<>0,'ED272 Students YTD by Squadron'!D11,\" \")","v":12},{"$f":"IF(('ED272 Students YTD by Squadron'!$A11)<>0,'ED272 Students YTD by Squadron'!E11,\" \")","v":26},{"$f":"IF(('ED272 Students YTD by Squadron'!$A11)<>0,'ED272 Students YTD by Squadron'!F11,\" \")","v":10},{"$f":"IF(('ED272 Students YTD by Squadron'!$A11)<>0,'ED272 Students YTD by Squadron'!G11,\" \")","v":24},{"$f":"IF(('ED272 Students YTD by Squadron'!$A11)<>0,'ED272 Students YTD by Squadron'!H11,\" \")","v":10},{"$f":"IF(('ED272 Students YTD by Squadron'!$A11)<>0,'ED272 Students YTD by Squadron'!I11,\" \")","v":24},{"$f":"IF(('ED272 Students YTD by Squadron'!$A11)<>0,'ED272A Classes YTD by Squadron'!D11,\" \")","v":1},{"$f":"IF(('ED272 Students YTD by Squadron'!$A11)<>0,'ED272A Classes YTD by Squadron'!E11,\" \")","v":2}]
[{"$f":"IF(('ED272 Students YTD by Squadron'!$A12)<>0,'ED272 Students YTD by Squadron'!A12,\" \")","v":1},{"$f":"IF(('ED272 Students YTD by Squadron'!$A12)<>0,'ED272 Students YTD by Squadron'!B12,\" \")","v":3915},{"$f":"IF(('ED272 Students YTD by Squadron'!$A12)<>0,'ED272 Students YTD by Squadron'!C12,\" \")","v":"Norwich Power Squadron   "},{"$f":"IF(('ED272 Students YTD by Squadron'!$A12)<>0,'ED272 Students YTD by Squadron'!D12,\" \")","v":0},{"$f":"IF(('ED272 Students YTD by Squadron'!$A12)<>0,'ED272 Students YTD by Squadron'!E12,\" \")","v":0},{"$f":"IF(('ED272 Students YTD by Squadron'!$A12)<>0,'ED272 Students YTD by Squadron'!F12,\" \")","v":0},{"$f":"IF(('ED272 Students YTD by Squadron'!$A12)<>0,'ED272 Students YTD by Squadron'!G12,\" \")","v":0},{"$f":"IF(('ED272 Students YTD by Squadron'!$A12)<>0,'ED272 Students YTD by Squadron'!H12,\" \")","v":0},{"$f":"IF(('ED272 Students YTD by Squadron'!$A12)<>0,'ED272 Students YTD by Squadron'!I12,\" \")","v":0},{"$f":"IF(('ED272 Students YTD by Squadron'!$A12)<>0,'ED272A Classes YTD by Squadron'!D12,\" \")","v":0},{"$f":"IF(('ED272 Students YTD by Squadron'!$A12)<>0,'ED272A Classes YTD by Squadron'!E12,\" \")","v":0}]
[{"$f":"IF(('ED272 Students YTD by Squadron'!$A13)<>0,'ED272 Students YTD by Squadron'!A13,\" \")","v":1},{"$f":"IF(('ED272 Students YTD by Squadron'!$A13)<>0,'ED272 Students YTD by Squadron'!B13,\" \")","v":5340},{"$f":"IF(('ED272 Students YTD by Squadron'!$A13)<>0,'ED272 Students YTD by Squadron'!C13,\" \")","v":"Saybrook Power Squadron  "},{"$f":"IF(('ED272 Students YTD by Squadron'!$A13)<>0,'ED272 Students YTD by Squadron'!D13,\" \")","v":8},{"$f":"IF(('ED272 Students YTD by Squadron'!$A13)<>0,'ED272 Students YTD by Squadron'!E13,\" \")","v":0},{"$f":"IF(('ED272 Students YTD by Squadron'!$A13)<>0,'ED272 Students YTD by Squadron'!F13,\" \")","v":8},{"$f":"IF(('ED272 Students YTD by Squadron'!$A13)<>0,'ED272 Students YTD by Squadron'!G13,\" \")","v":0},{"$f":"IF(('ED272 Students YTD by Squadron'!$A13)<>0,'ED272 Students YTD by Squadron'!H13,\" \")","v":8},{"$f":"IF(('ED272 Students YTD by Squadron'!$A13)<>0,'ED272 Students YTD by Squadron'!I13,\" \")","v":0},{"$f":"IF(('ED272 Students YTD by Squadron'!$A13)<>0,'ED272A Classes YTD by Squadron'!D13,\" \")","v":1},{"$f":"IF(('ED272 Students YTD by Squadron'!$A13)<>0,'ED272A Classes YTD by Squadron'!E13,\" \")","v":0}]
[{"$f":"IF(('ED272 Students YTD by Squadron'!$A14)<>0,'ED272 Students YTD by Squadron'!A14,\" \")","v":1},{"$f":"IF(('ED272 Students YTD by Squadron'!$A14)<>0,'ED272 Students YTD by Squadron'!B14,\" \")","v":5655},{"$f":"IF(('ED272 Students YTD by Squadron'!$A14)<>0,'ED272 Students YTD by Squadron'!C14,\" \")","v":"Springfield Power Squad  "},{"$f":"IF(('ED272 Students YTD by Squadron'!$A14)<>0,'ED272 Students YTD by Squadron'!D14,\" \")","v":15},{"$f":"IF(('ED272 Students YTD by Squadron'!$A14)<>0,'ED272 Students YTD by Squadron'!E14,\" \")","v":34},{"$f":"IF(('ED272 Students YTD by Squadron'!$A14)<>0,'ED272 Students YTD by Squadron'!F14,\" \")","v":14},{"$f":"IF(('ED272 Students YTD by Squadron'!$A14)<>0,'ED272 Students YTD by Squadron'!G14,\" \")","v":32},{"$f":"IF(('ED272 Students YTD by Squadron'!$A14)<>0,'ED272 Students YTD by Squadron'!H14,\" \")","v":14},{"$f":"IF(('ED272 Students YTD by Squadron'!$A14)<>0,'ED272 Students YTD by Squadron'!I14,\" \")","v":32},{"$f":"IF(('ED272 Students YTD by Squadron'!$A14)<>0,'ED272A Classes YTD by Squadron'!D14,\" \")","v":1},{"$f":"IF(('ED272 Students YTD by Squadron'!$A14)<>0,'ED272A Classes YTD by Squadron'!E14,\" \")","v":3}]
[{"$f":"IF(('ED272 Students YTD by Squadron'!$A15)<>0,'ED272 Students YTD by Squadron'!A15,\" \")","v":1},{"$f":"IF(('ED272 Students YTD by Squadron'!$A15)<>0,'ED272 Students YTD by Squadron'!B15,\" \")","v":6150},{"$f":"IF(('ED272 Students YTD by Squadron'!$A15)<>0,'ED272 Students YTD by Squadron'!C15,\" \")","v":"Waterbury Power Squadron "},{"$f":"IF(('ED272 Students YTD by Squadron'!$A15)<>0,'ED272 Students YTD by Squadron'!D15,\" \")","v":4},{"$f":"IF(('ED272 Students YTD by Squadron'!$A15)<>0,'ED272 Students YTD by Squadron'!E15,\" \")","v":8},{"$f":"IF(('ED272 Students YTD by Squadron'!$A15)<>0,'ED272 Students YTD by Squadron'!F15,\" \")","v":4},{"$f":"IF(('ED272 Students YTD by Squadron'!$A15)<>0,'ED272 Students YTD by Squadron'!G15,\" \")","v":8},{"$f":"IF(('ED272 Students YTD by Squadron'!$A15)<>0,'ED272 Students YTD by Squadron'!H15,\" \")","v":4},{"$f":"IF(('ED272 Students YTD by Squadron'!$A15)<>0,'ED272 Students YTD by Squadron'!I15,\" \")","v":8},{"$f":"IF(('ED272 Students YTD by Squadron'!$A15)<>0,'ED272A Classes YTD by Squadron'!D15,\" \")","v":1},{"$f":"IF(('ED272 Students YTD by Squadron'!$A15)<>0,'ED272A Classes YTD by Squadron'!E15,\" \")","v":2}]
[{"$f":"IF(('ED272 Students YTD by Squadron'!$A16)<>0,'ED272 Students YTD by Squadron'!A16,\" \")","v":1},{"$f":"IF(('ED272 Students YTD by Squadron'!$A16)<>0,'ED272 Students YTD by Squadron'!B16,\" \")","v":6240},{"$f":"IF(('ED272 Students YTD by Squadron'!$A16)<>0,'ED272 Students YTD by Squadron'!C16,\" \")","v":"Westerly Power Squadron  "},{"$f":"IF(('ED272 Students YTD by Squadron'!$A16)<>0,'ED272 Students YTD by Squadron'!D16,\" \")","v":0},{"$f":"IF(('ED272 Students YTD by Squadron'!$A16)<>0,'ED272 Students YTD by Squadron'!E16,\" \")","v":0},{"$f":"IF(('ED272 Students YTD by Squadron'!$A16)<>0,'ED272 Students YTD by Squadron'!F16,\" \")","v":0},{"$f":"IF(('ED272 Students YTD by Squadron'!$A16)<>0,'ED272 Students YTD by Squadron'!G16,\" \")","v":0},{"$f":"IF(('ED272 Students YTD by Squadron'!$A16)<>0,'ED272 Students YTD by Squadron'!H16,\" \")","v":0},{"$f":"IF(('ED272 Students YTD by Squadron'!$A16)<>0,'ED272 Students YTD by Squadron'!I16,\" \")","v":0},{"$f":"IF(('ED272 Students YTD by Squadron'!$A16)<>0,'ED272A Classes YTD by Squadron'!D16,\" \")","v":0},{"$f":"IF(('ED272 Students YTD by Squadron'!$A16)<>0,'ED272A Classes YTD by Squadron'!E16,\" \")","v":0}]
[{"$f":"IF(('ED272 Students YTD by Squadron'!$A17)<>0,'ED272 Students YTD by Squadron'!A17,\" \")","v":2},{"$f":"IF(('ED272 Students YTD by Squadron'!$A17)<>0,'ED272 Students YTD by Squadron'!B17,\" \")","v":480},{"$f":"IF(('ED272 Students YTD by Squadron'!$A17)<>0,'ED272 Students YTD by Squadron'!C17,\" \")","v":"Berkshire Sail & Power Sq"},{"$f":"IF(('ED272 Students YTD by Squadron'!$A17)<>0,'ED272 Students YTD by Squadron'!D17,\" \")","v":6},{"$f":"IF(('ED272 Students YTD by Squadron'!$A17)<>0,'ED272 Students YTD by Squadron'!E17,\" \")","v":13},{"$f":"IF(('ED272 Students YTD by Squadron'!$A17)<>0,'ED272 Students YTD by Squadron'!F17,\" \")","v":4},{"$f":"IF(('ED272 Students YTD by Squadron'!$A17)<>0,'ED272 Students YTD by Squadron'!G17,\" \")","v":11},{"$f":"IF(('ED272 Students YTD by Squadron'!$A17)<>0,'ED272 Students YTD by Squadron'!H17,\" \")","v":4},{"$f":"IF(('ED272 Students YTD by Squadron'!$A17)<>0,'ED272 Students YTD by Squadron'!I17,\" \")","v":11},{"$f":"IF(('ED272 Students YTD by Squadron'!$A17)<>0,'ED272A Classes YTD by Squadron'!D17,\" \")","v":2},{"$f":"IF(('ED272 Students YTD by Squadron'!$A17)<>0,'ED272A Classes YTD by Squadron'!E17,\" \")","v":2}]
[{"$f":"IF(('ED272 Students YTD by Squadron'!$A18)<>0,'ED272 Students YTD by Squadron'!A18,\" \")","v":2},{"$f":"IF(('ED272 Students YTD by Squadron'!$A18)<>0,'ED272 Students YTD by Squadron'!B18,\" \")","v":990},{"$f":"IF(('ED272 Students YTD by Squadron'!$A18)<>0,'ED272 Students YTD by Squadron'!C18,\" \")","v":"Champlain Power Squadron "},{"$f":"IF(('ED272 Students YTD by Squadron'!$A18)<>0,'ED272 Students YTD by Squadron'!D18,\" \")","v":0},{"$f":"IF(('ED272 Students YTD by Squadron'!$A18)<>0,'ED272 Students YTD by Squadron'!E18,\" \")","v":0},{"$f":"IF(('ED272 Students YTD by Squadron'!$A18)<>0,'ED272 Students YTD by Squadron'!F18,\" \")","v":0},{"$f":"IF(('ED272 Students YTD by Squadron'!$A18)<>0,'ED272 Students YTD by Squadron'!G18,\" \")","v":0},{"$f":"IF(('ED272 Students YTD by Squadron'!$A18)<>0,'ED272 Students YTD by Squadron'!H18,\" \")","v":0},{"$f":"IF(('ED272 Students YTD by Squadron'!$A18)<>0,'ED272 Students YTD by Squadron'!I18,\" \")","v":0},{"$f":"IF(('ED272 Students YTD by Squadron'!$A18)<>0,'ED272A Classes YTD by Squadron'!D18,\" \")","v":0},{"$f":"IF(('ED272 Students YTD by Squadron'!$A18)<>0,'ED272A Classes YTD by Squadron'!E18,\" \")","v":0}]
[{"$f":"IF(('ED272 Students YTD by Squadron'!$A19)<>0,'ED272 Students YTD by Squadron'!A19,\" \")","v":2},{"$f":"IF(('ED272 Students YTD by Squadron'!$A19)<>0,'ED272 Students YTD by Squadron'!B19,\" \")","v":1365},{"$f":"IF(('ED272 Students YTD by Squadron'!$A19)<>0,'ED272 Students YTD by Squadron'!C19,\" \")","v":"Darien Sail & Power Squad"},{"$f":"IF(('ED272 Students YTD by Squadron'!$A19)<>0,'ED272 Students YTD by Squadron'!D19,\" \")","v":98},{"$f":"IF(('ED272 Students YTD by Squadron'!$A19)<>0,'ED272 Students YTD by Squadron'!E19,\" \")","v":88},{"$f":"IF(('ED272 Students YTD by Squadron'!$A19)<>0,'ED272 Students YTD by Squadron'!F19,\" \")","v":95},{"$f":"IF(('ED272 Students YTD by Squadron'!$A19)<>0,'ED272 Students YTD by Squadron'!G19,\" \")","v":84},{"$f":"IF(('ED272 Students YTD by Squadron'!$A19)<>0,'ED272 Students YTD by Squadron'!H19,\" \")","v":95},{"$f":"IF(('ED272 Students YTD by Squadron'!$A19)<>0,'ED272 Students YTD by Squadron'!I19,\" \")","v":84},{"$f":"IF(('ED272 Students YTD by Squadron'!$A19)<>0,'ED272A Classes YTD by Squadron'!D19,\" \")","v":2},{"$f":"IF(('ED272 Students YTD by Squadron'!$A19)<>0,'ED272A Classes YTD by Squadron'!E19,\" \")","v":2}]
[{"$f":"IF(('ED272 Students YTD by Squadron'!$A20)<>0,'ED272 Students YTD by Squadron'!A20,\" \")","v":2},{"$f":"IF(('ED272 Students YTD by Squadron'!$A20)<>0,'ED272 Students YTD by Squadron'!B20,\" \")","v":875},{"$f":"IF(('ED272 Students YTD by Squadron'!$A20)<>0,'ED272 Students YTD by Squadron'!C20,\" \")","v":"Greenwich Sail & Power Sq"},{"$f":"IF(('ED272 Students YTD by Squadron'!$A20)<>0,'ED272 Students YTD by Squadron'!D20,\" \")","v":97},{"$f":"IF(('ED272 Students YTD by Squadron'!$A20)<>0,'ED272 Students YTD by Squadron'!E20,\" \")","v":84},{"$f":"IF(('ED272 Students YTD by Squadron'!$A20)<>0,'ED272 Students YTD by Squadron'!F20,\" \")","v":90},{"$f":"IF(('ED272 Students YTD by Squadron'!$A20)<>0,'ED272 Students YTD by Squadron'!G20,\" \")","v":83},{"$f":"IF(('ED272 Students YTD by Squadron'!$A20)<>0,'ED272 Students YTD by Squadron'!H20,\" \")","v":90},{"$f":"IF(('ED272 Students YTD by Squadron'!$A20)<>0,'ED272 Students YTD by Squadron'!I20,\" \")","v":83},{"$f":"IF(('ED272 Students YTD by Squadron'!$A20)<>0,'ED272A Classes YTD by Squadron'!D20,\" \")","v":5},{"$f":"IF(('ED272 Students YTD by Squadron'!$A20)<>0,'ED272A Classes YTD by Squadron'!E20,\" \")","v":2}]
[{"$f":"IF(('ED272 Students YTD by Squadron'!$A21)<>0,'ED272 Students YTD by Squadron'!A21,\" \")","v":2},{"$f":"IF(('ED272 Students YTD by Squadron'!$A21)<>0,'ED272 Students YTD by Squadron'!B21,\" \")","v":2730},{"$f":"IF(('ED272 Students YTD by Squadron'!$A21)<>0,'ED272 Students YTD by Squadron'!C21,\" \")","v":"Lake Candlewood Power Sqd"},{"$f":"IF(('ED272 Students YTD by Squadron'!$A21)<>0,'ED272 Students YTD by Squadron'!D21,\" \")","v":15},{"$f":"IF(('ED272 Students YTD by Squadron'!$A21)<>0,'ED272 Students YTD by Squadron'!E21,\" \")","v":14},{"$f":"IF(('ED272 Students YTD by Squadron'!$A21)<>0,'ED272 Students YTD by Squadron'!F21,\" \")","v":13},{"$f":"IF(('ED272 Students YTD by Squadron'!$A21)<>0,'ED272 Students YTD by Squadron'!G21,\" \")","v":14},{"$f":"IF(('ED272 Students YTD by Squadron'!$A21)<>0,'ED272 Students YTD by Squadron'!H21,\" \")","v":13},{"$f":"IF(('ED272 Students YTD by Squadron'!$A21)<>0,'ED272 Students YTD by Squadron'!I21,\" \")","v":14},{"$f":"IF(('ED272 Students YTD by Squadron'!$A21)<>0,'ED272A Classes YTD by Squadron'!D21,\" \")","v":3},{"$f":"IF(('ED272 Students YTD by Squadron'!$A21)<>0,'ED272A Classes YTD by Squadron'!E21,\" \")","v":1}]
[{"$f":"IF(('ED272 Students YTD by Squadron'!$A22)<>0,'ED272 Students YTD by Squadron'!A22,\" \")","v":2},{"$f":"IF(('ED272 Students YTD by Squadron'!$A22)<>0,'ED272 Students YTD by Squadron'!B22,\" \")","v":2760},{"$f":"IF(('ED272 Students YTD by Squadron'!$A22)<>0,'ED272 Students YTD by Squadron'!C22,\" \")","v":"Lake George Power Squad  "},{"$f":"IF(('ED272 Students YTD by Squadron'!$A22)<>0,'ED272 Students YTD by Squadron'!D22,\" \")","v":0},{"$f":"IF(('ED272 Students YTD by Squadron'!$A22)<>0,'ED272 Students YTD by Squadron'!E22,\" \")","v":0},{"$f":"IF(('ED272 Students YTD by Squadron'!$A22)<>0,'ED272 Students YTD by Squadron'!F22,\" \")","v":0},{"$f":"IF(('ED272 Students YTD by Squadron'!$A22)<>0,'ED272 Students YTD by Squadron'!G22,\" \")","v":0},{"$f":"IF(('ED272 Students YTD by Squadron'!$A22)<>0,'ED272 Students YTD by Squadron'!H22,\" \")","v":0},{"$f":"IF(('ED272 Students YTD by Squadron'!$A22)<>0,'ED272 Students YTD by Squadron'!I22,\" \")","v":0},{"$f":"IF(('ED272 Students YTD by Squadron'!$A22)<>0,'ED272A Classes YTD by Squadron'!D22,\" \")","v":0},{"$f":"IF(('ED272 Students YTD by Squadron'!$A22)<>0,'ED272A Classes YTD by Squadron'!E22,\" \")","v":0}]
[{"$f":"IF(('ED272 Students YTD by Squadron'!$A23)<>0,'ED272 Students YTD by Squadron'!A23,\" \")","v":2},{"$f":"IF(('ED272 Students YTD by Squadron'!$A23)<>0,'ED272 Students YTD by Squadron'!B23,\" \")","v":3315},{"$f":"IF(('ED272 Students YTD by Squadron'!$A23)<>0,'ED272 Students YTD by Squadron'!C23,\" \")","v":"Mid-Hudson Power Squadron"},{"$f":"IF(('ED272 Students YTD by Squadron'!$A23)<>0,'ED272 Students YTD by Squadron'!D23,\" \")","v":7},{"$f":"IF(('ED272 Students YTD by Squadron'!$A23)<>0,'ED272 Students YTD by Squadron'!E23,\" \")","v":6},{"$f":"IF(('ED272 Students YTD by Squadron'!$A23)<>0,'ED272 Students YTD by Squadron'!F23,\" \")","v":4},{"$f":"IF(('ED272 Students YTD by Squadron'!$A23)<>0,'ED272 Students YTD by Squadron'!G23,\" \")","v":6},{"$f":"IF(('ED272 Students YTD by Squadron'!$A23)<>0,'ED272 Students YTD by Squadron'!H23,\" \")","v":4},{"$f":"IF(('ED272 Students YTD by Squadron'!$A23)<>0,'ED272 Students YTD by Squadron'!I23,\" \")","v":6},{"$f":"IF(('ED272 Students YTD by Squadron'!$A23)<>0,'ED272A Classes YTD by Squadron'!D23,\" \")","v":1},{"$f":"IF(('ED272 Students YTD by Squadron'!$A23)<>0,'ED272A Classes YTD by Squadron'!E23,\" \")","v":1}]
[{"$f":"IF(('ED272 Students YTD by Squadron'!$A24)<>0,'ED272 Students YTD by Squadron'!A24,\" \")","v":2},{"$f":"IF(('ED272 Students YTD by Squadron'!$A24)<>0,'ED272 Students YTD by Squadron'!B24,\" \")","v":3480},{"$f":"IF(('ED272 Students YTD by Squadron'!$A24)<>0,'ED272 Students YTD by Squadron'!C24,\" \")","v":"Mohawk Hudson Sail &     "},{"$f":"IF(('ED272 Students YTD by Squadron'!$A24)<>0,'ED272 Students YTD by Squadron'!D24,\" \")","v":16},{"$f":"IF(('ED272 Students YTD by Squadron'!$A24)<>0,'ED272 Students YTD by Squadron'!E24,\" \")","v":4},{"$f":"IF(('ED272 Students YTD by Squadron'!$A24)<>0,'ED272 Students YTD by Squadron'!F24,\" \")","v":16},{"$f":"IF(('ED272 Students YTD by Squadron'!$A24)<>0,'ED272 Students YTD by Squadron'!G24,\" \")","v":4},{"$f":"IF(('ED272 Students YTD by Squadron'!$A24)<>0,'ED272 Students YTD by Squadron'!H24,\" \")","v":16},{"$f":"IF(('ED272 Students YTD by Squadron'!$A24)<>0,'ED272 Students YTD by Squadron'!I24,\" \")","v":4},{"$f":"IF(('ED272 Students YTD by Squadron'!$A24)<>0,'ED272A Classes YTD by Squadron'!D24,\" \")","v":1},{"$f":"IF(('ED272 Students YTD by Squadron'!$A24)<>0,'ED272A Classes YTD by Squadron'!E24,\" \")","v":1}]
[{"$f":"IF(('ED272 Students YTD by Squadron'!$A25)<>0,'ED272 Students YTD by Squadron'!A25,\" \")","v":2},{"$f":"IF(('ED272 Students YTD by Squadron'!$A25)<>0,'ED272 Students YTD by Squadron'!B25,\" \")","v":3900},{"$f":"IF(('ED272 Students YTD by Squadron'!$A25)<>0,'ED272 Students YTD by Squadron'!C25,\" \")","v":"Norwalk Sail & Power Sqd "},{"$f":"IF(('ED272 Students YTD by Squadron'!$A25)<>0,'ED272 Students YTD by Squadron'!D25,\" \")","v":7},{"$f":"IF(('ED272 Students YTD by Squadron'!$A25)<>0,'ED272 Students YTD by Squadron'!E25,\" \")","v":55},{"$f":"IF(('ED272 Students YTD by Squadron'!$A25)<>0,'ED272 Students YTD by Squadron'!F25,\" \")","v":4},{"$f":"IF(('ED272 Students YTD by Squadron'!$A25)<>0,'ED272 Students YTD by Squadron'!G25,\" \")","v":52},{"$f":"IF(('ED272 Students YTD by Squadron'!$A25)<>0,'ED272 Students YTD by Squadron'!H25,\" \")","v":4},{"$f":"IF(('ED272 Students YTD by Squadron'!$A25)<>0,'ED272 Students YTD by Squadron'!I25,\" \")","v":52},{"$f":"IF(('ED272 Students YTD by Squadron'!$A25)<>0,'ED272A Classes YTD by Squadron'!D25,\" \")","v":2},{"$f":"IF(('ED272 Students YTD by Squadron'!$A25)<>0,'ED272A Classes YTD by Squadron'!E25,\" \")","v":4}]
[{"$f":"IF(('ED272 Students YTD by Squadron'!$A26)<>0,'ED272 Students YTD by Squadron'!A26,\" \")","v":2},{"$f":"IF(('ED272 Students YTD by Squadron'!$A26)<>0,'ED272 Students YTD by Squadron'!B26,\" \")","v":4290},{"$f":"IF(('ED272 Students YTD by Squadron'!$A26)<>0,'ED272 Students YTD by Squadron'!C26,\" \")","v":"Penfield Sail & Power Sqd"},{"$f":"IF(('ED272 Students YTD by Squadron'!$A26)<>0,'ED272 Students YTD by Squadron'!D26,\" \")","v":15},{"$f":"IF(('ED272 Students YTD by Squadron'!$A26)<>0,'ED272 Students YTD by Squadron'!E26,\" \")","v":0},{"$f":"IF(('ED272 Students YTD by Squadron'!$A26)<>0,'ED272 Students YTD by Squadron'!F26,\" \")","v":12},{"$f":"IF(('ED272 Students YTD by Squadron'!$A26)<>0,'ED272 Students YTD by Squadron'!G26,\" \")","v":0},{"$f":"IF(('ED272 Students YTD by Squadron'!$A26)<>0,'ED272 Students YTD by Squadron'!H26,\" \")","v":12},{"$f":"IF(('ED272 Students YTD by Squadron'!$A26)<>0,'ED272 Students YTD by Squadron'!I26,\" \")","v":0},{"$f":"IF(('ED272 Students YTD by Squadron'!$A26)<>0,'ED272A Classes YTD by Squadron'!D26,\" \")","v":1},{"$f":"IF(('ED272 Students YTD by Squadron'!$A26)<>0,'ED272A Classes YTD by Squadron'!E26,\" \")","v":0}]
[{"$f":"IF(('ED272 Students YTD by Squadron'!$A27)<>0,'ED272 Students YTD by Squadron'!A27,\" \")","v":2},{"$f":"IF(('ED272 Students YTD by Squadron'!$A27)<>0,'ED272 Students YTD by Squadron'!B27,\" \")","v":4875},{"$f":"IF(('ED272 Students YTD by Squadron'!$A27)<>0,'ED272 Students YTD by Squadron'!C27,\" \")","v":"Sacandaga Power Squadron "},{"$f":"IF(('ED272 Students YTD by Squadron'!$A27)<>0,'ED272 Students YTD by Squadron'!D27,\" \")","v":33},{"$f":"IF(('ED272 Students YTD by Squadron'!$A27)<>0,'ED272 Students YTD by Squadron'!E27,\" \")","v":2},{"$f":"IF(('ED272 Students YTD by Squadron'!$A27)<>0,'ED272 Students YTD by Squadron'!F27,\" \")","v":32},{"$f":"IF(('ED272 Students YTD by Squadron'!$A27)<>0,'ED272 Students YTD by Squadron'!G27,\" \")","v":2},{"$f":"IF(('ED272 Students YTD by Squadron'!$A27)<>0,'ED272 Students YTD by Squadron'!H27,\" \")","v":32},{"$f":"IF(('ED272 Students YTD by Squadron'!$A27)<>0,'ED272 Students YTD by Squadron'!I27,\" \")","v":2},{"$f":"IF(('ED272 Students YTD by Squadron'!$A27)<>0,'ED272A Classes YTD by Squadron'!D27,\" \")","v":5},{"$f":"IF(('ED272 Students YTD by Squadron'!$A27)<>0,'ED272A Classes YTD by Squadron'!E27,\" \")","v":1}]
[{"$f":"IF(('ED272 Students YTD by Squadron'!$A28)<>0,'ED272 Students YTD by Squadron'!A28,\" \")","v":2},{"$f":"IF(('ED272 Students YTD by Squadron'!$A28)<>0,'ED272 Students YTD by Squadron'!B28,\" \")","v":5310},{"$f":"IF(('ED272 Students YTD by Squadron'!$A28)<>0,'ED272 Students YTD by Squadron'!C28,\" \")","v":"Saugatuck River Sail &   "},{"$f":"IF(('ED272 Students YTD by Squadron'!$A28)<>0,'ED272 Students YTD by Squadron'!D28,\" \")","v":8},{"$f":"IF(('ED272 Students YTD by Squadron'!$A28)<>0,'ED272 Students YTD by Squadron'!E28,\" \")","v":7},{"$f":"IF(('ED272 Students YTD by Squadron'!$A28)<>0,'ED272 Students YTD by Squadron'!F28,\" \")","v":8},{"$f":"IF(('ED272 Students YTD by Squadron'!$A28)<>0,'ED272 Students YTD by Squadron'!G28,\" \")","v":7},{"$f":"IF(('ED272 Students YTD by Squadron'!$A28)<>0,'ED272 Students YTD by Squadron'!H28,\" \")","v":8},{"$f":"IF(('ED272 Students YTD by Squadron'!$A28)<>0,'ED272 Students YTD by Squadron'!I28,\" \")","v":7},{"$f":"IF(('ED272 Students YTD by Squadron'!$A28)<>0,'ED272A Classes YTD by Squadron'!D28,\" \")","v":2},{"$f":"IF(('ED272 Students YTD by Squadron'!$A28)<>0,'ED272A Classes YTD by Squadron'!E28,\" \")","v":2}]
[{"$f":"IF(('ED272 Students YTD by Squadron'!$A29)<>0,'ED272 Students YTD by Squadron'!A29,\" \")","v":2},{"$f":"IF(('ED272 Students YTD by Squadron'!$A29)<>0,'ED272 Students YTD by Squadron'!B29,\" \")","v":5670},{"$f":"IF(('ED272 Students YTD by Squadron'!$A29)<>0,'ED272 Students YTD by Squadron'!C29,\" \")","v":"Stamford Sail & Power Sqd"},{"$f":"IF(('ED272 Students YTD by Squadron'!$A29)<>0,'ED272 Students YTD by Squadron'!D29,\" \")","v":24},{"$f":"IF(('ED272 Students YTD by Squadron'!$A29)<>0,'ED272 Students YTD by Squadron'!E29,\" \")","v":15},{"$f":"IF(('ED272 Students YTD by Squadron'!$A29)<>0,'ED272 Students YTD by Squadron'!F29,\" \")","v":14},{"$f":"IF(('ED272 Students YTD by Squadron'!$A29)<>0,'ED272 Students YTD by Squadron'!G29,\" \")","v":6},{"$f":"IF(('ED272 Students YTD by Squadron'!$A29)<>0,'ED272 Students YTD by Squadron'!H29,\" \")","v":14},{"$f":"IF(('ED272 Students YTD by Squadron'!$A29)<>0,'ED272 Students YTD by Squadron'!I29,\" \")","v":6},{"$f":"IF(('ED272 Students YTD by Squadron'!$A29)<>0,'ED272A Classes YTD by Squadron'!D29,\" \")","v":3},{"$f":"IF(('ED272 Students YTD by Squadron'!$A29)<>0,'ED272A Classes YTD by Squadron'!E29,\" \")","v":2}]
[{"$f":"IF(('ED272 Students YTD by Squadron'!$A30)<>0,'ED272 Students YTD by Squadron'!A30,\" \")","v":2},{"$f":"IF(('ED272 Students YTD by Squadron'!$A30)<>0,'ED272 Students YTD by Squadron'!B30,\" \")","v":5710},{"$f":"IF(('ED272 Students YTD by Squadron'!$A30)<>0,'ED272 Students YTD by Squadron'!C30,\" \")","v":"Storm King Power Squadron"},{"$f":"IF(('ED272 Students YTD by Squadron'!$A30)<>0,'ED272 Students YTD by Squadron'!D30,\" \")","v":25},{"$f":"IF(('ED272 Students YTD by Squadron'!$A30)<>0,'ED272 Students YTD by Squadron'!E30,\" \")","v":10},{"$f":"IF(('ED272 Students YTD by Squadron'!$A30)<>0,'ED272 Students YTD by Squadron'!F30,\" \")","v":25},{"$f":"IF(('ED272 Students YTD by Squadron'!$A30)<>0,'ED272 Students YTD by Squadron'!G30,\" \")","v":10},{"$f":"IF(('ED272 Students YTD by Squadron'!$A30)<>0,'ED272 Students YTD by Squadron'!H30,\" \")","v":25},{"$f":"IF(('ED272 Students YTD by Squadron'!$A30)<>0,'ED272 Students YTD by Squadron'!I30,\" \")","v":10},{"$f":"IF(('ED272 Students YTD by Squadron'!$A30)<>0,'ED272A Classes YTD by Squadron'!D30,\" \")","v":1},{"$f":"IF(('ED272 Students YTD by Squadron'!$A30)<>0,'ED272A Classes YTD by Squadron'!E30,\" \")","v":1}]
[{"$f":"IF(('ED272 Students YTD by Squadron'!$A31)<>0,'ED272 Students YTD by Squadron'!A31,\" \")","v":2},{"$f":"IF(('ED272 Students YTD by Squadron'!$A31)<>0,'ED272 Students YTD by Squadron'!B31,\" \")","v":6225},{"$f":"IF(('ED272 Students YTD by Squadron'!$A31)<>0,'ED272 Students YTD by Squadron'!C31,\" \")","v":"Westchester Power Squad  "},{"$f":"IF(('ED272 Students YTD by Squadron'!$A31)<>0,'ED272 Students YTD by Squadron'!D31,\" \")","v":15},{"$f":"IF(('ED272 Students YTD by Squadron'!$A31)<>0,'ED272 Students YTD by Squadron'!E31,\" \")","v":13},{"$f":"IF(('ED272 Students YTD by Squadron'!$A31)<>0,'ED272 Students YTD by Squadron'!F31,\" \")","v":10},{"$f":"IF(('ED272 Students YTD by Squadron'!$A31)<>0,'ED272 Students YTD by Squadron'!G31,\" \")","v":11},{"$f":"IF(('ED272 Students YTD by Squadron'!$A31)<>0,'ED272 Students YTD by Squadron'!H31,\" \")","v":10},{"$f":"IF(('ED272 Students YTD by Squadron'!$A31)<>0,'ED272 Students YTD by Squadron'!I31,\" \")","v":11},{"$f":"IF(('ED272 Students YTD by Squadron'!$A31)<>0,'ED272A Classes YTD by Squadron'!D31,\" \")","v":3},{"$f":"IF(('ED272 Students YTD by Squadron'!$A31)<>0,'ED272A Classes YTD by Squadron'!E31,\" \")","v":3}]
[{"$f":"IF(('ED272 Students YTD by Squadron'!$A32)<>0,'ED272 Students YTD by Squadron'!A32,\" \")","v":3},{"$f":"IF(('ED272 Students YTD by Squadron'!$A32)<>0,'ED272 Students YTD by Squadron'!B32,\" \")","v":390},{"$f":"IF(('ED272 Students YTD by Squadron'!$A32)<>0,'ED272 Students YTD by Squadron'!C32,\" \")","v":"Bayside Power Squadron   "},{"$f":"IF(('ED272 Students YTD by Squadron'!$A32)<>0,'ED272 Students YTD by Squadron'!D32,\" \")","v":13},{"$f":"IF(('ED272 Students YTD by Squadron'!$A32)<>0,'ED272 Students YTD by Squadron'!E32,\" \")","v":3},{"$f":"IF(('ED272 Students YTD by Squadron'!$A32)<>0,'ED272 Students YTD by Squadron'!F32,\" \")","v":7},{"$f":"IF(('ED272 Students YTD by Squadron'!$A32)<>0,'ED272 Students YTD by Squadron'!G32,\" \")","v":2},{"$f":"IF(('ED272 Students YTD by Squadron'!$A32)<>0,'ED272 Students YTD by Squadron'!H32,\" \")","v":7},{"$f":"IF(('ED272 Students YTD by Squadron'!$A32)<>0,'ED272 Students YTD by Squadron'!I32,\" \")","v":2},{"$f":"IF(('ED272 Students YTD by Squadron'!$A32)<>0,'ED272A Classes YTD by Squadron'!D32,\" \")","v":3},{"$f":"IF(('ED272 Students YTD by Squadron'!$A32)<>0,'ED272A Classes YTD by Squadron'!E32,\" \")","v":3}]
[{"$f":"IF(('ED272 Students YTD by Squadron'!$A33)<>0,'ED272 Students YTD by Squadron'!A33,\" \")","v":3},{"$f":"IF(('ED272 Students YTD by Squadron'!$A33)<>0,'ED272 Students YTD by Squadron'!B33,\" \")","v":690},{"$f":"IF(('ED272 Students YTD by Squadron'!$A33)<>0,'ED272 Students YTD by Squadron'!C33,\" \")","v":"Brooklyn Power Squadron  "},{"$f":"IF(('ED272 Students YTD by Squadron'!$A33)<>0,'ED272 Students YTD by Squadron'!D33,\" \")","v":0},{"$f":"IF(('ED272 Students YTD by Squadron'!$A33)<>0,'ED272 Students YTD by Squadron'!E33,\" \")","v":0},{"$f":"IF(('ED272 Students YTD by Squadron'!$A33)<>0,'ED272 Students YTD by Squadron'!F33,\" \")","v":0},{"$f":"IF(('ED272 Students YTD by Squadron'!$A33)<>0,'ED272 Students YTD by Squadron'!G33,\" \")","v":0},{"$f":"IF(('ED272 Students YTD by Squadron'!$A33)<>0,'ED272 Students YTD by Squadron'!H33,\" \")","v":0},{"$f":"IF(('ED272 Students YTD by Squadron'!$A33)<>0,'ED272 Students YTD by Squadron'!I33,\" \")","v":0},{"$f":"IF(('ED272 Students YTD by Squadron'!$A33)<>0,'ED272A Classes YTD by Squadron'!D33,\" \")","v":0},{"$f":"IF(('ED272 Students YTD by Squadron'!$A33)<>0,'ED272A Classes YTD by Squadron'!E33,\" \")","v":0}]
[{"$f":"IF(('ED272 Students YTD by Squadron'!$A34)<>0,'ED272 Students YTD by Squadron'!A34,\" \")","v":3},{"$f":"IF(('ED272 Students YTD by Squadron'!$A34)<>0,'ED272 Students YTD by Squadron'!B34,\" \")","v":885},{"$f":"IF(('ED272 Students YTD by Squadron'!$A34)<>0,'ED272 Students YTD by Squadron'!C34,\" \")","v":"Captree Power Squadron   "},{"$f":"IF(('ED272 Students YTD by Squadron'!$A34)<>0,'ED272 Students YTD by Squadron'!D34,\" \")","v":27},{"$f":"IF(('ED272 Students YTD by Squadron'!$A34)<>0,'ED272 Students YTD by Squadron'!E34,\" \")","v":21},{"$f":"IF(('ED272 Students YTD by Squadron'!$A34)<>0,'ED272 Students YTD by Squadron'!F34,\" \")","v":26},{"$f":"IF(('ED272 Students YTD by Squadron'!$A34)<>0,'ED272 Students YTD by Squadron'!G34,\" \")","v":20},{"$f":"IF(('ED272 Students YTD by Squadron'!$A34)<>0,'ED272 Students YTD by Squadron'!H34,\" \")","v":26},{"$f":"IF(('ED272 Students YTD by Squadron'!$A34)<>0,'ED272 Students YTD by Squadron'!I34,\" \")","v":20},{"$f":"IF(('ED272 Students YTD by Squadron'!$A34)<>0,'ED272A Classes YTD by Squadron'!D34,\" \")","v":6},{"$f":"IF(('ED272 Students YTD by Squadron'!$A34)<>0,'ED272A Classes YTD by Squadron'!E34,\" \")","v":3}]
[{"$f":"IF(('ED272 Students YTD by Squadron'!$A35)<>0,'ED272 Students YTD by Squadron'!A35,\" \")","v":3},{"$f":"IF(('ED272 Students YTD by Squadron'!$A35)<>0,'ED272 Students YTD by Squadron'!B35,\" \")","v":2070},{"$f":"IF(('ED272 Students YTD by Squadron'!$A35)<>0,'ED272 Students YTD by Squadron'!C35,\" \")","v":"Great South Bay Sail &   "},{"$f":"IF(('ED272 Students YTD by Squadron'!$A35)<>0,'ED272 Students YTD by Squadron'!D35,\" \")","v":55},{"$f":"IF(('ED272 Students YTD by Squadron'!$A35)<>0,'ED272 Students YTD by Squadron'!E35,\" \")","v":24},{"$f":"IF(('ED272 Students YTD by Squadron'!$A35)<>0,'ED272 Students YTD by Squadron'!F35,\" \")","v":54},{"$f":"IF(('ED272 Students YTD by Squadron'!$A35)<>0,'ED272 Students YTD by Squadron'!G35,\" \")","v":22},{"$f":"IF(('ED272 Students YTD by Squadron'!$A35)<>0,'ED272 Students YTD by Squadron'!H35,\" \")","v":54},{"$f":"IF(('ED272 Students YTD by Squadron'!$A35)<>0,'ED272 Students YTD by Squadron'!I35,\" \")","v":22},{"$f":"IF(('ED272 Students YTD by Squadron'!$A35)<>0,'ED272A Classes YTD by Squadron'!D35,\" \")","v":3},{"$f":"IF(('ED272 Students YTD by Squadron'!$A35)<>0,'ED272A Classes YTD by Squadron'!E35,\" \")","v":3}]
[{"$f":"IF(('ED272 Students YTD by Squadron'!$A36)<>0,'ED272 Students YTD by Squadron'!A36,\" \")","v":3},{"$f":"IF(('ED272 Students YTD by Squadron'!$A36)<>0,'ED272 Students YTD by Squadron'!B36,\" \")","v":2265},{"$f":"IF(('ED272 Students YTD by Squadron'!$A36)<>0,'ED272 Students YTD by Squadron'!C36,\" \")","v":"Hempstead Bay Power Squad"},{"$f":"IF(('ED272 Students YTD by Squadron'!$A36)<>0,'ED272 Students YTD by Squadron'!D36,\" \")","v":78},{"$f":"IF(('ED272 Students YTD by Squadron'!$A36)<>0,'ED272 Students YTD by Squadron'!E36,\" \")","v":44},{"$f":"IF(('ED272 Students YTD by Squadron'!$A36)<>0,'ED272 Students YTD by Squadron'!F36,\" \")","v":69},{"$f":"IF(('ED272 Students YTD by Squadron'!$A36)<>0,'ED272 Students YTD by Squadron'!G36,\" \")","v":30},{"$f":"IF(('ED272 Students YTD by Squadron'!$A36)<>0,'ED272 Students YTD by Squadron'!H36,\" \")","v":69},{"$f":"IF(('ED272 Students YTD by Squadron'!$A36)<>0,'ED272 Students YTD by Squadron'!I36,\" \")","v":30},{"$f":"IF(('ED272 Students YTD by Squadron'!$A36)<>0,'ED272A Classes YTD by Squadron'!D36,\" \")","v":10},{"$f":"IF(('ED272 Students YTD by Squadron'!$A36)<>0,'ED272A Classes YTD by Squadron'!E36,\" \")","v":4}]
[{"$f":"IF(('ED272 Students YTD by Squadron'!$A37)<>0,'ED272 Students YTD by Squadron'!A37,\" \")","v":3},{"$f":"IF(('ED272 Students YTD by Squadron'!$A37)<>0,'ED272 Students YTD by Squadron'!B37,\" \")","v":2520},{"$f":"IF(('ED272 Students YTD by Squadron'!$A37)<>0,'ED272 Students YTD by Squadron'!C37,\" \")","v":"Jones Beach Power Squad  "},{"$f":"IF(('ED272 Students YTD by Squadron'!$A37)<>0,'ED272 Students YTD by Squadron'!D37,\" \")","v":14},{"$f":"IF(('ED272 Students YTD by Squadron'!$A37)<>0,'ED272 Students YTD by Squadron'!E37,\" \")","v":22},{"$f":"IF(('ED272 Students YTD by Squadron'!$A37)<>0,'ED272 Students YTD by Squadron'!F37,\" \")","v":11},{"$f":"IF(('ED272 Students YTD by Squadron'!$A37)<>0,'ED272 Students YTD by Squadron'!G37,\" \")","v":22},{"$f":"IF(('ED272 Students YTD by Squadron'!$A37)<>0,'ED272 Students YTD by Squadron'!H37,\" \")","v":11},{"$f":"IF(('ED272 Students YTD by Squadron'!$A37)<>0,'ED272 Students YTD by Squadron'!I37,\" \")","v":22},{"$f":"IF(('ED272 Students YTD by Squadron'!$A37)<>0,'ED272A Classes YTD by Squadron'!D37,\" \")","v":1},{"$f":"IF(('ED272 Students YTD by Squadron'!$A37)<>0,'ED272A Classes YTD by Squadron'!E37,\" \")","v":2}]
[{"$f":"IF(('ED272 Students YTD by Squadron'!$A38)<>0,'ED272 Students YTD by Squadron'!A38,\" \")","v":3},{"$f":"IF(('ED272 Students YTD by Squadron'!$A38)<>0,'ED272 Students YTD by Squadron'!B38,\" \")","v":3510},{"$f":"IF(('ED272 Students YTD by Squadron'!$A38)<>0,'ED272 Students YTD by Squadron'!C38,\" \")","v":"Moriches Bay Power Squad "},{"$f":"IF(('ED272 Students YTD by Squadron'!$A38)<>0,'ED272 Students YTD by Squadron'!D38,\" \")","v":25},{"$f":"IF(('ED272 Students YTD by Squadron'!$A38)<>0,'ED272 Students YTD by Squadron'!E38,\" \")","v":57},{"$f":"IF(('ED272 Students YTD by Squadron'!$A38)<>0,'ED272 Students YTD by Squadron'!F38,\" \")","v":24},{"$f":"IF(('ED272 Students YTD by Squadron'!$A38)<>0,'ED272 Students YTD by Squadron'!G38,\" \")","v":57},{"$f":"IF(('ED272 Students YTD by Squadron'!$A38)<>0,'ED272 Students YTD by Squadron'!H38,\" \")","v":24},{"$f":"IF(('ED272 Students YTD by Squadron'!$A38)<>0,'ED272 Students YTD by Squadron'!I38,\" \")","v":57},{"$f":"IF(('ED272 Students YTD by Squadron'!$A38)<>0,'ED272A Classes YTD by Squadron'!D38,\" \")","v":2},{"$f":"IF(('ED272 Students YTD by Squadron'!$A38)<>0,'ED272A Classes YTD by Squadron'!E38,\" \")","v":3}]
[{"$f":"IF(('ED272 Students YTD by Squadron'!$A39)<>0,'ED272 Students YTD by Squadron'!A39,\" \")","v":3},{"$f":"IF(('ED272 Students YTD by Squadron'!$A39)<>0,'ED272 Students YTD by Squadron'!B39,\" \")","v":3645},{"$f":"IF(('ED272 Students YTD by Squadron'!$A39)<>0,'ED272 Students YTD by Squadron'!C39,\" \")","v":"Neptune Power Squadron   "},{"$f":"IF(('ED272 Students YTD by Squadron'!$A39)<>0,'ED272 Students YTD by Squadron'!D39,\" \")","v":2},{"$f":"IF(('ED272 Students YTD by Squadron'!$A39)<>0,'ED272 Students YTD by Squadron'!E39,\" \")","v":10},{"$f":"IF(('ED272 Students YTD by Squadron'!$A39)<>0,'ED272 Students YTD by Squadron'!F39,\" \")","v":2},{"$f":"IF(('ED272 Students YTD by Squadron'!$A39)<>0,'ED272 Students YTD by Squadron'!G39,\" \")","v":10},{"$f":"IF(('ED272 Students YTD by Squadron'!$A39)<>0,'ED272 Students YTD by Squadron'!H39,\" \")","v":2},{"$f":"IF(('ED272 Students YTD by Squadron'!$A39)<>0,'ED272 Students YTD by Squadron'!I39,\" \")","v":10},{"$f":"IF(('ED272 Students YTD by Squadron'!$A39)<>0,'ED272A Classes YTD by Squadron'!D39,\" \")","v":1},{"$f":"IF(('ED272 Students YTD by Squadron'!$A39)<>0,'ED272A Classes YTD by Squadron'!E39,\" \")","v":3}]
[{"$f":"IF(('ED272 Students YTD by Squadron'!$A40)<>0,'ED272 Students YTD by Squadron'!A40,\" \")","v":3},{"$f":"IF(('ED272 Students YTD by Squadron'!$A40)<>0,'ED272 Students YTD by Squadron'!B40,\" \")","v":4035},{"$f":"IF(('ED272 Students YTD by Squadron'!$A40)<>0,'ED272 Students YTD by Squadron'!C40,\" \")","v":"Old Field Point Power Sqd"},{"$f":"IF(('ED272 Students YTD by Squadron'!$A40)<>0,'ED272 Students YTD by Squadron'!D40,\" \")","v":0},{"$f":"IF(('ED272 Students YTD by Squadron'!$A40)<>0,'ED272 Students YTD by Squadron'!E40,\" \")","v":0},{"$f":"IF(('ED272 Students YTD by Squadron'!$A40)<>0,'ED272 Students YTD by Squadron'!F40,\" \")","v":0},{"$f":"IF(('ED272 Students YTD by Squadron'!$A40)<>0,'ED272 Students YTD by Squadron'!G40,\" \")","v":0},{"$f":"IF(('ED272 Students YTD by Squadron'!$A40)<>0,'ED272 Students YTD by Squadron'!H40,\" \")","v":0},{"$f":"IF(('ED272 Students YTD by Squadron'!$A40)<>0,'ED272 Students YTD by Squadron'!I40,\" \")","v":0},{"$f":"IF(('ED272 Students YTD by Squadron'!$A40)<>0,'ED272A Classes YTD by Squadron'!D40,\" \")","v":0},{"$f":"IF(('ED272 Students YTD by Squadron'!$A40)<>0,'ED272A Classes YTD by Squadron'!E40,\" \")","v":0}]
[{"$f":"IF(('ED272 Students YTD by Squadron'!$A41)<>0,'ED272 Students YTD by Squadron'!A41,\" \")","v":3},{"$f":"IF(('ED272 Students YTD by Squadron'!$A41)<>0,'ED272 Students YTD by Squadron'!B41,\" \")","v":4125},{"$f":"IF(('ED272 Students YTD by Squadron'!$A41)<>0,'ED272 Students YTD by Squadron'!C41,\" \")","v":"Oyster Bay Power Squadron"},{"$f":"IF(('ED272 Students YTD by Squadron'!$A41)<>0,'ED272 Students YTD by Squadron'!D41,\" \")","v":25},{"$f":"IF(('ED272 Students YTD by Squadron'!$A41)<>0,'ED272 Students YTD by Squadron'!E41,\" \")","v":35},{"$f":"IF(('ED272 Students YTD by Squadron'!$A41)<>0,'ED272 Students YTD by Squadron'!F41,\" \")","v":25},{"$f":"IF(('ED272 Students YTD by Squadron'!$A41)<>0,'ED272 Students YTD by Squadron'!G41,\" \")","v":33},{"$f":"IF(('ED272 Students YTD by Squadron'!$A41)<>0,'ED272 Students YTD by Squadron'!H41,\" \")","v":25},{"$f":"IF(('ED272 Students YTD by Squadron'!$A41)<>0,'ED272 Students YTD by Squadron'!I41,\" \")","v":33},{"$f":"IF(('ED272 Students YTD by Squadron'!$A41)<>0,'ED272A Classes YTD by Squadron'!D41,\" \")","v":5},{"$f":"IF(('ED272 Students YTD by Squadron'!$A41)<>0,'ED272A Classes YTD by Squadron'!E41,\" \")","v":6}]
[{"$f":"IF(('ED272 Students YTD by Squadron'!$A42)<>0,'ED272 Students YTD by Squadron'!A42,\" \")","v":3},{"$f":"IF(('ED272 Students YTD by Squadron'!$A42)<>0,'ED272 Students YTD by Squadron'!B42,\" \")","v":4215},{"$f":"IF(('ED272 Students YTD by Squadron'!$A42)<>0,'ED272 Students YTD by Squadron'!C42,\" \")","v":"Patchogue Bay Power Squad"},{"$f":"IF(('ED272 Students YTD by Squadron'!$A42)<>0,'ED272 Students YTD by Squadron'!D42,\" \")","v":12},{"$f":"IF(('ED272 Students YTD by Squadron'!$A42)<>0,'ED272 Students YTD by Squadron'!E42,\" \")","v":28},{"$f":"IF(('ED272 Students YTD by Squadron'!$A42)<>0,'ED272 Students YTD by Squadron'!F42,\" \")","v":11},{"$f":"IF(('ED272 Students YTD by Squadron'!$A42)<>0,'ED272 Students YTD by Squadron'!G42,\" \")","v":24},{"$f":"IF(('ED272 Students YTD by Squadron'!$A42)<>0,'ED272 Students YTD by Squadron'!H42,\" \")","v":11},{"$f":"IF(('ED272 Students YTD by Squadron'!$A42)<>0,'ED272 Students YTD by Squadron'!I42,\" \")","v":24},{"$f":"IF(('ED272 Students YTD by Squadron'!$A42)<>0,'ED272A Classes YTD by Squadron'!D42,\" \")","v":6},{"$f":"IF(('ED272 Students YTD by Squadron'!$A42)<>0,'ED272A Classes YTD by Squadron'!E42,\" \")","v":9}]
[{"$f":"IF(('ED272 Students YTD by Squadron'!$A43)<>0,'ED272 Students YTD by Squadron'!A43,\" \")","v":3},{"$f":"IF(('ED272 Students YTD by Squadron'!$A43)<>0,'ED272 Students YTD by Squadron'!B43,\" \")","v":4260},{"$f":"IF(('ED272 Students YTD by Squadron'!$A43)<>0,'ED272 Students YTD by Squadron'!C43,\" \")","v":"Peconic Bay Power Squad  "},{"$f":"IF(('ED272 Students YTD by Squadron'!$A43)<>0,'ED272 Students YTD by Squadron'!D43,\" \")","v":15},{"$f":"IF(('ED272 Students YTD by Squadron'!$A43)<>0,'ED272 Students YTD by Squadron'!E43,\" \")","v":91},{"$f":"IF(('ED272 Students YTD by Squadron'!$A43)<>0,'ED272 Students YTD by Squadron'!F43,\" \")","v":15},{"$f":"IF(('ED272 Students YTD by Squadron'!$A43)<>0,'ED272 Students YTD by Squadron'!G43,\" \")","v":85},{"$f":"IF(('ED272 Students YTD by Squadron'!$A43)<>0,'ED272 Students YTD by Squadron'!H43,\" \")","v":15},{"$f":"IF(('ED272 Students YTD by Squadron'!$A43)<>0,'ED272 Students YTD by Squadron'!I43,\" \")","v":76},{"$f":"IF(('ED272 Students YTD by Squadron'!$A43)<>0,'ED272A Classes YTD by Squadron'!D43,\" \")","v":5},{"$f":"IF(('ED272 Students YTD by Squadron'!$A43)<>0,'ED272A Classes YTD by Squadron'!E43,\" \")","v":6}]
[{"$f":"IF(('ED272 Students YTD by Squadron'!$A44)<>0,'ED272 Students YTD by Squadron'!A44,\" \")","v":3},{"$f":"IF(('ED272 Students YTD by Squadron'!$A44)<>0,'ED272 Students YTD by Squadron'!B44,\" \")","v":2865},{"$f":"IF(('ED272 Students YTD by Squadron'!$A44)<>0,'ED272 Students YTD by Squadron'!C44,\" \")","v":"Port Washington Sail &   "},{"$f":"IF(('ED272 Students YTD by Squadron'!$A44)<>0,'ED272 Students YTD by Squadron'!D44,\" \")","v":8},{"$f":"IF(('ED272 Students YTD by Squadron'!$A44)<>0,'ED272 Students YTD by Squadron'!E44,\" \")","v":15},{"$f":"IF(('ED272 Students YTD by Squadron'!$A44)<>0,'ED272 Students YTD by Squadron'!F44,\" \")","v":5},{"$f":"IF(('ED272 Students YTD by Squadron'!$A44)<>0,'ED272 Students YTD by Squadron'!G44,\" \")","v":8},{"$f":"IF(('ED272 Students YTD by Squadron'!$A44)<>0,'ED272 Students YTD by Squadron'!H44,\" \")","v":5},{"$f":"IF(('ED272 Students YTD by Squadron'!$A44)<>0,'ED272 Students YTD by Squadron'!I44,\" \")","v":8},{"$f":"IF(('ED272 Students YTD by Squadron'!$A44)<>0,'ED272A Classes YTD by Squadron'!D44,\" \")","v":2},{"$f":"IF(('ED272 Students YTD by Squadron'!$A44)<>0,'ED272A Classes YTD by Squadron'!E44,\" \")","v":2}]
[{"$f":"IF(('ED272 Students YTD by Squadron'!$A45)<>0,'ED272 Students YTD by Squadron'!A45,\" \")","v":3},{"$f":"IF(('ED272 Students YTD by Squadron'!$A45)<>0,'ED272 Students YTD by Squadron'!B45,\" \")","v":5430},{"$f":"IF(('ED272 Students YTD by Squadron'!$A45)<>0,'ED272 Students YTD by Squadron'!C45,\" \")","v":"Sewanhaka Power Squadron "},{"$f":"IF(('ED272 Students YTD by Squadron'!$A45)<>0,'ED272 Students YTD by Squadron'!D45,\" \")","v":21},{"$f":"IF(('ED272 Students YTD by Squadron'!$A45)<>0,'ED272 Students YTD by Squadron'!E45,\" \")","v":38},{"$f":"IF(('ED272 Students YTD by Squadron'!$A45)<>0,'ED272 Students YTD by Squadron'!F45,\" \")","v":18},{"$f":"IF(('ED272 Students YTD by Squadron'!$A45)<>0,'ED272 Students YTD by Squadron'!G45,\" \")","v":37},{"$f":"IF(('ED272 Students YTD by Squadron'!$A45)<>0,'ED272 Students YTD by Squadron'!H45,\" \")","v":18},{"$f":"IF(('ED272 Students YTD by Squadron'!$A45)<>0,'ED272 Students YTD by Squadron'!I45,\" \")","v":37},{"$f":"IF(('ED272 Students YTD by Squadron'!$A45)<>0,'ED272A Classes YTD by Squadron'!D45,\" \")","v":3},{"$f":"IF(('ED272 Students YTD by Squadron'!$A45)<>0,'ED272A Classes YTD by Squadron'!E45,\" \")","v":4}]
[{"$f":"IF(('ED272 Students YTD by Squadron'!$A46)<>0,'ED272 Students YTD by Squadron'!A46,\" \")","v":3},{"$f":"IF(('ED272 Students YTD by Squadron'!$A46)<>0,'ED272 Students YTD by Squadron'!B46,\" \")","v":5520},{"$f":"IF(('ED272 Students YTD by Squadron'!$A46)<>0,'ED272 Students YTD by Squadron'!C46,\" \")","v":"Smithtown Bay Power Squad"},{"$f":"IF(('ED272 Students YTD by Squadron'!$A46)<>0,'ED272 Students YTD by Squadron'!D46,\" \")","v":18},{"$f":"IF(('ED272 Students YTD by Squadron'!$A46)<>0,'ED272 Students YTD by Squadron'!E46,\" \")","v":30},{"$f":"IF(('ED272 Students YTD by Squadron'!$A46)<>0,'ED272 Students YTD by Squadron'!F46,\" \")","v":14},{"$f":"IF(('ED272 Students YTD by Squadron'!$A46)<>0,'ED272 Students YTD by Squadron'!G46,\" \")","v":28},{"$f":"IF(('ED272 Students YTD by Squadron'!$A46)<>0,'ED272 Students YTD by Squadron'!H46,\" \")","v":14},{"$f":"IF(('ED272 Students YTD by Squadron'!$A46)<>0,'ED272 Students YTD by Squadron'!I46,\" \")","v":27},{"$f":"IF(('ED272 Students YTD by Squadron'!$A46)<>0,'ED272A Classes YTD by Squadron'!D46,\" \")","v":2},{"$f":"IF(('ED272 Students YTD by Squadron'!$A46)<>0,'ED272A Classes YTD by Squadron'!E46,\" \")","v":3}]
[{"$f":"IF(('ED272 Students YTD by Squadron'!$A47)<>0,'ED272 Students YTD by Squadron'!A47,\" \")","v":3},{"$f":"IF(('ED272 Students YTD by Squadron'!$A47)<>0,'ED272 Students YTD by Squadron'!B47,\" \")","v":5640},{"$f":"IF(('ED272 Students YTD by Squadron'!$A47)<>0,'ED272 Students YTD by Squadron'!C47,\" \")","v":"South Shore Power Squad  "},{"$f":"IF(('ED272 Students YTD by Squadron'!$A47)<>0,'ED272 Students YTD by Squadron'!D47,\" \")","v":14},{"$f":"IF(('ED272 Students YTD by Squadron'!$A47)<>0,'ED272 Students YTD by Squadron'!E47,\" \")","v":5},{"$f":"IF(('ED272 Students YTD by Squadron'!$A47)<>0,'ED272 Students YTD by Squadron'!F47,\" \")","v":14},{"$f":"IF(('ED272 Students YTD by Squadron'!$A47)<>0,'ED272 Students YTD by Squadron'!G47,\" \")","v":5},{"$f":"IF(('ED272 Students YTD by Squadron'!$A47)<>0,'ED272 Students YTD by Squadron'!H47,\" \")","v":14},{"$f":"IF(('ED272 Students YTD by Squadron'!$A47)<>0,'ED272 Students YTD by Squadron'!I47,\" \")","v":5},{"$f":"IF(('ED272 Students YTD by Squadron'!$A47)<>0,'ED272A Classes YTD by Squadron'!D47,\" \")","v":7},{"$f":"IF(('ED272 Students YTD by Squadron'!$A47)<>0,'ED272A Classes YTD by Squadron'!E47,\" \")","v":5}]
[{"$f":"IF(('ED272 Students YTD by Squadron'!$A48)<>0,'ED272 Students YTD by Squadron'!A48,\" \")","v":4},{"$f":"IF(('ED272 Students YTD by Squadron'!$A48)<>0,'ED272 Students YTD by Squadron'!B48,\" \")","v":360},{"$f":"IF(('ED272 Students YTD by Squadron'!$A48)<>0,'ED272 Students YTD by Squadron'!C48,\" \")","v":"Barnegat Bay Sail & Power"},{"$f":"IF(('ED272 Students YTD by Squadron'!$A48)<>0,'ED272 Students YTD by Squadron'!D48,\" \")","v":0},{"$f":"IF(('ED272 Students YTD by Squadron'!$A48)<>0,'ED272 Students YTD by Squadron'!E48,\" \")","v":0},{"$f":"IF(('ED272 Students YTD by Squadron'!$A48)<>0,'ED272 Students YTD by Squadron'!F48,\" \")","v":0},{"$f":"IF(('ED272 Students YTD by Squadron'!$A48)<>0,'ED272 Students YTD by Squadron'!G48,\" \")","v":0},{"$f":"IF(('ED272 Students YTD by Squadron'!$A48)<>0,'ED272 Students YTD by Squadron'!H48,\" \")","v":0},{"$f":"IF(('ED272 Students YTD by Squadron'!$A48)<>0,'ED272 Students YTD by Squadron'!I48,\" \")","v":0},{"$f":"IF(('ED272 Students YTD by Squadron'!$A48)<>0,'ED272A Classes YTD by Squadron'!D48,\" \")","v":0},{"$f":"IF(('ED272 Students YTD by Squadron'!$A48)<>0,'ED272A Classes YTD by Squadron'!E48,\" \")","v":0}]
[{"$f":"IF(('ED272 Students YTD by Squadron'!$A49)<>0,'ED272 Students YTD by Squadron'!A49,\" \")","v":4},{"$f":"IF(('ED272 Students YTD by Squadron'!$A49)<>0,'ED272 Students YTD by Squadron'!B49,\" \")","v":675},{"$f":"IF(('ED272 Students YTD by Squadron'!$A49)<>0,'ED272 Students YTD by Squadron'!C49,\" \")","v":"Bronx Power Squadron     "},{"$f":"IF(('ED272 Students YTD by Squadron'!$A49)<>0,'ED272 Students YTD by Squadron'!D49,\" \")","v":0},{"$f":"IF(('ED272 Students YTD by Squadron'!$A49)<>0,'ED272 Students YTD by Squadron'!E49,\" \")","v":0},{"$f":"IF(('ED272 Students YTD by Squadron'!$A49)<>0,'ED272 Students YTD by Squadron'!F49,\" \")","v":0},{"$f":"IF(('ED272 Students YTD by Squadron'!$A49)<>0,'ED272 Students YTD by Squadron'!G49,\" \")","v":0},{"$f":"IF(('ED272 Students YTD by Squadron'!$A49)<>0,'ED272 Students YTD by Squadron'!H49,\" \")","v":0},{"$f":"IF(('ED272 Students YTD by Squadron'!$A49)<>0,'ED272 Students YTD by Squadron'!I49,\" \")","v":0},{"$f":"IF(('ED272 Students YTD by Squadron'!$A49)<>0,'ED272A Classes YTD by Squadron'!D49,\" \")","v":0},{"$f":"IF(('ED272 Students YTD by Squadron'!$A49)<>0,'ED272A Classes YTD by Squadron'!E49,\" \")","v":0}]
[{"$f":"IF(('ED272 Students YTD by Squadron'!$A50)<>0,'ED272 Students YTD by Squadron'!A50,\" \")","v":4},{"$f":"IF(('ED272 Students YTD by Squadron'!$A50)<>0,'ED272 Students YTD by Squadron'!B50,\" \")","v":1100},{"$f":"IF(('ED272 Students YTD by Squadron'!$A50)<>0,'ED272 Students YTD by Squadron'!C50,\" \")","v":"City Island Power Squad  "},{"$f":"IF(('ED272 Students YTD by Squadron'!$A50)<>0,'ED272 Students YTD by Squadron'!D50,\" \")","v":20},{"$f":"IF(('ED272 Students YTD by Squadron'!$A50)<>0,'ED272 Students YTD by Squadron'!E50,\" \")","v":15},{"$f":"IF(('ED272 Students YTD by Squadron'!$A50)<>0,'ED272 Students YTD by Squadron'!F50,\" \")","v":15},{"$f":"IF(('ED272 Students YTD by Squadron'!$A50)<>0,'ED272 Students YTD by Squadron'!G50,\" \")","v":14},{"$f":"IF(('ED272 Students YTD by Squadron'!$A50)<>0,'ED272 Students YTD by Squadron'!H50,\" \")","v":15},{"$f":"IF(('ED272 Students YTD by Squadron'!$A50)<>0,'ED272 Students YTD by Squadron'!I50,\" \")","v":14},{"$f":"IF(('ED272 Students YTD by Squadron'!$A50)<>0,'ED272A Classes YTD by Squadron'!D50,\" \")","v":2},{"$f":"IF(('ED272 Students YTD by Squadron'!$A50)<>0,'ED272A Classes YTD by Squadron'!E50,\" \")","v":1}]
[{"$f":"IF(('ED272 Students YTD by Squadron'!$A51)<>0,'ED272 Students YTD by Squadron'!A51,\" \")","v":4},{"$f":"IF(('ED272 Students YTD by Squadron'!$A51)<>0,'ED272 Students YTD by Squadron'!B51,\" \")","v":2715},{"$f":"IF(('ED272 Students YTD by Squadron'!$A51)<>0,'ED272 Students YTD by Squadron'!C51,\" \")","v":"Lackawanna Sail & Power  "},{"$f":"IF(('ED272 Students YTD by Squadron'!$A51)<>0,'ED272 Students YTD by Squadron'!D51,\" \")","v":12},{"$f":"IF(('ED272 Students YTD by Squadron'!$A51)<>0,'ED272 Students YTD by Squadron'!E51,\" \")","v":0},{"$f":"IF(('ED272 Students YTD by Squadron'!$A51)<>0,'ED272 Students YTD by Squadron'!F51,\" \")","v":12},{"$f":"IF(('ED272 Students YTD by Squadron'!$A51)<>0,'ED272 Students YTD by Squadron'!G51,\" \")","v":0},{"$f":"IF(('ED272 Students YTD by Squadron'!$A51)<>0,'ED272 Students YTD by Squadron'!H51,\" \")","v":12},{"$f":"IF(('ED272 Students YTD by Squadron'!$A51)<>0,'ED272 Students YTD by Squadron'!I51,\" \")","v":0},{"$f":"IF(('ED272 Students YTD by Squadron'!$A51)<>0,'ED272A Classes YTD by Squadron'!D51,\" \")","v":2},{"$f":"IF(('ED272 Students YTD by Squadron'!$A51)<>0,'ED272A Classes YTD by Squadron'!E51,\" \")","v":0}]
[{"$f":"IF(('ED272 Students YTD by Squadron'!$A52)<>0,'ED272 Students YTD by Squadron'!A52,\" \")","v":4},{"$f":"IF(('ED272 Students YTD by Squadron'!$A52)<>0,'ED272 Students YTD by Squadron'!B52,\" \")","v":2340},{"$f":"IF(('ED272 Students YTD by Squadron'!$A52)<>0,'ED272 Students YTD by Squadron'!C52,\" \")","v":"Lake Hopatcong Sail &    "},{"$f":"IF(('ED272 Students YTD by Squadron'!$A52)<>0,'ED272 Students YTD by Squadron'!D52,\" \")","v":28},{"$f":"IF(('ED272 Students YTD by Squadron'!$A52)<>0,'ED272 Students YTD by Squadron'!E52,\" \")","v":0},{"$f":"IF(('ED272 Students YTD by Squadron'!$A52)<>0,'ED272 Students YTD by Squadron'!F52,\" \")","v":28},{"$f":"IF(('ED272 Students YTD by Squadron'!$A52)<>0,'ED272 Students YTD by Squadron'!G52,\" \")","v":0},{"$f":"IF(('ED272 Students YTD by Squadron'!$A52)<>0,'ED272 Students YTD by Squadron'!H52,\" \")","v":28},{"$f":"IF(('ED272 Students YTD by Squadron'!$A52)<>0,'ED272 Students YTD by Squadron'!I52,\" \")","v":0},{"$f":"IF(('ED272 Students YTD by Squadron'!$A52)<>0,'ED272A Classes YTD by Squadron'!D52,\" \")","v":2},{"$f":"IF(('ED272 Students YTD by Squadron'!$A52)<>0,'ED272A Classes YTD by Squadron'!E52,\" \")","v":0}]
[{"$f":"IF(('ED272 Students YTD by Squadron'!$A53)<>0,'ED272 Students YTD by Squadron'!A53,\" \")","v":4},{"$f":"IF(('ED272 Students YTD by Squadron'!$A53)<>0,'ED272 Students YTD by Squadron'!B53,\" \")","v":2840},{"$f":"IF(('ED272 Students YTD by Squadron'!$A53)<>0,'ED272 Students YTD by Squadron'!C53,\" \")","v":"Liberty Harbor Power Sqd "},{"$f":"IF(('ED272 Students YTD by Squadron'!$A53)<>0,'ED272 Students YTD by Squadron'!D53,\" \")","v":0},{"$f":"IF(('ED272 Students YTD by Squadron'!$A53)<>0,'ED272 Students YTD by Squadron'!E53,\" \")","v":0},{"$f":"IF(('ED272 Students YTD by Squadron'!$A53)<>0,'ED272 Students YTD by Squadron'!F53,\" \")","v":0},{"$f":"IF(('ED272 Students YTD by Squadron'!$A53)<>0,'ED272 Students YTD by Squadron'!G53,\" \")","v":0},{"$f":"IF(('ED272 Students YTD by Squadron'!$A53)<>0,'ED272 Students YTD by Squadron'!H53,\" \")","v":0},{"$f":"IF(('ED272 Students YTD by Squadron'!$A53)<>0,'ED272 Students YTD by Squadron'!I53,\" \")","v":0},{"$f":"IF(('ED272 Students YTD by Squadron'!$A53)<>0,'ED272A Classes YTD by Squadron'!D53,\" \")","v":0},{"$f":"IF(('ED272 Students YTD by Squadron'!$A53)<>0,'ED272A Classes YTD by Squadron'!E53,\" \")","v":0}]
[{"$f":"IF(('ED272 Students YTD by Squadron'!$A54)<>0,'ED272 Students YTD by Squadron'!A54,\" \")","v":4},{"$f":"IF(('ED272 Students YTD by Squadron'!$A54)<>0,'ED272 Students YTD by Squadron'!B54,\" \")","v":3780},{"$f":"IF(('ED272 Students YTD by Squadron'!$A54)<>0,'ED272 Students YTD by Squadron'!C54,\" \")","v":"New York Sail & Power Sqd"},{"$f":"IF(('ED272 Students YTD by Squadron'!$A54)<>0,'ED272 Students YTD by Squadron'!D54,\" \")","v":0},{"$f":"IF(('ED272 Students YTD by Squadron'!$A54)<>0,'ED272 Students YTD by Squadron'!E54,\" \")","v":6},{"$f":"IF(('ED272 Students YTD by Squadron'!$A54)<>0,'ED272 Students YTD by Squadron'!F54,\" \")","v":0},{"$f":"IF(('ED272 Students YTD by Squadron'!$A54)<>0,'ED272 Students YTD by Squadron'!G54,\" \")","v":5},{"$f":"IF(('ED272 Students YTD by Squadron'!$A54)<>0,'ED272 Students YTD by Squadron'!H54,\" \")","v":0},{"$f":"IF(('ED272 Students YTD by Squadron'!$A54)<>0,'ED272 Students YTD by Squadron'!I54,\" \")","v":5},{"$f":"IF(('ED272 Students YTD by Squadron'!$A54)<>0,'ED272A Classes YTD by Squadron'!D54,\" \")","v":0},{"$f":"IF(('ED272 Students YTD by Squadron'!$A54)<>0,'ED272A Classes YTD by Squadron'!E54,\" \")","v":1}]
[{"$f":"IF(('ED272 Students YTD by Squadron'!$A55)<>0,'ED272 Students YTD by Squadron'!A55,\" \")","v":4},{"$f":"IF(('ED272 Students YTD by Squadron'!$A55)<>0,'ED272 Students YTD by Squadron'!B55,\" \")","v":3885},{"$f":"IF(('ED272 Students YTD by Squadron'!$A55)<>0,'ED272 Students YTD by Squadron'!C55,\" \")","v":"North River Power Squad  "},{"$f":"IF(('ED272 Students YTD by Squadron'!$A55)<>0,'ED272 Students YTD by Squadron'!D55,\" \")","v":0},{"$f":"IF(('ED272 Students YTD by Squadron'!$A55)<>0,'ED272 Students YTD by Squadron'!E55,\" \")","v":13},{"$f":"IF(('ED272 Students YTD by Squadron'!$A55)<>0,'ED272 Students YTD by Squadron'!F55,\" \")","v":0},{"$f":"IF(('ED272 Students YTD by Squadron'!$A55)<>0,'ED272 Students YTD by Squadron'!G55,\" \")","v":13},{"$f":"IF(('ED272 Students YTD by Squadron'!$A55)<>0,'ED272 Students YTD by Squadron'!H55,\" \")","v":0},{"$f":"IF(('ED272 Students YTD by Squadron'!$A55)<>0,'ED272 Students YTD by Squadron'!I55,\" \")","v":13},{"$f":"IF(('ED272 Students YTD by Squadron'!$A55)<>0,'ED272A Classes YTD by Squadron'!D55,\" \")","v":0},{"$f":"IF(('ED272 Students YTD by Squadron'!$A55)<>0,'ED272A Classes YTD by Squadron'!E55,\" \")","v":2}]
[{"$f":"IF(('ED272 Students YTD by Squadron'!$A56)<>0,'ED272 Students YTD by Squadron'!A56,\" \")","v":4},{"$f":"IF(('ED272 Students YTD by Squadron'!$A56)<>0,'ED272 Students YTD by Squadron'!B56,\" \")","v":3855},{"$f":"IF(('ED272 Students YTD by Squadron'!$A56)<>0,'ED272 Students YTD by Squadron'!C56,\" \")","v":"Northern New Jersey Sail "},{"$f":"IF(('ED272 Students YTD by Squadron'!$A56)<>0,'ED272 Students YTD by Squadron'!D56,\" \")","v":13},{"$f":"IF(('ED272 Students YTD by Squadron'!$A56)<>0,'ED272 Students YTD by Squadron'!E56,\" \")","v":22},{"$f":"IF(('ED272 Students YTD by Squadron'!$A56)<>0,'ED272 Students YTD by Squadron'!F56,\" \")","v":13},{"$f":"IF(('ED272 Students YTD by Squadron'!$A56)<>0,'ED272 Students YTD by Squadron'!G56,\" \")","v":22},{"$f":"IF(('ED272 Students YTD by Squadron'!$A56)<>0,'ED272 Students YTD by Squadron'!H56,\" \")","v":13},{"$f":"IF(('ED272 Students YTD by Squadron'!$A56)<>0,'ED272 Students YTD by Squadron'!I56,\" \")","v":22},{"$f":"IF(('ED272 Students YTD by Squadron'!$A56)<>0,'ED272A Classes YTD by Squadron'!D56,\" \")","v":3},{"$f":"IF(('ED272 Students YTD by Squadron'!$A56)<>0,'ED272A Classes YTD by Squadron'!E56,\" \")","v":2}]
[{"$f":"IF(('ED272 Students YTD by Squadron'!$A57)<>0,'ED272 Students YTD by Squadron'!A57,\" \")","v":4},{"$f":"IF(('ED272 Students YTD by Squadron'!$A57)<>0,'ED272 Students YTD by Squadron'!B57,\" \")","v":4155},{"$f":"IF(('ED272 Students YTD by Squadron'!$A57)<>0,'ED272 Students YTD by Squadron'!C57,\" \")","v":"Palisades Power Squadron "},{"$f":"IF(('ED272 Students YTD by Squadron'!$A57)<>0,'ED272 Students YTD by Squadron'!D57,\" \")","v":41},{"$f":"IF(('ED272 Students YTD by Squadron'!$A57)<>0,'ED272 Students YTD by Squadron'!E57,\" \")","v":4},{"$f":"IF(('ED272 Students YTD by Squadron'!$A57)<>0,'ED272 Students YTD by Squadron'!F57,\" \")","v":41},{"$f":"IF(('ED272 Students YTD by Squadron'!$A57)<>0,'ED272 Students YTD by Squadron'!G57,\" \")","v":4},{"$f":"IF(('ED272 Students YTD by Squadron'!$A57)<>0,'ED272 Students YTD by Squadron'!H57,\" \")","v":41},{"$f":"IF(('ED272 Students YTD by Squadron'!$A57)<>0,'ED272 Students YTD by Squadron'!I57,\" \")","v":4},{"$f":"IF(('ED272 Students YTD by Squadron'!$A57)<>0,'ED272A Classes YTD by Squadron'!D57,\" \")","v":5},{"$f":"IF(('ED272 Students YTD by Squadron'!$A57)<>0,'ED272A Classes YTD by Squadron'!E57,\" \")","v":1}]
[{"$f":"IF(('ED272 Students YTD by Squadron'!$A58)<>0,'ED272 Students YTD by Squadron'!A58,\" \")","v":4},{"$f":"IF(('ED272 Students YTD by Squadron'!$A58)<>0,'ED272 Students YTD by Squadron'!B58,\" \")","v":4650},{"$f":"IF(('ED272 Students YTD by Squadron'!$A58)<>0,'ED272 Students YTD by Squadron'!C58,\" \")","v":"Raritan Bay Power Squad  "},{"$f":"IF(('ED272 Students YTD by Squadron'!$A58)<>0,'ED272 Students YTD by Squadron'!D58,\" \")","v":4},{"$f":"IF(('ED272 Students YTD by Squadron'!$A58)<>0,'ED272 Students YTD by Squadron'!E58,\" \")","v":2},{"$f":"IF(('ED272 Students YTD by Squadron'!$A58)<>0,'ED272 Students YTD by Squadron'!F58,\" \")","v":4},{"$f":"IF(('ED272 Students YTD by Squadron'!$A58)<>0,'ED272 Students YTD by Squadron'!G58,\" \")","v":2},{"$f":"IF(('ED272 Students YTD by Squadron'!$A58)<>0,'ED272 Students YTD by Squadron'!H58,\" \")","v":4},{"$f":"IF(('ED272 Students YTD by Squadron'!$A58)<>0,'ED272 Students YTD by Squadron'!I58,\" \")","v":2},{"$f":"IF(('ED272 Students YTD by Squadron'!$A58)<>0,'ED272A Classes YTD by Squadron'!D58,\" \")","v":2},{"$f":"IF(('ED272 Students YTD by Squadron'!$A58)<>0,'ED272A Classes YTD by Squadron'!E58,\" \")","v":1}]
[{"$f":"IF(('ED272 Students YTD by Squadron'!$A59)<>0,'ED272 Students YTD by Squadron'!A59,\" \")","v":4},{"$f":"IF(('ED272 Students YTD by Squadron'!$A59)<>0,'ED272 Students YTD by Squadron'!B59,\" \")","v":5475},{"$f":"IF(('ED272 Students YTD by Squadron'!$A59)<>0,'ED272 Students YTD by Squadron'!C59,\" \")","v":"Shrewsbury Power Squadron"},{"$f":"IF(('ED272 Students YTD by Squadron'!$A59)<>0,'ED272 Students YTD by Squadron'!D59,\" \")","v":0},{"$f":"IF(('ED272 Students YTD by Squadron'!$A59)<>0,'ED272 Students YTD by Squadron'!E59,\" \")","v":0},{"$f":"IF(('ED272 Students YTD by Squadron'!$A59)<>0,'ED272 Students YTD by Squadron'!F59,\" \")","v":0},{"$f":"IF(('ED272 Students YTD by Squadron'!$A59)<>0,'ED272 Students YTD by Squadron'!G59,\" \")","v":0},{"$f":"IF(('ED272 Students YTD by Squadron'!$A59)<>0,'ED272 Students YTD by Squadron'!H59,\" \")","v":0},{"$f":"IF(('ED272 Students YTD by Squadron'!$A59)<>0,'ED272 Students YTD by Squadron'!I59,\" \")","v":0},{"$f":"IF(('ED272 Students YTD by Squadron'!$A59)<>0,'ED272A Classes YTD by Squadron'!D59,\" \")","v":0},{"$f":"IF(('ED272 Students YTD by Squadron'!$A59)<>0,'ED272A Classes YTD by Squadron'!E59,\" \")","v":0}]
[{"$f":"IF(('ED272 Students YTD by Squadron'!$A60)<>0,'ED272 Students YTD by Squadron'!A60,\" \")","v":4},{"$f":"IF(('ED272 Students YTD by Squadron'!$A60)<>0,'ED272 Students YTD by Squadron'!B60,\" \")","v":5700},{"$f":"IF(('ED272 Students YTD by Squadron'!$A60)<>0,'ED272 Students YTD by Squadron'!C60,\" \")","v":"Staten Island Power Squad"},{"$f":"IF(('ED272 Students YTD by Squadron'!$A60)<>0,'ED272 Students YTD by Squadron'!D60,\" \")","v":33},{"$f":"IF(('ED272 Students YTD by Squadron'!$A60)<>0,'ED272 Students YTD by Squadron'!E60,\" \")","v":27},{"$f":"IF(('ED272 Students YTD by Squadron'!$A60)<>0,'ED272 Students YTD by Squadron'!F60,\" \")","v":32},{"$f":"IF(('ED272 Students YTD by Squadron'!$A60)<>0,'ED272 Students YTD by Squadron'!G60,\" \")","v":27},{"$f":"IF(('ED272 Students YTD by Squadron'!$A60)<>0,'ED272 Students YTD by Squadron'!H60,\" \")","v":32},{"$f":"IF(('ED272 Students YTD by Squadron'!$A60)<>0,'ED272 Students YTD by Squadron'!I60,\" \")","v":27},{"$f":"IF(('ED272 Students YTD by Squadron'!$A60)<>0,'ED272A Classes YTD by Squadron'!D60,\" \")","v":3},{"$f":"IF(('ED272 Students YTD by Squadron'!$A60)<>0,'ED272A Classes YTD by Squadron'!E60,\" \")","v":3}]
[{"$f":"IF(('ED272 Students YTD by Squadron'!$A61)<>0,'ED272 Students YTD by Squadron'!A61,\" \")","v":4},{"$f":"IF(('ED272 Students YTD by Squadron'!$A61)<>0,'ED272 Students YTD by Squadron'!B61,\" \")","v":6135},{"$f":"IF(('ED272 Students YTD by Squadron'!$A61)<>0,'ED272 Students YTD by Squadron'!C61,\" \")","v":"Watchung Sail & Power Sqd"},{"$f":"IF(('ED272 Students YTD by Squadron'!$A61)<>0,'ED272 Students YTD by Squadron'!D61,\" \")","v":7},{"$f":"IF(('ED272 Students YTD by Squadron'!$A61)<>0,'ED272 Students YTD by Squadron'!E61,\" \")","v":1},{"$f":"IF(('ED272 Students YTD by Squadron'!$A61)<>0,'ED272 Students YTD by Squadron'!F61,\" \")","v":7},{"$f":"IF(('ED272 Students YTD by Squadron'!$A61)<>0,'ED272 Students YTD by Squadron'!G61,\" \")","v":1},{"$f":"IF(('ED272 Students YTD by Squadron'!$A61)<>0,'ED272 Students YTD by Squadron'!H61,\" \")","v":7},{"$f":"IF(('ED272 Students YTD by Squadron'!$A61)<>0,'ED272 Students YTD by Squadron'!I61,\" \")","v":1},{"$f":"IF(('ED272 Students YTD by Squadron'!$A61)<>0,'ED272A Classes YTD by Squadron'!D61,\" \")","v":3},{"$f":"IF(('ED272 Students YTD by Squadron'!$A61)<>0,'ED272A Classes YTD by Squadron'!E61,\" \")","v":1}]
[{"$f":"IF(('ED272 Students YTD by Squadron'!$A62)<>0,'ED272 Students YTD by Squadron'!A62,\" \")","v":5},{"$f":"IF(('ED272 Students YTD by Squadron'!$A62)<>0,'ED272 Students YTD by Squadron'!B62,\" \")","v":15},{"$f":"IF(('ED272 Students YTD by Squadron'!$A62)<>0,'ED272 Students YTD by Squadron'!C62,\" \")","v":"Absecon Island Power Sqd "},{"$f":"IF(('ED272 Students YTD by Squadron'!$A62)<>0,'ED272 Students YTD by Squadron'!D62,\" \")","v":38},{"$f":"IF(('ED272 Students YTD by Squadron'!$A62)<>0,'ED272 Students YTD by Squadron'!E62,\" \")","v":0},{"$f":"IF(('ED272 Students YTD by Squadron'!$A62)<>0,'ED272 Students YTD by Squadron'!F62,\" \")","v":37},{"$f":"IF(('ED272 Students YTD by Squadron'!$A62)<>0,'ED272 Students YTD by Squadron'!G62,\" \")","v":0},{"$f":"IF(('ED272 Students YTD by Squadron'!$A62)<>0,'ED272 Students YTD by Squadron'!H62,\" \")","v":37},{"$f":"IF(('ED272 Students YTD by Squadron'!$A62)<>0,'ED272 Students YTD by Squadron'!I62,\" \")","v":0},{"$f":"IF(('ED272 Students YTD by Squadron'!$A62)<>0,'ED272A Classes YTD by Squadron'!D62,\" \")","v":4},{"$f":"IF(('ED272 Students YTD by Squadron'!$A62)<>0,'ED272A Classes YTD by Squadron'!E62,\" \")","v":0}]
[{"$f":"IF(('ED272 Students YTD by Squadron'!$A63)<>0,'ED272 Students YTD by Squadron'!A63,\" \")","v":5},{"$f":"IF(('ED272 Students YTD by Squadron'!$A63)<>0,'ED272 Students YTD by Squadron'!B63,\" \")","v":165},{"$f":"IF(('ED272 Students YTD by Squadron'!$A63)<>0,'ED272 Students YTD by Squadron'!C63,\" \")","v":"Annapolis Sail & Power Sq"},{"$f":"IF(('ED272 Students YTD by Squadron'!$A63)<>0,'ED272 Students YTD by Squadron'!D63,\" \")","v":0},{"$f":"IF(('ED272 Students YTD by Squadron'!$A63)<>0,'ED272 Students YTD by Squadron'!E63,\" \")","v":0},{"$f":"IF(('ED272 Students YTD by Squadron'!$A63)<>0,'ED272 Students YTD by Squadron'!F63,\" \")","v":0},{"$f":"IF(('ED272 Students YTD by Squadron'!$A63)<>0,'ED272 Students YTD by Squadron'!G63,\" \")","v":0},{"$f":"IF(('ED272 Students YTD by Squadron'!$A63)<>0,'ED272 Students YTD by Squadron'!H63,\" \")","v":0},{"$f":"IF(('ED272 Students YTD by Squadron'!$A63)<>0,'ED272 Students YTD by Squadron'!I63,\" \")","v":0},{"$f":"IF(('ED272 Students YTD by Squadron'!$A63)<>0,'ED272A Classes YTD by Squadron'!D63,\" \")","v":0},{"$f":"IF(('ED272 Students YTD by Squadron'!$A63)<>0,'ED272A Classes YTD by Squadron'!E63,\" \")","v":0}]
[{"$f":"IF(('ED272 Students YTD by Squadron'!$A64)<>0,'ED272 Students YTD by Squadron'!A64,\" \")","v":5},{"$f":"IF(('ED272 Students YTD by Squadron'!$A64)<>0,'ED272 Students YTD by Squadron'!B64,\" \")","v":765},{"$f":"IF(('ED272 Students YTD by Squadron'!$A64)<>0,'ED272 Students YTD by Squadron'!C64,\" \")","v":"Cambridge Sail & Power Sq"},{"$f":"IF(('ED272 Students YTD by Squadron'!$A64)<>0,'ED272 Students YTD by Squadron'!D64,\" \")","v":0},{"$f":"IF(('ED272 Students YTD by Squadron'!$A64)<>0,'ED272 Students YTD by Squadron'!E64,\" \")","v":4},{"$f":"IF(('ED272 Students YTD by Squadron'!$A64)<>0,'ED272 Students YTD by Squadron'!F64,\" \")","v":0},{"$f":"IF(('ED272 Students YTD by Squadron'!$A64)<>0,'ED272 Students YTD by Squadron'!G64,\" \")","v":4},{"$f":"IF(('ED272 Students YTD by Squadron'!$A64)<>0,'ED272 Students YTD by Squadron'!H64,\" \")","v":0},{"$f":"IF(('ED272 Students YTD by Squadron'!$A64)<>0,'ED272 Students YTD by Squadron'!I64,\" \")","v":4},{"$f":"IF(('ED272 Students YTD by Squadron'!$A64)<>0,'ED272A Classes YTD by Squadron'!D64,\" \")","v":0},{"$f":"IF(('ED272 Students YTD by Squadron'!$A64)<>0,'ED272A Classes YTD by Squadron'!E64,\" \")","v":1}]
[{"$f":"IF(('ED272 Students YTD by Squadron'!$A65)<>0,'ED272 Students YTD by Squadron'!A65,\" \")","v":5},{"$f":"IF(('ED272 Students YTD by Squadron'!$A65)<>0,'ED272 Students YTD by Squadron'!B65,\" \")","v":1156},{"$f":"IF(('ED272 Students YTD by Squadron'!$A65)<>0,'ED272 Students YTD by Squadron'!C65,\" \")","v":"Colonial Sail & Power Sqd"},{"$f":"IF(('ED272 Students YTD by Squadron'!$A65)<>0,'ED272 Students YTD by Squadron'!D65,\" \")","v":0},{"$f":"IF(('ED272 Students YTD by Squadron'!$A65)<>0,'ED272 Students YTD by Squadron'!E65,\" \")","v":0},{"$f":"IF(('ED272 Students YTD by Squadron'!$A65)<>0,'ED272 Students YTD by Squadron'!F65,\" \")","v":0},{"$f":"IF(('ED272 Students YTD by Squadron'!$A65)<>0,'ED272 Students YTD by Squadron'!G65,\" \")","v":0},{"$f":"IF(('ED272 Students YTD by Squadron'!$A65)<>0,'ED272 Students YTD by Squadron'!H65,\" \")","v":0},{"$f":"IF(('ED272 Students YTD by Squadron'!$A65)<>0,'ED272 Students YTD by Squadron'!I65,\" \")","v":0},{"$f":"IF(('ED272 Students YTD by Squadron'!$A65)<>0,'ED272A Classes YTD by Squadron'!D65,\" \")","v":0},{"$f":"IF(('ED272 Students YTD by Squadron'!$A65)<>0,'ED272A Classes YTD by Squadron'!E65,\" \")","v":0}]
[{"$f":"IF(('ED272 Students YTD by Squadron'!$A66)<>0,'ED272 Students YTD by Squadron'!A66,\" \")","v":5},{"$f":"IF(('ED272 Students YTD by Squadron'!$A66)<>0,'ED272 Students YTD by Squadron'!B66,\" \")","v":1440},{"$f":"IF(('ED272 Students YTD by Squadron'!$A66)<>0,'ED272 Students YTD by Squadron'!C66,\" \")","v":"Delaware River Power Sqd "},{"$f":"IF(('ED272 Students YTD by Squadron'!$A66)<>0,'ED272 Students YTD by Squadron'!D66,\" \")","v":13},{"$f":"IF(('ED272 Students YTD by Squadron'!$A66)<>0,'ED272 Students YTD by Squadron'!E66,\" \")","v":7},{"$f":"IF(('ED272 Students YTD by Squadron'!$A66)<>0,'ED272 Students YTD by Squadron'!F66,\" \")","v":12},{"$f":"IF(('ED272 Students YTD by Squadron'!$A66)<>0,'ED272 Students YTD by Squadron'!G66,\" \")","v":7},{"$f":"IF(('ED272 Students YTD by Squadron'!$A66)<>0,'ED272 Students YTD by Squadron'!H66,\" \")","v":12},{"$f":"IF(('ED272 Students YTD by Squadron'!$A66)<>0,'ED272 Students YTD by Squadron'!I66,\" \")","v":7},{"$f":"IF(('ED272 Students YTD by Squadron'!$A66)<>0,'ED272A Classes YTD by Squadron'!D66,\" \")","v":5},{"$f":"IF(('ED272 Students YTD by Squadron'!$A66)<>0,'ED272A Classes YTD by Squadron'!E66,\" \")","v":1}]
[{"$f":"IF(('ED272 Students YTD by Squadron'!$A67)<>0,'ED272 Students YTD by Squadron'!A67,\" \")","v":5},{"$f":"IF(('ED272 Students YTD by Squadron'!$A67)<>0,'ED272 Students YTD by Squadron'!B67,\" \")","v":1455},{"$f":"IF(('ED272 Students YTD by Squadron'!$A67)<>0,'ED272 Students YTD by Squadron'!C67,\" \")","v":"Delhigh Power Squadron   "},{"$f":"IF(('ED272 Students YTD by Squadron'!$A67)<>0,'ED272 Students YTD by Squadron'!D67,\" \")","v":21},{"$f":"IF(('ED272 Students YTD by Squadron'!$A67)<>0,'ED272 Students YTD by Squadron'!E67,\" \")","v":0},{"$f":"IF(('ED272 Students YTD by Squadron'!$A67)<>0,'ED272 Students YTD by Squadron'!F67,\" \")","v":21},{"$f":"IF(('ED272 Students YTD by Squadron'!$A67)<>0,'ED272 Students YTD by Squadron'!G67,\" \")","v":0},{"$f":"IF(('ED272 Students YTD by Squadron'!$A67)<>0,'ED272 Students YTD by Squadron'!H67,\" \")","v":21},{"$f":"IF(('ED272 Students YTD by Squadron'!$A67)<>0,'ED272 Students YTD by Squadron'!I67,\" \")","v":0},{"$f":"IF(('ED272 Students YTD by Squadron'!$A67)<>0,'ED272A Classes YTD by Squadron'!D67,\" \")","v":1},{"$f":"IF(('ED272 Students YTD by Squadron'!$A67)<>0,'ED272A Classes YTD by Squadron'!E67,\" \")","v":0}]
[{"$f":"IF(('ED272 Students YTD by Squadron'!$A68)<>0,'ED272 Students YTD by Squadron'!A68,\" \")","v":5},{"$f":"IF(('ED272 Students YTD by Squadron'!$A68)<>0,'ED272 Students YTD by Squadron'!B68,\" \")","v":1485},{"$f":"IF(('ED272 Students YTD by Squadron'!$A68)<>0,'ED272 Students YTD by Squadron'!C68,\" \")","v":"Delsea Power Squadron    "},{"$f":"IF(('ED272 Students YTD by Squadron'!$A68)<>0,'ED272 Students YTD by Squadron'!D68,\" \")","v":35},{"$f":"IF(('ED272 Students YTD by Squadron'!$A68)<>0,'ED272 Students YTD by Squadron'!E68,\" \")","v":32},{"$f":"IF(('ED272 Students YTD by Squadron'!$A68)<>0,'ED272 Students YTD by Squadron'!F68,\" \")","v":35},{"$f":"IF(('ED272 Students YTD by Squadron'!$A68)<>0,'ED272 Students YTD by Squadron'!G68,\" \")","v":32},{"$f":"IF(('ED272 Students YTD by Squadron'!$A68)<>0,'ED272 Students YTD by Squadron'!H68,\" \")","v":35},{"$f":"IF(('ED272 Students YTD by Squadron'!$A68)<>0,'ED272 Students YTD by Squadron'!I68,\" \")","v":32},{"$f":"IF(('ED272 Students YTD by Squadron'!$A68)<>0,'ED272A Classes YTD by Squadron'!D68,\" \")","v":3},{"$f":"IF(('ED272 Students YTD by Squadron'!$A68)<>0,'ED272A Classes YTD by Squadron'!E68,\" \")","v":3}]
[{"$f":"IF(('ED272 Students YTD by Squadron'!$A69)<>0,'ED272 Students YTD by Squadron'!A69,\" \")","v":5},{"$f":"IF(('ED272 Students YTD by Squadron'!$A69)<>0,'ED272 Students YTD by Squadron'!B69,\" \")","v":1560},{"$f":"IF(('ED272 Students YTD by Squadron'!$A69)<>0,'ED272 Students YTD by Squadron'!C69,\" \")","v":"Dundalk Sail & Power Sqd "},{"$f":"IF(('ED272 Students YTD by Squadron'!$A69)<>0,'ED272 Students YTD by Squadron'!D69,\" \")","v":33},{"$f":"IF(('ED272 Students YTD by Squadron'!$A69)<>0,'ED272 Students YTD by Squadron'!E69,\" \")","v":29},{"$f":"IF(('ED272 Students YTD by Squadron'!$A69)<>0,'ED272 Students YTD by Squadron'!F69,\" \")","v":17},{"$f":"IF(('ED272 Students YTD by Squadron'!$A69)<>0,'ED272 Students YTD by Squadron'!G69,\" \")","v":24},{"$f":"IF(('ED272 Students YTD by Squadron'!$A69)<>0,'ED272 Students YTD by Squadron'!H69,\" \")","v":17},{"$f":"IF(('ED272 Students YTD by Squadron'!$A69)<>0,'ED272 Students YTD by Squadron'!I69,\" \")","v":24},{"$f":"IF(('ED272 Students YTD by Squadron'!$A69)<>0,'ED272A Classes YTD by Squadron'!D69,\" \")","v":7},{"$f":"IF(('ED272 Students YTD by Squadron'!$A69)<>0,'ED272A Classes YTD by Squadron'!E69,\" \")","v":5}]
[{"$f":"IF(('ED272 Students YTD by Squadron'!$A70)<>0,'ED272 Students YTD by Squadron'!A70,\" \")","v":5},{"$f":"IF(('ED272 Students YTD by Squadron'!$A70)<>0,'ED272 Students YTD by Squadron'!B70,\" \")","v":1620},{"$f":"IF(('ED272 Students YTD by Squadron'!$A70)<>0,'ED272 Students YTD by Squadron'!C70,\" \")","v":"Elizabeth River Power Sq "},{"$f":"IF(('ED272 Students YTD by Squadron'!$A70)<>0,'ED272 Students YTD by Squadron'!D70,\" \")","v":0},{"$f":"IF(('ED272 Students YTD by Squadron'!$A70)<>0,'ED272 Students YTD by Squadron'!E70,\" \")","v":0},{"$f":"IF(('ED272 Students YTD by Squadron'!$A70)<>0,'ED272 Students YTD by Squadron'!F70,\" \")","v":0},{"$f":"IF(('ED272 Students YTD by Squadron'!$A70)<>0,'ED272 Students YTD by Squadron'!G70,\" \")","v":0},{"$f":"IF(('ED272 Students YTD by Squadron'!$A70)<>0,'ED272 Students YTD by Squadron'!H70,\" \")","v":0},{"$f":"IF(('ED272 Students YTD by Squadron'!$A70)<>0,'ED272 Students YTD by Squadron'!I70,\" \")","v":0},{"$f":"IF(('ED272 Students YTD by Squadron'!$A70)<>0,'ED272A Classes YTD by Squadron'!D70,\" \")","v":0},{"$f":"IF(('ED272 Students YTD by Squadron'!$A70)<>0,'ED272A Classes YTD by Squadron'!E70,\" \")","v":0}]
[{"$f":"IF(('ED272 Students YTD by Squadron'!$A71)<>0,'ED272 Students YTD by Squadron'!A71,\" \")","v":5},{"$f":"IF(('ED272 Students YTD by Squadron'!$A71)<>0,'ED272 Students YTD by Squadron'!B71,\" \")","v":2205},{"$f":"IF(('ED272 Students YTD by Squadron'!$A71)<>0,'ED272 Students YTD by Squadron'!C71,\" \")","v":"Hampton Roads Power Squad"},{"$f":"IF(('ED272 Students YTD by Squadron'!$A71)<>0,'ED272 Students YTD by Squadron'!D71,\" \")","v":0},{"$f":"IF(('ED272 Students YTD by Squadron'!$A71)<>0,'ED272 Students YTD by Squadron'!E71,\" \")","v":4},{"$f":"IF(('ED272 Students YTD by Squadron'!$A71)<>0,'ED272 Students YTD by Squadron'!F71,\" \")","v":0},{"$f":"IF(('ED272 Students YTD by Squadron'!$A71)<>0,'ED272 Students YTD by Squadron'!G71,\" \")","v":4},{"$f":"IF(('ED272 Students YTD by Squadron'!$A71)<>0,'ED272 Students YTD by Squadron'!H71,\" \")","v":0},{"$f":"IF(('ED272 Students YTD by Squadron'!$A71)<>0,'ED272 Students YTD by Squadron'!I71,\" \")","v":4},{"$f":"IF(('ED272 Students YTD by Squadron'!$A71)<>0,'ED272A Classes YTD by Squadron'!D71,\" \")","v":0},{"$f":"IF(('ED272 Students YTD by Squadron'!$A71)<>0,'ED272A Classes YTD by Squadron'!E71,\" \")","v":1}]
[{"$f":"IF(('ED272 Students YTD by Squadron'!$A72)<>0,'ED272 Students YTD by Squadron'!A72,\" \")","v":5},{"$f":"IF(('ED272 Students YTD by Squadron'!$A72)<>0,'ED272 Students YTD by Squadron'!B72,\" \")","v":2590},{"$f":"IF(('ED272 Students YTD by Squadron'!$A72)<>0,'ED272 Students YTD by Squadron'!C72,\" \")","v":"Kent Narrows Sail & Power"},{"$f":"IF(('ED272 Students YTD by Squadron'!$A72)<>0,'ED272 Students YTD by Squadron'!D72,\" \")","v":13},{"$f":"IF(('ED272 Students YTD by Squadron'!$A72)<>0,'ED272 Students YTD by Squadron'!E72,\" \")","v":12},{"$f":"IF(('ED272 Students YTD by Squadron'!$A72)<>0,'ED272 Students YTD by Squadron'!F72,\" \")","v":6},{"$f":"IF(('ED272 Students YTD by Squadron'!$A72)<>0,'ED272 Students YTD by Squadron'!G72,\" \")","v":9},{"$f":"IF(('ED272 Students YTD by Squadron'!$A72)<>0,'ED272 Students YTD by Squadron'!H72,\" \")","v":6},{"$f":"IF(('ED272 Students YTD by Squadron'!$A72)<>0,'ED272 Students YTD by Squadron'!I72,\" \")","v":9},{"$f":"IF(('ED272 Students YTD by Squadron'!$A72)<>0,'ED272A Classes YTD by Squadron'!D72,\" \")","v":1},{"$f":"IF(('ED272 Students YTD by Squadron'!$A72)<>0,'ED272A Classes YTD by Squadron'!E72,\" \")","v":2}]
[{"$f":"IF(('ED272 Students YTD by Squadron'!$A73)<>0,'ED272 Students YTD by Squadron'!A73,\" \")","v":5},{"$f":"IF(('ED272 Students YTD by Squadron'!$A73)<>0,'ED272 Students YTD by Squadron'!B73,\" \")","v":2685},{"$f":"IF(('ED272 Students YTD by Squadron'!$A73)<>0,'ED272 Students YTD by Squadron'!C73,\" \")","v":"Kingsway Power Squadron  "},{"$f":"IF(('ED272 Students YTD by Squadron'!$A73)<>0,'ED272 Students YTD by Squadron'!D73,\" \")","v":0},{"$f":"IF(('ED272 Students YTD by Squadron'!$A73)<>0,'ED272 Students YTD by Squadron'!E73,\" \")","v":0},{"$f":"IF(('ED272 Students YTD by Squadron'!$A73)<>0,'ED272 Students YTD by Squadron'!F73,\" \")","v":0},{"$f":"IF(('ED272 Students YTD by Squadron'!$A73)<>0,'ED272 Students YTD by Squadron'!G73,\" \")","v":0},{"$f":"IF(('ED272 Students YTD by Squadron'!$A73)<>0,'ED272 Students YTD by Squadron'!H73,\" \")","v":0},{"$f":"IF(('ED272 Students YTD by Squadron'!$A73)<>0,'ED272 Students YTD by Squadron'!I73,\" \")","v":0},{"$f":"IF(('ED272 Students YTD by Squadron'!$A73)<>0,'ED272A Classes YTD by Squadron'!D73,\" \")","v":0},{"$f":"IF(('ED272 Students YTD by Squadron'!$A73)<>0,'ED272A Classes YTD by Squadron'!E73,\" \")","v":0}]
[{"$f":"IF(('ED272 Students YTD by Squadron'!$A74)<>0,'ED272 Students YTD by Squadron'!A74,\" \")","v":5},{"$f":"IF(('ED272 Students YTD by Squadron'!$A74)<>0,'ED272 Students YTD by Squadron'!B74,\" \")","v":3045},{"$f":"IF(('ED272 Students YTD by Squadron'!$A74)<>0,'ED272 Students YTD by Squadron'!C74,\" \")","v":"Main Line Power Squadron "},{"$f":"IF(('ED272 Students YTD by Squadron'!$A74)<>0,'ED272 Students YTD by Squadron'!D74,\" \")","v":68},{"$f":"IF(('ED272 Students YTD by Squadron'!$A74)<>0,'ED272 Students YTD by Squadron'!E74,\" \")","v":47},{"$f":"IF(('ED272 Students YTD by Squadron'!$A74)<>0,'ED272 Students YTD by Squadron'!F74,\" \")","v":67},{"$f":"IF(('ED272 Students YTD by Squadron'!$A74)<>0,'ED272 Students YTD by Squadron'!G74,\" \")","v":47},{"$f":"IF(('ED272 Students YTD by Squadron'!$A74)<>0,'ED272 Students YTD by Squadron'!H74,\" \")","v":67},{"$f":"IF(('ED272 Students YTD by Squadron'!$A74)<>0,'ED272 Students YTD by Squadron'!I74,\" \")","v":47},{"$f":"IF(('ED272 Students YTD by Squadron'!$A74)<>0,'ED272A Classes YTD by Squadron'!D74,\" \")","v":9},{"$f":"IF(('ED272 Students YTD by Squadron'!$A74)<>0,'ED272A Classes YTD by Squadron'!E74,\" \")","v":8}]
[{"$f":"IF(('ED272 Students YTD by Squadron'!$A75)<>0,'ED272 Students YTD by Squadron'!A75,\" \")","v":5},{"$f":"IF(('ED272 Students YTD by Squadron'!$A75)<>0,'ED272 Students YTD by Squadron'!B75,\" \")","v":3340},{"$f":"IF(('ED272 Students YTD by Squadron'!$A75)<>0,'ED272 Students YTD by Squadron'!C75,\" \")","v":"Mid-Potomac Power Squad  "},{"$f":"IF(('ED272 Students YTD by Squadron'!$A75)<>0,'ED272 Students YTD by Squadron'!D75,\" \")","v":8},{"$f":"IF(('ED272 Students YTD by Squadron'!$A75)<>0,'ED272 Students YTD by Squadron'!E75,\" \")","v":8},{"$f":"IF(('ED272 Students YTD by Squadron'!$A75)<>0,'ED272 Students YTD by Squadron'!F75,\" \")","v":8},{"$f":"IF(('ED272 Students YTD by Squadron'!$A75)<>0,'ED272 Students YTD by Squadron'!G75,\" \")","v":6},{"$f":"IF(('ED272 Students YTD by Squadron'!$A75)<>0,'ED272 Students YTD by Squadron'!H75,\" \")","v":8},{"$f":"IF(('ED272 Students YTD by Squadron'!$A75)<>0,'ED272 Students YTD by Squadron'!I75,\" \")","v":6},{"$f":"IF(('ED272 Students YTD by Squadron'!$A75)<>0,'ED272A Classes YTD by Squadron'!D75,\" \")","v":1},{"$f":"IF(('ED272 Students YTD by Squadron'!$A75)<>0,'ED272A Classes YTD by Squadron'!E75,\" \")","v":2}]
[{"$f":"IF(('ED272 Students YTD by Squadron'!$A76)<>0,'ED272 Students YTD by Squadron'!A76,\" \")","v":5},{"$f":"IF(('ED272 Students YTD by Squadron'!$A76)<>0,'ED272 Students YTD by Squadron'!B76,\" \")","v":3360},{"$f":"IF(('ED272 Students YTD by Squadron'!$A76)<>0,'ED272 Students YTD by Squadron'!C76,\" \")","v":"Miles River Sail & Power "},{"$f":"IF(('ED272 Students YTD by Squadron'!$A76)<>0,'ED272 Students YTD by Squadron'!D76,\" \")","v":0},{"$f":"IF(('ED272 Students YTD by Squadron'!$A76)<>0,'ED272 Students YTD by Squadron'!E76,\" \")","v":0},{"$f":"IF(('ED272 Students YTD by Squadron'!$A76)<>0,'ED272 Students YTD by Squadron'!F76,\" \")","v":0},{"$f":"IF(('ED272 Students YTD by Squadron'!$A76)<>0,'ED272 Students YTD by Squadron'!G76,\" \")","v":0},{"$f":"IF(('ED272 Students YTD by Squadron'!$A76)<>0,'ED272 Students YTD by Squadron'!H76,\" \")","v":0},{"$f":"IF(('ED272 Students YTD by Squadron'!$A76)<>0,'ED272 Students YTD by Squadron'!I76,\" \")","v":0},{"$f":"IF(('ED272 Students YTD by Squadron'!$A76)<>0,'ED272A Classes YTD by Squadron'!D76,\" \")","v":0},{"$f":"IF(('ED272 Students YTD by Squadron'!$A76)<>0,'ED272A Classes YTD by Squadron'!E76,\" \")","v":0}]
[{"$f":"IF(('ED272 Students YTD by Squadron'!$A77)<>0,'ED272 Students YTD by Squadron'!A77,\" \")","v":5},{"$f":"IF(('ED272 Students YTD by Squadron'!$A77)<>0,'ED272 Students YTD by Squadron'!B77,\" \")","v":3600},{"$f":"IF(('ED272 Students YTD by Squadron'!$A77)<>0,'ED272 Students YTD by Squadron'!C77,\" \")","v":"Nansemond River Power Sqd"},{"$f":"IF(('ED272 Students YTD by Squadron'!$A77)<>0,'ED272 Students YTD by Squadron'!D77,\" \")","v":20},{"$f":"IF(('ED272 Students YTD by Squadron'!$A77)<>0,'ED272 Students YTD by Squadron'!E77,\" \")","v":14},{"$f":"IF(('ED272 Students YTD by Squadron'!$A77)<>0,'ED272 Students YTD by Squadron'!F77,\" \")","v":20},{"$f":"IF(('ED272 Students YTD by Squadron'!$A77)<>0,'ED272 Students YTD by Squadron'!G77,\" \")","v":14},{"$f":"IF(('ED272 Students YTD by Squadron'!$A77)<>0,'ED272 Students YTD by Squadron'!H77,\" \")","v":20},{"$f":"IF(('ED272 Students YTD by Squadron'!$A77)<>0,'ED272 Students YTD by Squadron'!I77,\" \")","v":14},{"$f":"IF(('ED272 Students YTD by Squadron'!$A77)<>0,'ED272A Classes YTD by Squadron'!D77,\" \")","v":2},{"$f":"IF(('ED272 Students YTD by Squadron'!$A77)<>0,'ED272A Classes YTD by Squadron'!E77,\" \")","v":2}]
[{"$f":"IF(('ED272 Students YTD by Squadron'!$A78)<>0,'ED272 Students YTD by Squadron'!A78,\" \")","v":5},{"$f":"IF(('ED272 Students YTD by Squadron'!$A78)<>0,'ED272 Students YTD by Squadron'!B78,\" \")","v":3605},{"$f":"IF(('ED272 Students YTD by Squadron'!$A78)<>0,'ED272 Students YTD by Squadron'!C78,\" \")","v":"Nanticoke River Sail &   "},{"$f":"IF(('ED272 Students YTD by Squadron'!$A78)<>0,'ED272 Students YTD by Squadron'!D78,\" \")","v":0},{"$f":"IF(('ED272 Students YTD by Squadron'!$A78)<>0,'ED272 Students YTD by Squadron'!E78,\" \")","v":0},{"$f":"IF(('ED272 Students YTD by Squadron'!$A78)<>0,'ED272 Students YTD by Squadron'!F78,\" \")","v":0},{"$f":"IF(('ED272 Students YTD by Squadron'!$A78)<>0,'ED272 Students YTD by Squadron'!G78,\" \")","v":0},{"$f":"IF(('ED272 Students YTD by Squadron'!$A78)<>0,'ED272 Students YTD by Squadron'!H78,\" \")","v":0},{"$f":"IF(('ED272 Students YTD by Squadron'!$A78)<>0,'ED272 Students YTD by Squadron'!I78,\" \")","v":0},{"$f":"IF(('ED272 Students YTD by Squadron'!$A78)<>0,'ED272A Classes YTD by Squadron'!D78,\" \")","v":0},{"$f":"IF(('ED272 Students YTD by Squadron'!$A78)<>0,'ED272A Classes YTD by Squadron'!E78,\" \")","v":0}]
[{"$f":"IF(('ED272 Students YTD by Squadron'!$A79)<>0,'ED272 Students YTD by Squadron'!A79,\" \")","v":5},{"$f":"IF(('ED272 Students YTD by Squadron'!$A79)<>0,'ED272 Students YTD by Squadron'!B79,\" \")","v":3850},{"$f":"IF(('ED272 Students YTD by Squadron'!$A79)<>0,'ED272 Students YTD by Squadron'!C79,\" \")","v":"Northern Neck Sail &     "},{"$f":"IF(('ED272 Students YTD by Squadron'!$A79)<>0,'ED272 Students YTD by Squadron'!D79,\" \")","v":0},{"$f":"IF(('ED272 Students YTD by Squadron'!$A79)<>0,'ED272 Students YTD by Squadron'!E79,\" \")","v":0},{"$f":"IF(('ED272 Students YTD by Squadron'!$A79)<>0,'ED272 Students YTD by Squadron'!F79,\" \")","v":0},{"$f":"IF(('ED272 Students YTD by Squadron'!$A79)<>0,'ED272 Students YTD by Squadron'!G79,\" \")","v":0},{"$f":"IF(('ED272 Students YTD by Squadron'!$A79)<>0,'ED272 Students YTD by Squadron'!H79,\" \")","v":0},{"$f":"IF(('ED272 Students YTD by Squadron'!$A79)<>0,'ED272 Students YTD by Squadron'!I79,\" \")","v":0},{"$f":"IF(('ED272 Students YTD by Squadron'!$A79)<>0,'ED272A Classes YTD by Squadron'!D79,\" \")","v":0},{"$f":"IF(('ED272 Students YTD by Squadron'!$A79)<>0,'ED272A Classes YTD by Squadron'!E79,\" \")","v":0}]
[{"$f":"IF(('ED272 Students YTD by Squadron'!$A80)<>0,'ED272 Students YTD by Squadron'!A80,\" \")","v":5},{"$f":"IF(('ED272 Students YTD by Squadron'!$A80)<>0,'ED272 Students YTD by Squadron'!B80,\" \")","v":3870},{"$f":"IF(('ED272 Students YTD by Squadron'!$A80)<>0,'ED272 Students YTD by Squadron'!C80,\" \")","v":"Northrn Virginia Sail &  "},{"$f":"IF(('ED272 Students YTD by Squadron'!$A80)<>0,'ED272 Students YTD by Squadron'!D80,\" \")","v":0},{"$f":"IF(('ED272 Students YTD by Squadron'!$A80)<>0,'ED272 Students YTD by Squadron'!E80,\" \")","v":0},{"$f":"IF(('ED272 Students YTD by Squadron'!$A80)<>0,'ED272 Students YTD by Squadron'!F80,\" \")","v":0},{"$f":"IF(('ED272 Students YTD by Squadron'!$A80)<>0,'ED272 Students YTD by Squadron'!G80,\" \")","v":0},{"$f":"IF(('ED272 Students YTD by Squadron'!$A80)<>0,'ED272 Students YTD by Squadron'!H80,\" \")","v":0},{"$f":"IF(('ED272 Students YTD by Squadron'!$A80)<>0,'ED272 Students YTD by Squadron'!I80,\" \")","v":0},{"$f":"IF(('ED272 Students YTD by Squadron'!$A80)<>0,'ED272A Classes YTD by Squadron'!D80,\" \")","v":0},{"$f":"IF(('ED272 Students YTD by Squadron'!$A80)<>0,'ED272A Classes YTD by Squadron'!E80,\" \")","v":0}]
[{"$f":"IF(('ED272 Students YTD by Squadron'!$A81)<>0,'ED272 Students YTD by Squadron'!A81,\" \")","v":5},{"$f":"IF(('ED272 Students YTD by Squadron'!$A81)<>0,'ED272 Students YTD by Squadron'!B81,\" \")","v":3980},{"$f":"IF(('ED272 Students YTD by Squadron'!$A81)<>0,'ED272 Students YTD by Squadron'!C81,\" \")","v":"Ocean City Power Squadron"},{"$f":"IF(('ED272 Students YTD by Squadron'!$A81)<>0,'ED272 Students YTD by Squadron'!D81,\" \")","v":44},{"$f":"IF(('ED272 Students YTD by Squadron'!$A81)<>0,'ED272 Students YTD by Squadron'!E81,\" \")","v":29},{"$f":"IF(('ED272 Students YTD by Squadron'!$A81)<>0,'ED272 Students YTD by Squadron'!F81,\" \")","v":26},{"$f":"IF(('ED272 Students YTD by Squadron'!$A81)<>0,'ED272 Students YTD by Squadron'!G81,\" \")","v":29},{"$f":"IF(('ED272 Students YTD by Squadron'!$A81)<>0,'ED272 Students YTD by Squadron'!H81,\" \")","v":26},{"$f":"IF(('ED272 Students YTD by Squadron'!$A81)<>0,'ED272 Students YTD by Squadron'!I81,\" \")","v":29},{"$f":"IF(('ED272 Students YTD by Squadron'!$A81)<>0,'ED272A Classes YTD by Squadron'!D81,\" \")","v":3},{"$f":"IF(('ED272 Students YTD by Squadron'!$A81)<>0,'ED272A Classes YTD by Squadron'!E81,\" \")","v":2}]
[{"$f":"IF(('ED272 Students YTD by Squadron'!$A82)<>0,'ED272 Students YTD by Squadron'!A82,\" \")","v":5},{"$f":"IF(('ED272 Students YTD by Squadron'!$A82)<>0,'ED272 Students YTD by Squadron'!B82,\" \")","v":4200},{"$f":"IF(('ED272 Students YTD by Squadron'!$A82)<>0,'ED272 Students YTD by Squadron'!C82,\" \")","v":"Patapsco River Power Sqd "},{"$f":"IF(('ED272 Students YTD by Squadron'!$A82)<>0,'ED272 Students YTD by Squadron'!D82,\" \")","v":15},{"$f":"IF(('ED272 Students YTD by Squadron'!$A82)<>0,'ED272 Students YTD by Squadron'!E82,\" \")","v":19},{"$f":"IF(('ED272 Students YTD by Squadron'!$A82)<>0,'ED272 Students YTD by Squadron'!F82,\" \")","v":9},{"$f":"IF(('ED272 Students YTD by Squadron'!$A82)<>0,'ED272 Students YTD by Squadron'!G82,\" \")","v":16},{"$f":"IF(('ED272 Students YTD by Squadron'!$A82)<>0,'ED272 Students YTD by Squadron'!H82,\" \")","v":9},{"$f":"IF(('ED272 Students YTD by Squadron'!$A82)<>0,'ED272 Students YTD by Squadron'!I82,\" \")","v":16},{"$f":"IF(('ED272 Students YTD by Squadron'!$A82)<>0,'ED272A Classes YTD by Squadron'!D82,\" \")","v":3},{"$f":"IF(('ED272 Students YTD by Squadron'!$A82)<>0,'ED272A Classes YTD by Squadron'!E82,\" \")","v":1}]
[{"$f":"IF(('ED272 Students YTD by Squadron'!$A83)<>0,'ED272 Students YTD by Squadron'!A83,\" \")","v":5},{"$f":"IF(('ED272 Students YTD by Squadron'!$A83)<>0,'ED272 Students YTD by Squadron'!B83,\" \")","v":4230},{"$f":"IF(('ED272 Students YTD by Squadron'!$A83)<>0,'ED272 Students YTD by Squadron'!C83,\" \")","v":"Patuxent River Sail &    "},{"$f":"IF(('ED272 Students YTD by Squadron'!$A83)<>0,'ED272 Students YTD by Squadron'!D83,\" \")","v":27},{"$f":"IF(('ED272 Students YTD by Squadron'!$A83)<>0,'ED272 Students YTD by Squadron'!E83,\" \")","v":10},{"$f":"IF(('ED272 Students YTD by Squadron'!$A83)<>0,'ED272 Students YTD by Squadron'!F83,\" \")","v":16},{"$f":"IF(('ED272 Students YTD by Squadron'!$A83)<>0,'ED272 Students YTD by Squadron'!G83,\" \")","v":7},{"$f":"IF(('ED272 Students YTD by Squadron'!$A83)<>0,'ED272 Students YTD by Squadron'!H83,\" \")","v":16},{"$f":"IF(('ED272 Students YTD by Squadron'!$A83)<>0,'ED272 Students YTD by Squadron'!I83,\" \")","v":7},{"$f":"IF(('ED272 Students YTD by Squadron'!$A83)<>0,'ED272A Classes YTD by Squadron'!D83,\" \")","v":3},{"$f":"IF(('ED272 Students YTD by Squadron'!$A83)<>0,'ED272A Classes YTD by Squadron'!E83,\" \")","v":1}]
[{"$f":"IF(('ED272 Students YTD by Squadron'!$A84)<>0,'ED272 Students YTD by Squadron'!A84,\" \")","v":5},{"$f":"IF(('ED272 Students YTD by Squadron'!$A84)<>0,'ED272 Students YTD by Squadron'!B84,\" \")","v":4545},{"$f":"IF(('ED272 Students YTD by Squadron'!$A84)<>0,'ED272 Students YTD by Squadron'!C84,\" \")","v":"Potomac River Power Sqd  "},{"$f":"IF(('ED272 Students YTD by Squadron'!$A84)<>0,'ED272 Students YTD by Squadron'!D84,\" \")","v":8},{"$f":"IF(('ED272 Students YTD by Squadron'!$A84)<>0,'ED272 Students YTD by Squadron'!E84,\" \")","v":17},{"$f":"IF(('ED272 Students YTD by Squadron'!$A84)<>0,'ED272 Students YTD by Squadron'!F84,\" \")","v":6},{"$f":"IF(('ED272 Students YTD by Squadron'!$A84)<>0,'ED272 Students YTD by Squadron'!G84,\" \")","v":14},{"$f":"IF(('ED272 Students YTD by Squadron'!$A84)<>0,'ED272 Students YTD by Squadron'!H84,\" \")","v":6},{"$f":"IF(('ED272 Students YTD by Squadron'!$A84)<>0,'ED272 Students YTD by Squadron'!I84,\" \")","v":14},{"$f":"IF(('ED272 Students YTD by Squadron'!$A84)<>0,'ED272A Classes YTD by Squadron'!D84,\" \")","v":3},{"$f":"IF(('ED272 Students YTD by Squadron'!$A84)<>0,'ED272A Classes YTD by Squadron'!E84,\" \")","v":3}]
[{"$f":"IF(('ED272 Students YTD by Squadron'!$A85)<>0,'ED272 Students YTD by Squadron'!A85,\" \")","v":5},{"$f":"IF(('ED272 Students YTD by Squadron'!$A85)<>0,'ED272 Students YTD by Squadron'!B85,\" \")","v":4710},{"$f":"IF(('ED272 Students YTD by Squadron'!$A85)<>0,'ED272 Students YTD by Squadron'!C85,\" \")","v":"Richmond Sail & Power Sqd"},{"$f":"IF(('ED272 Students YTD by Squadron'!$A85)<>0,'ED272 Students YTD by Squadron'!D85,\" \")","v":0},{"$f":"IF(('ED272 Students YTD by Squadron'!$A85)<>0,'ED272 Students YTD by Squadron'!E85,\" \")","v":0},{"$f":"IF(('ED272 Students YTD by Squadron'!$A85)<>0,'ED272 Students YTD by Squadron'!F85,\" \")","v":0},{"$f":"IF(('ED272 Students YTD by Squadron'!$A85)<>0,'ED272 Students YTD by Squadron'!G85,\" \")","v":0},{"$f":"IF(('ED272 Students YTD by Squadron'!$A85)<>0,'ED272 Students YTD by Squadron'!H85,\" \")","v":0},{"$f":"IF(('ED272 Students YTD by Squadron'!$A85)<>0,'ED272 Students YTD by Squadron'!I85,\" \")","v":0},{"$f":"IF(('ED272 Students YTD by Squadron'!$A85)<>0,'ED272A Classes YTD by Squadron'!D85,\" \")","v":0},{"$f":"IF(('ED272 Students YTD by Squadron'!$A85)<>0,'ED272A Classes YTD by Squadron'!E85,\" \")","v":0}]
[{"$f":"IF(('ED272 Students YTD by Squadron'!$A86)<>0,'ED272 Students YTD by Squadron'!A86,\" \")","v":5},{"$f":"IF(('ED272 Students YTD by Squadron'!$A86)<>0,'ED272 Students YTD by Squadron'!B86,\" \")","v":4785},{"$f":"IF(('ED272 Students YTD by Squadron'!$A86)<>0,'ED272 Students YTD by Squadron'!C86,\" \")","v":"Rockville Sail & Power   "},{"$f":"IF(('ED272 Students YTD by Squadron'!$A86)<>0,'ED272 Students YTD by Squadron'!D86,\" \")","v":0},{"$f":"IF(('ED272 Students YTD by Squadron'!$A86)<>0,'ED272 Students YTD by Squadron'!E86,\" \")","v":4},{"$f":"IF(('ED272 Students YTD by Squadron'!$A86)<>0,'ED272 Students YTD by Squadron'!F86,\" \")","v":0},{"$f":"IF(('ED272 Students YTD by Squadron'!$A86)<>0,'ED272 Students YTD by Squadron'!G86,\" \")","v":4},{"$f":"IF(('ED272 Students YTD by Squadron'!$A86)<>0,'ED272 Students YTD by Squadron'!H86,\" \")","v":0},{"$f":"IF(('ED272 Students YTD by Squadron'!$A86)<>0,'ED272 Students YTD by Squadron'!I86,\" \")","v":4},{"$f":"IF(('ED272 Students YTD by Squadron'!$A86)<>0,'ED272A Classes YTD by Squadron'!D86,\" \")","v":1},{"$f":"IF(('ED272 Students YTD by Squadron'!$A86)<>0,'ED272A Classes YTD by Squadron'!E86,\" \")","v":2}]
[{"$f":"IF(('ED272 Students YTD by Squadron'!$A87)<>0,'ED272 Students YTD by Squadron'!A87,\" \")","v":5},{"$f":"IF(('ED272 Students YTD by Squadron'!$A87)<>0,'ED272 Students YTD by Squadron'!B87,\" \")","v":5055},{"$f":"IF(('ED272 Students YTD by Squadron'!$A87)<>0,'ED272 Students YTD by Squadron'!C87,\" \")","v":"Salisbury Power Squadron "},{"$f":"IF(('ED272 Students YTD by Squadron'!$A87)<>0,'ED272 Students YTD by Squadron'!D87,\" \")","v":6},{"$f":"IF(('ED272 Students YTD by Squadron'!$A87)<>0,'ED272 Students YTD by Squadron'!E87,\" \")","v":3},{"$f":"IF(('ED272 Students YTD by Squadron'!$A87)<>0,'ED272 Students YTD by Squadron'!F87,\" \")","v":5},{"$f":"IF(('ED272 Students YTD by Squadron'!$A87)<>0,'ED272 Students YTD by Squadron'!G87,\" \")","v":3},{"$f":"IF(('ED272 Students YTD by Squadron'!$A87)<>0,'ED272 Students YTD by Squadron'!H87,\" \")","v":5},{"$f":"IF(('ED272 Students YTD by Squadron'!$A87)<>0,'ED272 Students YTD by Squadron'!I87,\" \")","v":3},{"$f":"IF(('ED272 Students YTD by Squadron'!$A87)<>0,'ED272A Classes YTD by Squadron'!D87,\" \")","v":2},{"$f":"IF(('ED272 Students YTD by Squadron'!$A87)<>0,'ED272A Classes YTD by Squadron'!E87,\" \")","v":1}]
[{"$f":"IF(('ED272 Students YTD by Squadron'!$A88)<>0,'ED272 Students YTD by Squadron'!A88,\" \")","v":5},{"$f":"IF(('ED272 Students YTD by Squadron'!$A88)<>0,'ED272 Students YTD by Squadron'!B88,\" \")","v":4860},{"$f":"IF(('ED272 Students YTD by Squadron'!$A88)<>0,'ED272 Students YTD by Squadron'!C88,\" \")","v":"Smith Mtn Lake Sail &    "},{"$f":"IF(('ED272 Students YTD by Squadron'!$A88)<>0,'ED272 Students YTD by Squadron'!D88,\" \")","v":50},{"$f":"IF(('ED272 Students YTD by Squadron'!$A88)<>0,'ED272 Students YTD by Squadron'!E88,\" \")","v":121},{"$f":"IF(('ED272 Students YTD by Squadron'!$A88)<>0,'ED272 Students YTD by Squadron'!F88,\" \")","v":50},{"$f":"IF(('ED272 Students YTD by Squadron'!$A88)<>0,'ED272 Students YTD by Squadron'!G88,\" \")","v":121},{"$f":"IF(('ED272 Students YTD by Squadron'!$A88)<>0,'ED272 Students YTD by Squadron'!H88,\" \")","v":50},{"$f":"IF(('ED272 Students YTD by Squadron'!$A88)<>0,'ED272 Students YTD by Squadron'!I88,\" \")","v":121},{"$f":"IF(('ED272 Students YTD by Squadron'!$A88)<>0,'ED272A Classes YTD by Squadron'!D88,\" \")","v":4},{"$f":"IF(('ED272 Students YTD by Squadron'!$A88)<>0,'ED272A Classes YTD by Squadron'!E88,\" \")","v":6}]
[{"$f":"IF(('ED272 Students YTD by Squadron'!$A89)<>0,'ED272 Students YTD by Squadron'!A89,\" \")","v":5},{"$f":"IF(('ED272 Students YTD by Squadron'!$A89)<>0,'ED272 Students YTD by Squadron'!B89,\" \")","v":5745},{"$f":"IF(('ED272 Students YTD by Squadron'!$A89)<>0,'ED272 Students YTD by Squadron'!C89,\" \")","v":"Susquehannock Power Squad"},{"$f":"IF(('ED272 Students YTD by Squadron'!$A89)<>0,'ED272 Students YTD by Squadron'!D89,\" \")","v":4},{"$f":"IF(('ED272 Students YTD by Squadron'!$A89)<>0,'ED272 Students YTD by Squadron'!E89,\" \")","v":0},{"$f":"IF(('ED272 Students YTD by Squadron'!$A89)<>0,'ED272 Students YTD by Squadron'!F89,\" \")","v":4},{"$f":"IF(('ED272 Students YTD by Squadron'!$A89)<>0,'ED272 Students YTD by Squadron'!G89,\" \")","v":0},{"$f":"IF(('ED272 Students YTD by Squadron'!$A89)<>0,'ED272 Students YTD by Squadron'!H89,\" \")","v":4},{"$f":"IF(('ED272 Students YTD by Squadron'!$A89)<>0,'ED272 Students YTD by Squadron'!I89,\" \")","v":0},{"$f":"IF(('ED272 Students YTD by Squadron'!$A89)<>0,'ED272A Classes YTD by Squadron'!D89,\" \")","v":1},{"$f":"IF(('ED272 Students YTD by Squadron'!$A89)<>0,'ED272A Classes YTD by Squadron'!E89,\" \")","v":1}]
[{"$f":"IF(('ED272 Students YTD by Squadron'!$A90)<>0,'ED272 Students YTD by Squadron'!A90,\" \")","v":5},{"$f":"IF(('ED272 Students YTD by Squadron'!$A90)<>0,'ED272 Students YTD by Squadron'!B90,\" \")","v":6090},{"$f":"IF(('ED272 Students YTD by Squadron'!$A90)<>0,'ED272 Students YTD by Squadron'!C90,\" \")","v":"Virginia Beach Sail &    "},{"$f":"IF(('ED272 Students YTD by Squadron'!$A90)<>0,'ED272 Students YTD by Squadron'!D90,\" \")","v":31},{"$f":"IF(('ED272 Students YTD by Squadron'!$A90)<>0,'ED272 Students YTD by Squadron'!E90,\" \")","v":37},{"$f":"IF(('ED272 Students YTD by Squadron'!$A90)<>0,'ED272 Students YTD by Squadron'!F90,\" \")","v":22},{"$f":"IF(('ED272 Students YTD by Squadron'!$A90)<>0,'ED272 Students YTD by Squadron'!G90,\" \")","v":32},{"$f":"IF(('ED272 Students YTD by Squadron'!$A90)<>0,'ED272 Students YTD by Squadron'!H90,\" \")","v":22},{"$f":"IF(('ED272 Students YTD by Squadron'!$A90)<>0,'ED272 Students YTD by Squadron'!I90,\" \")","v":32},{"$f":"IF(('ED272 Students YTD by Squadron'!$A90)<>0,'ED272A Classes YTD by Squadron'!D90,\" \")","v":4},{"$f":"IF(('ED272 Students YTD by Squadron'!$A90)<>0,'ED272A Classes YTD by Squadron'!E90,\" \")","v":3}]
[{"$f":"IF(('ED272 Students YTD by Squadron'!$A91)<>0,'ED272 Students YTD by Squadron'!A91,\" \")","v":5},{"$f":"IF(('ED272 Students YTD by Squadron'!$A91)<>0,'ED272 Students YTD by Squadron'!B91,\" \")","v":6270},{"$f":"IF(('ED272 Students YTD by Squadron'!$A91)<>0,'ED272 Students YTD by Squadron'!C91,\" \")","v":"Wilmington Power Squadron"},{"$f":"IF(('ED272 Students YTD by Squadron'!$A91)<>0,'ED272 Students YTD by Squadron'!D91,\" \")","v":0},{"$f":"IF(('ED272 Students YTD by Squadron'!$A91)<>0,'ED272 Students YTD by Squadron'!E91,\" \")","v":0},{"$f":"IF(('ED272 Students YTD by Squadron'!$A91)<>0,'ED272 Students YTD by Squadron'!F91,\" \")","v":0},{"$f":"IF(('ED272 Students YTD by Squadron'!$A91)<>0,'ED272 Students YTD by Squadron'!G91,\" \")","v":0},{"$f":"IF(('ED272 Students YTD by Squadron'!$A91)<>0,'ED272 Students YTD by Squadron'!H91,\" \")","v":0},{"$f":"IF(('ED272 Students YTD by Squadron'!$A91)<>0,'ED272 Students YTD by Squadron'!I91,\" \")","v":0},{"$f":"IF(('ED272 Students YTD by Squadron'!$A91)<>0,'ED272A Classes YTD by Squadron'!D91,\" \")","v":0},{"$f":"IF(('ED272 Students YTD by Squadron'!$A91)<>0,'ED272A Classes YTD by Squadron'!E91,\" \")","v":1}]
[{"$f":"IF(('ED272 Students YTD by Squadron'!$A92)<>0,'ED272 Students YTD by Squadron'!A92,\" \")","v":5},{"$f":"IF(('ED272 Students YTD by Squadron'!$A92)<>0,'ED272 Students YTD by Squadron'!B92,\" \")","v":6375},{"$f":"IF(('ED272 Students YTD by Squadron'!$A92)<>0,'ED272 Students YTD by Squadron'!C92,\" \")","v":"York Sail & Power Squad  "},{"$f":"IF(('ED272 Students YTD by Squadron'!$A92)<>0,'ED272 Students YTD by Squadron'!D92,\" \")","v":16},{"$f":"IF(('ED272 Students YTD by Squadron'!$A92)<>0,'ED272 Students YTD by Squadron'!E92,\" \")","v":20},{"$f":"IF(('ED272 Students YTD by Squadron'!$A92)<>0,'ED272 Students YTD by Squadron'!F92,\" \")","v":16},{"$f":"IF(('ED272 Students YTD by Squadron'!$A92)<>0,'ED272 Students YTD by Squadron'!G92,\" \")","v":16},{"$f":"IF(('ED272 Students YTD by Squadron'!$A92)<>0,'ED272 Students YTD by Squadron'!H92,\" \")","v":16},{"$f":"IF(('ED272 Students YTD by Squadron'!$A92)<>0,'ED272 Students YTD by Squadron'!I92,\" \")","v":16},{"$f":"IF(('ED272 Students YTD by Squadron'!$A92)<>0,'ED272A Classes YTD by Squadron'!D92,\" \")","v":2},{"$f":"IF(('ED272 Students YTD by Squadron'!$A92)<>0,'ED272A Classes YTD by Squadron'!E92,\" \")","v":2}]
[{"$f":"IF(('ED272 Students YTD by Squadron'!$A93)<>0,'ED272 Students YTD by Squadron'!A93,\" \")","v":6},{"$f":"IF(('ED272 Students YTD by Squadron'!$A93)<>0,'ED272 Students YTD by Squadron'!B93,\" \")","v":270},{"$f":"IF(('ED272 Students YTD by Squadron'!$A93)<>0,'ED272 Students YTD by Squadron'!C93,\" \")","v":"Auburn Power Squadron    "},{"$f":"IF(('ED272 Students YTD by Squadron'!$A93)<>0,'ED272 Students YTD by Squadron'!D93,\" \")","v":0},{"$f":"IF(('ED272 Students YTD by Squadron'!$A93)<>0,'ED272 Students YTD by Squadron'!E93,\" \")","v":0},{"$f":"IF(('ED272 Students YTD by Squadron'!$A93)<>0,'ED272 Students YTD by Squadron'!F93,\" \")","v":0},{"$f":"IF(('ED272 Students YTD by Squadron'!$A93)<>0,'ED272 Students YTD by Squadron'!G93,\" \")","v":0},{"$f":"IF(('ED272 Students YTD by Squadron'!$A93)<>0,'ED272 Students YTD by Squadron'!H93,\" \")","v":0},{"$f":"IF(('ED272 Students YTD by Squadron'!$A93)<>0,'ED272 Students YTD by Squadron'!I93,\" \")","v":0},{"$f":"IF(('ED272 Students YTD by Squadron'!$A93)<>0,'ED272A Classes YTD by Squadron'!D93,\" \")","v":0},{"$f":"IF(('ED272 Students YTD by Squadron'!$A93)<>0,'ED272A Classes YTD by Squadron'!E93,\" \")","v":0}]
[{"$f":"IF(('ED272 Students YTD by Squadron'!$A94)<>0,'ED272 Students YTD by Squadron'!A94,\" \")","v":6},{"$f":"IF(('ED272 Students YTD by Squadron'!$A94)<>0,'ED272 Students YTD by Squadron'!B94,\" \")","v":705},{"$f":"IF(('ED272 Students YTD by Squadron'!$A94)<>0,'ED272 Students YTD by Squadron'!C94,\" \")","v":"Buffalo Power Squadron   "},{"$f":"IF(('ED272 Students YTD by Squadron'!$A94)<>0,'ED272 Students YTD by Squadron'!D94,\" \")","v":10},{"$f":"IF(('ED272 Students YTD by Squadron'!$A94)<>0,'ED272 Students YTD by Squadron'!E94,\" \")","v":0},{"$f":"IF(('ED272 Students YTD by Squadron'!$A94)<>0,'ED272 Students YTD by Squadron'!F94,\" \")","v":7},{"$f":"IF(('ED272 Students YTD by Squadron'!$A94)<>0,'ED272 Students YTD by Squadron'!G94,\" \")","v":0},{"$f":"IF(('ED272 Students YTD by Squadron'!$A94)<>0,'ED272 Students YTD by Squadron'!H94,\" \")","v":6},{"$f":"IF(('ED272 Students YTD by Squadron'!$A94)<>0,'ED272 Students YTD by Squadron'!I94,\" \")","v":0},{"$f":"IF(('ED272 Students YTD by Squadron'!$A94)<>0,'ED272A Classes YTD by Squadron'!D94,\" \")","v":1},{"$f":"IF(('ED272 Students YTD by Squadron'!$A94)<>0,'ED272A Classes YTD by Squadron'!E94,\" \")","v":0}]
[{"$f":"IF(('ED272 Students YTD by Squadron'!$A95)<>0,'ED272 Students YTD by Squadron'!A95,\" \")","v":6},{"$f":"IF(('ED272 Students YTD by Squadron'!$A95)<>0,'ED272 Students YTD by Squadron'!B95,\" \")","v":2190},{"$f":"IF(('ED272 Students YTD by Squadron'!$A95)<>0,'ED272 Students YTD by Squadron'!C95,\" \")","v":"Hamburg Power Squadron   "},{"$f":"IF(('ED272 Students YTD by Squadron'!$A95)<>0,'ED272 Students YTD by Squadron'!D95,\" \")","v":5},{"$f":"IF(('ED272 Students YTD by Squadron'!$A95)<>0,'ED272 Students YTD by Squadron'!E95,\" \")","v":0},{"$f":"IF(('ED272 Students YTD by Squadron'!$A95)<>0,'ED272 Students YTD by Squadron'!F95,\" \")","v":5},{"$f":"IF(('ED272 Students YTD by Squadron'!$A95)<>0,'ED272 Students YTD by Squadron'!G95,\" \")","v":0},{"$f":"IF(('ED272 Students YTD by Squadron'!$A95)<>0,'ED272 Students YTD by Squadron'!H95,\" \")","v":5},{"$f":"IF(('ED272 Students YTD by Squadron'!$A95)<>0,'ED272 Students YTD by Squadron'!I95,\" \")","v":0},{"$f":"IF(('ED272 Students YTD by Squadron'!$A95)<>0,'ED272A Classes YTD by Squadron'!D95,\" \")","v":1},{"$f":"IF(('ED272 Students YTD by Squadron'!$A95)<>0,'ED272A Classes YTD by Squadron'!E95,\" \")","v":0}]
[{"$f":"IF(('ED272 Students YTD by Squadron'!$A96)<>0,'ED272 Students YTD by Squadron'!A96,\" \")","v":6},{"$f":"IF(('ED272 Students YTD by Squadron'!$A96)<>0,'ED272 Students YTD by Squadron'!B96,\" \")","v":2455},{"$f":"IF(('ED272 Students YTD by Squadron'!$A96)<>0,'ED272 Students YTD by Squadron'!C96,\" \")","v":"Iroquois Power Squadron  "},{"$f":"IF(('ED272 Students YTD by Squadron'!$A96)<>0,'ED272 Students YTD by Squadron'!D96,\" \")","v":17},{"$f":"IF(('ED272 Students YTD by Squadron'!$A96)<>0,'ED272 Students YTD by Squadron'!E96,\" \")","v":5},{"$f":"IF(('ED272 Students YTD by Squadron'!$A96)<>0,'ED272 Students YTD by Squadron'!F96,\" \")","v":17},{"$f":"IF(('ED272 Students YTD by Squadron'!$A96)<>0,'ED272 Students YTD by Squadron'!G96,\" \")","v":5},{"$f":"IF(('ED272 Students YTD by Squadron'!$A96)<>0,'ED272 Students YTD by Squadron'!H96,\" \")","v":17},{"$f":"IF(('ED272 Students YTD by Squadron'!$A96)<>0,'ED272 Students YTD by Squadron'!I96,\" \")","v":5},{"$f":"IF(('ED272 Students YTD by Squadron'!$A96)<>0,'ED272A Classes YTD by Squadron'!D96,\" \")","v":3},{"$f":"IF(('ED272 Students YTD by Squadron'!$A96)<>0,'ED272A Classes YTD by Squadron'!E96,\" \")","v":2}]
[{"$f":"IF(('ED272 Students YTD by Squadron'!$A97)<>0,'ED272 Students YTD by Squadron'!A97,\" \")","v":6},{"$f":"IF(('ED272 Students YTD by Squadron'!$A97)<>0,'ED272 Students YTD by Squadron'!B97,\" \")","v":2460},{"$f":"IF(('ED272 Students YTD by Squadron'!$A97)<>0,'ED272 Students YTD by Squadron'!C97,\" \")","v":"Ithaca Sail & Power Squad"},{"$f":"IF(('ED272 Students YTD by Squadron'!$A97)<>0,'ED272 Students YTD by Squadron'!D97,\" \")","v":48},{"$f":"IF(('ED272 Students YTD by Squadron'!$A97)<>0,'ED272 Students YTD by Squadron'!E97,\" \")","v":41},{"$f":"IF(('ED272 Students YTD by Squadron'!$A97)<>0,'ED272 Students YTD by Squadron'!F97,\" \")","v":48},{"$f":"IF(('ED272 Students YTD by Squadron'!$A97)<>0,'ED272 Students YTD by Squadron'!G97,\" \")","v":41},{"$f":"IF(('ED272 Students YTD by Squadron'!$A97)<>0,'ED272 Students YTD by Squadron'!H97,\" \")","v":46},{"$f":"IF(('ED272 Students YTD by Squadron'!$A97)<>0,'ED272 Students YTD by Squadron'!I97,\" \")","v":41},{"$f":"IF(('ED272 Students YTD by Squadron'!$A97)<>0,'ED272A Classes YTD by Squadron'!D97,\" \")","v":5},{"$f":"IF(('ED272 Students YTD by Squadron'!$A97)<>0,'ED272A Classes YTD by Squadron'!E97,\" \")","v":5}]
[{"$f":"IF(('ED272 Students YTD by Squadron'!$A98)<>0,'ED272 Students YTD by Squadron'!A98,\" \")","v":6},{"$f":"IF(('ED272 Students YTD by Squadron'!$A98)<>0,'ED272 Students YTD by Squadron'!B98,\" \")","v":2895},{"$f":"IF(('ED272 Students YTD by Squadron'!$A98)<>0,'ED272 Students YTD by Squadron'!C98,\" \")","v":"Lockport Power Squadron  "},{"$f":"IF(('ED272 Students YTD by Squadron'!$A98)<>0,'ED272 Students YTD by Squadron'!D98,\" \")","v":7},{"$f":"IF(('ED272 Students YTD by Squadron'!$A98)<>0,'ED272 Students YTD by Squadron'!E98,\" \")","v":0},{"$f":"IF(('ED272 Students YTD by Squadron'!$A98)<>0,'ED272 Students YTD by Squadron'!F98,\" \")","v":7},{"$f":"IF(('ED272 Students YTD by Squadron'!$A98)<>0,'ED272 Students YTD by Squadron'!G98,\" \")","v":0},{"$f":"IF(('ED272 Students YTD by Squadron'!$A98)<>0,'ED272 Students YTD by Squadron'!H98,\" \")","v":7},{"$f":"IF(('ED272 Students YTD by Squadron'!$A98)<>0,'ED272 Students YTD by Squadron'!I98,\" \")","v":0},{"$f":"IF(('ED272 Students YTD by Squadron'!$A98)<>0,'ED272A Classes YTD by Squadron'!D98,\" \")","v":1},{"$f":"IF(('ED272 Students YTD by Squadron'!$A98)<>0,'ED272A Classes YTD by Squadron'!E98,\" \")","v":0}]
[{"$f":"IF(('ED272 Students YTD by Squadron'!$A99)<>0,'ED272 Students YTD by Squadron'!A99,\" \")","v":6},{"$f":"IF(('ED272 Students YTD by Squadron'!$A99)<>0,'ED272 Students YTD by Squadron'!B99,\" \")","v":3795},{"$f":"IF(('ED272 Students YTD by Squadron'!$A99)<>0,'ED272 Students YTD by Squadron'!C99,\" \")","v":"Niagara                  "},{"$f":"IF(('ED272 Students YTD by Squadron'!$A99)<>0,'ED272 Students YTD by Squadron'!D99,\" \")","v":0},{"$f":"IF(('ED272 Students YTD by Squadron'!$A99)<>0,'ED272 Students YTD by Squadron'!E99,\" \")","v":0},{"$f":"IF(('ED272 Students YTD by Squadron'!$A99)<>0,'ED272 Students YTD by Squadron'!F99,\" \")","v":0},{"$f":"IF(('ED272 Students YTD by Squadron'!$A99)<>0,'ED272 Students YTD by Squadron'!G99,\" \")","v":0},{"$f":"IF(('ED272 Students YTD by Squadron'!$A99)<>0,'ED272 Students YTD by Squadron'!H99,\" \")","v":0},{"$f":"IF(('ED272 Students YTD by Squadron'!$A99)<>0,'ED272 Students YTD by Squadron'!I99,\" \")","v":0},{"$f":"IF(('ED272 Students YTD by Squadron'!$A99)<>0,'ED272A Classes YTD by Squadron'!D99,\" \")","v":0},{"$f":"IF(('ED272 Students YTD by Squadron'!$A99)<>0,'ED272A Classes YTD by Squadron'!E99,\" \")","v":0}]
[{"$f":"IF(('ED272 Students YTD by Squadron'!$A100)<>0,'ED272 Students YTD by Squadron'!A100,\" \")","v":6},{"$f":"IF(('ED272 Students YTD by Squadron'!$A100)<>0,'ED272 Students YTD by Squadron'!B100,\" \")","v":4680},{"$f":"IF(('ED272 Students YTD by Squadron'!$A100)<>0,'ED272 Students YTD by Squadron'!C100,\" \")","v":"Red Jacket Power Squadron"},{"$f":"IF(('ED272 Students YTD by Squadron'!$A100)<>0,'ED272 Students YTD by Squadron'!D100,\" \")","v":1},{"$f":"IF(('ED272 Students YTD by Squadron'!$A100)<>0,'ED272 Students YTD by Squadron'!E100,\" \")","v":0},{"$f":"IF(('ED272 Students YTD by Squadron'!$A100)<>0,'ED272 Students YTD by Squadron'!F100,\" \")","v":0},{"$f":"IF(('ED272 Students YTD by Squadron'!$A100)<>0,'ED272 Students YTD by Squadron'!G100,\" \")","v":0},{"$f":"IF(('ED272 Students YTD by Squadron'!$A100)<>0,'ED272 Students YTD by Squadron'!H100,\" \")","v":0},{"$f":"IF(('ED272 Students YTD by Squadron'!$A100)<>0,'ED272 Students YTD by Squadron'!I100,\" \")","v":0},{"$f":"IF(('ED272 Students YTD by Squadron'!$A100)<>0,'ED272A Classes YTD by Squadron'!D100,\" \")","v":1},{"$f":"IF(('ED272 Students YTD by Squadron'!$A100)<>0,'ED272A Classes YTD by Squadron'!E100,\" \")","v":0}]
[{"$f":"IF(('ED272 Students YTD by Squadron'!$A101)<>0,'ED272 Students YTD by Squadron'!A101,\" \")","v":6},{"$f":"IF(('ED272 Students YTD by Squadron'!$A101)<>0,'ED272 Students YTD by Squadron'!B101,\" \")","v":4755},{"$f":"IF(('ED272 Students YTD by Squadron'!$A101)<>0,'ED272 Students YTD by Squadron'!C101,\" \")","v":"Rochester Power Squadron "},{"$f":"IF(('ED272 Students YTD by Squadron'!$A101)<>0,'ED272 Students YTD by Squadron'!D101,\" \")","v":6},{"$f":"IF(('ED272 Students YTD by Squadron'!$A101)<>0,'ED272 Students YTD by Squadron'!E101,\" \")","v":10},{"$f":"IF(('ED272 Students YTD by Squadron'!$A101)<>0,'ED272 Students YTD by Squadron'!F101,\" \")","v":6},{"$f":"IF(('ED272 Students YTD by Squadron'!$A101)<>0,'ED272 Students YTD by Squadron'!G101,\" \")","v":8},{"$f":"IF(('ED272 Students YTD by Squadron'!$A101)<>0,'ED272 Students YTD by Squadron'!H101,\" \")","v":6},{"$f":"IF(('ED272 Students YTD by Squadron'!$A101)<>0,'ED272 Students YTD by Squadron'!I101,\" \")","v":8},{"$f":"IF(('ED272 Students YTD by Squadron'!$A101)<>0,'ED272A Classes YTD by Squadron'!D101,\" \")","v":4},{"$f":"IF(('ED272 Students YTD by Squadron'!$A101)<>0,'ED272A Classes YTD by Squadron'!E101,\" \")","v":1}]
[{"$f":"IF(('ED272 Students YTD by Squadron'!$A102)<>0,'ED272 Students YTD by Squadron'!A102,\" \")","v":6},{"$f":"IF(('ED272 Students YTD by Squadron'!$A102)<>0,'ED272 Students YTD by Squadron'!B102,\" \")","v":5400},{"$f":"IF(('ED272 Students YTD by Squadron'!$A102)<>0,'ED272 Students YTD by Squadron'!C102,\" \")","v":"Seneca Sail &            "},{"$f":"IF(('ED272 Students YTD by Squadron'!$A102)<>0,'ED272 Students YTD by Squadron'!D102,\" \")","v":3},{"$f":"IF(('ED272 Students YTD by Squadron'!$A102)<>0,'ED272 Students YTD by Squadron'!E102,\" \")","v":7},{"$f":"IF(('ED272 Students YTD by Squadron'!$A102)<>0,'ED272 Students YTD by Squadron'!F102,\" \")","v":3},{"$f":"IF(('ED272 Students YTD by Squadron'!$A102)<>0,'ED272 Students YTD by Squadron'!G102,\" \")","v":7},{"$f":"IF(('ED272 Students YTD by Squadron'!$A102)<>0,'ED272 Students YTD by Squadron'!H102,\" \")","v":3},{"$f":"IF(('ED272 Students YTD by Squadron'!$A102)<>0,'ED272 Students YTD by Squadron'!I102,\" \")","v":7},{"$f":"IF(('ED272 Students YTD by Squadron'!$A102)<>0,'ED272A Classes YTD by Squadron'!D102,\" \")","v":1},{"$f":"IF(('ED272 Students YTD by Squadron'!$A102)<>0,'ED272A Classes YTD by Squadron'!E102,\" \")","v":1}]
[{"$f":"IF(('ED272 Students YTD by Squadron'!$A103)<>0,'ED272 Students YTD by Squadron'!A103,\" \")","v":6},{"$f":"IF(('ED272 Students YTD by Squadron'!$A103)<>0,'ED272 Students YTD by Squadron'!B103,\" \")","v":4980},{"$f":"IF(('ED272 Students YTD by Squadron'!$A103)<>0,'ED272 Students YTD by Squadron'!C103,\" \")","v":"St. Lawrence Power Squad "},{"$f":"IF(('ED272 Students YTD by Squadron'!$A103)<>0,'ED272 Students YTD by Squadron'!D103,\" \")","v":99},{"$f":"IF(('ED272 Students YTD by Squadron'!$A103)<>0,'ED272 Students YTD by Squadron'!E103,\" \")","v":4},{"$f":"IF(('ED272 Students YTD by Squadron'!$A103)<>0,'ED272 Students YTD by Squadron'!F103,\" \")","v":98},{"$f":"IF(('ED272 Students YTD by Squadron'!$A103)<>0,'ED272 Students YTD by Squadron'!G103,\" \")","v":4},{"$f":"IF(('ED272 Students YTD by Squadron'!$A103)<>0,'ED272 Students YTD by Squadron'!H103,\" \")","v":98},{"$f":"IF(('ED272 Students YTD by Squadron'!$A103)<>0,'ED272 Students YTD by Squadron'!I103,\" \")","v":4},{"$f":"IF(('ED272 Students YTD by Squadron'!$A103)<>0,'ED272A Classes YTD by Squadron'!D103,\" \")","v":7},{"$f":"IF(('ED272 Students YTD by Squadron'!$A103)<>0,'ED272A Classes YTD by Squadron'!E103,\" \")","v":1}]
[{"$f":"IF(('ED272 Students YTD by Squadron'!$A104)<>0,'ED272 Students YTD by Squadron'!A104,\" \")","v":6},{"$f":"IF(('ED272 Students YTD by Squadron'!$A104)<>0,'ED272 Students YTD by Squadron'!B104,\" \")","v":5760},{"$f":"IF(('ED272 Students YTD by Squadron'!$A104)<>0,'ED272 Students YTD by Squadron'!C104,\" \")","v":"Susquenango Power Squad  "},{"$f":"IF(('ED272 Students YTD by Squadron'!$A104)<>0,'ED272 Students YTD by Squadron'!D104,\" \")","v":25},{"$f":"IF(('ED272 Students YTD by Squadron'!$A104)<>0,'ED272 Students YTD by Squadron'!E104,\" \")","v":10},{"$f":"IF(('ED272 Students YTD by Squadron'!$A104)<>0,'ED272 Students YTD by Squadron'!F104,\" \")","v":21},{"$f":"IF(('ED272 Students YTD by Squadron'!$A104)<>0,'ED272 Students YTD by Squadron'!G104,\" \")","v":8},{"$f":"IF(('ED272 Students YTD by Squadron'!$A104)<>0,'ED272 Students YTD by Squadron'!H104,\" \")","v":21},{"$f":"IF(('ED272 Students YTD by Squadron'!$A104)<>0,'ED272 Students YTD by Squadron'!I104,\" \")","v":8},{"$f":"IF(('ED272 Students YTD by Squadron'!$A104)<>0,'ED272A Classes YTD by Squadron'!D104,\" \")","v":2},{"$f":"IF(('ED272 Students YTD by Squadron'!$A104)<>0,'ED272A Classes YTD by Squadron'!E104,\" \")","v":1}]
[{"$f":"IF(('ED272 Students YTD by Squadron'!$A105)<>0,'ED272 Students YTD by Squadron'!A105,\" \")","v":6},{"$f":"IF(('ED272 Students YTD by Squadron'!$A105)<>0,'ED272 Students YTD by Squadron'!B105,\" \")","v":5775},{"$f":"IF(('ED272 Students YTD by Squadron'!$A105)<>0,'ED272 Students YTD by Squadron'!C105,\" \")","v":"Swiftwater Power Squadron"},{"$f":"IF(('ED272 Students YTD by Squadron'!$A105)<>0,'ED272 Students YTD by Squadron'!D105,\" \")","v":6},{"$f":"IF(('ED272 Students YTD by Squadron'!$A105)<>0,'ED272 Students YTD by Squadron'!E105,\" \")","v":18},{"$f":"IF(('ED272 Students YTD by Squadron'!$A105)<>0,'ED272 Students YTD by Squadron'!F105,\" \")","v":4},{"$f":"IF(('ED272 Students YTD by Squadron'!$A105)<>0,'ED272 Students YTD by Squadron'!G105,\" \")","v":18},{"$f":"IF(('ED272 Students YTD by Squadron'!$A105)<>0,'ED272 Students YTD by Squadron'!H105,\" \")","v":4},{"$f":"IF(('ED272 Students YTD by Squadron'!$A105)<>0,'ED272 Students YTD by Squadron'!I105,\" \")","v":18},{"$f":"IF(('ED272 Students YTD by Squadron'!$A105)<>0,'ED272A Classes YTD by Squadron'!D105,\" \")","v":1},{"$f":"IF(('ED272 Students YTD by Squadron'!$A105)<>0,'ED272A Classes YTD by Squadron'!E105,\" \")","v":2}]
[{"$f":"IF(('ED272 Students YTD by Squadron'!$A106)<>0,'ED272 Students YTD by Squadron'!A106,\" \")","v":6},{"$f":"IF(('ED272 Students YTD by Squadron'!$A106)<>0,'ED272 Students YTD by Squadron'!B106,\" \")","v":5790},{"$f":"IF(('ED272 Students YTD by Squadron'!$A106)<>0,'ED272 Students YTD by Squadron'!C106,\" \")","v":"Syracuse Sail & Power Sqd"},{"$f":"IF(('ED272 Students YTD by Squadron'!$A106)<>0,'ED272 Students YTD by Squadron'!D106,\" \")","v":34},{"$f":"IF(('ED272 Students YTD by Squadron'!$A106)<>0,'ED272 Students YTD by Squadron'!E106,\" \")","v":40},{"$f":"IF(('ED272 Students YTD by Squadron'!$A106)<>0,'ED272 Students YTD by Squadron'!F106,\" \")","v":27},{"$f":"IF(('ED272 Students YTD by Squadron'!$A106)<>0,'ED272 Students YTD by Squadron'!G106,\" \")","v":36},{"$f":"IF(('ED272 Students YTD by Squadron'!$A106)<>0,'ED272 Students YTD by Squadron'!H106,\" \")","v":26},{"$f":"IF(('ED272 Students YTD by Squadron'!$A106)<>0,'ED272 Students YTD by Squadron'!I106,\" \")","v":36},{"$f":"IF(('ED272 Students YTD by Squadron'!$A106)<>0,'ED272A Classes YTD by Squadron'!D106,\" \")","v":5},{"$f":"IF(('ED272 Students YTD by Squadron'!$A106)<>0,'ED272A Classes YTD by Squadron'!E106,\" \")","v":4}]
[{"$f":"IF(('ED272 Students YTD by Squadron'!$A107)<>0,'ED272 Students YTD by Squadron'!A107,\" \")","v":6},{"$f":"IF(('ED272 Students YTD by Squadron'!$A107)<>0,'ED272 Students YTD by Squadron'!B107,\" \")","v":6000},{"$f":"IF(('ED272 Students YTD by Squadron'!$A107)<>0,'ED272 Students YTD by Squadron'!C107,\" \")","v":"Utica Sail & Power Squad "},{"$f":"IF(('ED272 Students YTD by Squadron'!$A107)<>0,'ED272 Students YTD by Squadron'!D107,\" \")","v":26},{"$f":"IF(('ED272 Students YTD by Squadron'!$A107)<>0,'ED272 Students YTD by Squadron'!E107,\" \")","v":9},{"$f":"IF(('ED272 Students YTD by Squadron'!$A107)<>0,'ED272 Students YTD by Squadron'!F107,\" \")","v":28},{"$f":"IF(('ED272 Students YTD by Squadron'!$A107)<>0,'ED272 Students YTD by Squadron'!G107,\" \")","v":9},{"$f":"IF(('ED272 Students YTD by Squadron'!$A107)<>0,'ED272 Students YTD by Squadron'!H107,\" \")","v":28},{"$f":"IF(('ED272 Students YTD by Squadron'!$A107)<>0,'ED272 Students YTD by Squadron'!I107,\" \")","v":9},{"$f":"IF(('ED272 Students YTD by Squadron'!$A107)<>0,'ED272A Classes YTD by Squadron'!D107,\" \")","v":3},{"$f":"IF(('ED272 Students YTD by Squadron'!$A107)<>0,'ED272A Classes YTD by Squadron'!E107,\" \")","v":3}]
[{"$f":"IF(('ED272 Students YTD by Squadron'!$A108)<>0,'ED272 Students YTD by Squadron'!A108,\" \")","v":7},{"$f":"IF(('ED272 Students YTD by Squadron'!$A108)<>0,'ED272 Students YTD by Squadron'!B108,\" \")","v":45},{"$f":"IF(('ED272 Students YTD by Squadron'!$A108)<>0,'ED272 Students YTD by Squadron'!C108,\" \")","v":"Akron Power Squadron     "},{"$f":"IF(('ED272 Students YTD by Squadron'!$A108)<>0,'ED272 Students YTD by Squadron'!D108,\" \")","v":73},{"$f":"IF(('ED272 Students YTD by Squadron'!$A108)<>0,'ED272 Students YTD by Squadron'!E108,\" \")","v":51},{"$f":"IF(('ED272 Students YTD by Squadron'!$A108)<>0,'ED272 Students YTD by Squadron'!F108,\" \")","v":58},{"$f":"IF(('ED272 Students YTD by Squadron'!$A108)<>0,'ED272 Students YTD by Squadron'!G108,\" \")","v":35},{"$f":"IF(('ED272 Students YTD by Squadron'!$A108)<>0,'ED272 Students YTD by Squadron'!H108,\" \")","v":58},{"$f":"IF(('ED272 Students YTD by Squadron'!$A108)<>0,'ED272 Students YTD by Squadron'!I108,\" \")","v":35},{"$f":"IF(('ED272 Students YTD by Squadron'!$A108)<>0,'ED272A Classes YTD by Squadron'!D108,\" \")","v":5},{"$f":"IF(('ED272 Students YTD by Squadron'!$A108)<>0,'ED272A Classes YTD by Squadron'!E108,\" \")","v":5}]
[{"$f":"IF(('ED272 Students YTD by Squadron'!$A109)<>0,'ED272 Students YTD by Squadron'!A109,\" \")","v":7},{"$f":"IF(('ED272 Students YTD by Squadron'!$A109)<>0,'ED272 Students YTD by Squadron'!B109,\" \")","v":495},{"$f":"IF(('ED272 Students YTD by Squadron'!$A109)<>0,'ED272 Students YTD by Squadron'!C109,\" \")","v":"Berea Power Squadron     "},{"$f":"IF(('ED272 Students YTD by Squadron'!$A109)<>0,'ED272 Students YTD by Squadron'!D109,\" \")","v":41},{"$f":"IF(('ED272 Students YTD by Squadron'!$A109)<>0,'ED272 Students YTD by Squadron'!E109,\" \")","v":35},{"$f":"IF(('ED272 Students YTD by Squadron'!$A109)<>0,'ED272 Students YTD by Squadron'!F109,\" \")","v":32},{"$f":"IF(('ED272 Students YTD by Squadron'!$A109)<>0,'ED272 Students YTD by Squadron'!G109,\" \")","v":33},{"$f":"IF(('ED272 Students YTD by Squadron'!$A109)<>0,'ED272 Students YTD by Squadron'!H109,\" \")","v":32},{"$f":"IF(('ED272 Students YTD by Squadron'!$A109)<>0,'ED272 Students YTD by Squadron'!I109,\" \")","v":33},{"$f":"IF(('ED272 Students YTD by Squadron'!$A109)<>0,'ED272A Classes YTD by Squadron'!D109,\" \")","v":6},{"$f":"IF(('ED272 Students YTD by Squadron'!$A109)<>0,'ED272A Classes YTD by Squadron'!E109,\" \")","v":4}]
[{"$f":"IF(('ED272 Students YTD by Squadron'!$A110)<>0,'ED272 Students YTD by Squadron'!A110,\" \")","v":7},{"$f":"IF(('ED272 Students YTD by Squadron'!$A110)<>0,'ED272 Students YTD by Squadron'!B110,\" \")","v":1125},{"$f":"IF(('ED272 Students YTD by Squadron'!$A110)<>0,'ED272 Students YTD by Squadron'!C110,\" \")","v":"Cleveland Power Squadron "},{"$f":"IF(('ED272 Students YTD by Squadron'!$A110)<>0,'ED272 Students YTD by Squadron'!D110,\" \")","v":0},{"$f":"IF(('ED272 Students YTD by Squadron'!$A110)<>0,'ED272 Students YTD by Squadron'!E110,\" \")","v":0},{"$f":"IF(('ED272 Students YTD by Squadron'!$A110)<>0,'ED272 Students YTD by Squadron'!F110,\" \")","v":0},{"$f":"IF(('ED272 Students YTD by Squadron'!$A110)<>0,'ED272 Students YTD by Squadron'!G110,\" \")","v":0},{"$f":"IF(('ED272 Students YTD by Squadron'!$A110)<>0,'ED272 Students YTD by Squadron'!H110,\" \")","v":0},{"$f":"IF(('ED272 Students YTD by Squadron'!$A110)<>0,'ED272 Students YTD by Squadron'!I110,\" \")","v":0},{"$f":"IF(('ED272 Students YTD by Squadron'!$A110)<>0,'ED272A Classes YTD by Squadron'!D110,\" \")","v":0},{"$f":"IF(('ED272 Students YTD by Squadron'!$A110)<>0,'ED272A Classes YTD by Squadron'!E110,\" \")","v":0}]
[{"$f":"IF(('ED272 Students YTD by Squadron'!$A111)<>0,'ED272 Students YTD by Squadron'!A111,\" \")","v":7},{"$f":"IF(('ED272 Students YTD by Squadron'!$A111)<>0,'ED272 Students YTD by Squadron'!B111,\" \")","v":2555},{"$f":"IF(('ED272 Students YTD by Squadron'!$A111)<>0,'ED272 Students YTD by Squadron'!C111,\" \")","v":"Kanawha River Power Squad"},{"$f":"IF(('ED272 Students YTD by Squadron'!$A111)<>0,'ED272 Students YTD by Squadron'!D111,\" \")","v":0},{"$f":"IF(('ED272 Students YTD by Squadron'!$A111)<>0,'ED272 Students YTD by Squadron'!E111,\" \")","v":0},{"$f":"IF(('ED272 Students YTD by Squadron'!$A111)<>0,'ED272 Students YTD by Squadron'!F111,\" \")","v":0},{"$f":"IF(('ED272 Students YTD by Squadron'!$A111)<>0,'ED272 Students YTD by Squadron'!G111,\" \")","v":0},{"$f":"IF(('ED272 Students YTD by Squadron'!$A111)<>0,'ED272 Students YTD by Squadron'!H111,\" \")","v":0},{"$f":"IF(('ED272 Students YTD by Squadron'!$A111)<>0,'ED272 Students YTD by Squadron'!I111,\" \")","v":0},{"$f":"IF(('ED272 Students YTD by Squadron'!$A111)<>0,'ED272A Classes YTD by Squadron'!D111,\" \")","v":0},{"$f":"IF(('ED272 Students YTD by Squadron'!$A111)<>0,'ED272A Classes YTD by Squadron'!E111,\" \")","v":0}]
[{"$f":"IF(('ED272 Students YTD by Squadron'!$A112)<>0,'ED272 Students YTD by Squadron'!A112,\" \")","v":7},{"$f":"IF(('ED272 Students YTD by Squadron'!$A112)<>0,'ED272 Students YTD by Squadron'!B112,\" \")","v":3090},{"$f":"IF(('ED272 Students YTD by Squadron'!$A112)<>0,'ED272 Students YTD by Squadron'!C112,\" \")","v":"Mansfield Power Squadron "},{"$f":"IF(('ED272 Students YTD by Squadron'!$A112)<>0,'ED272 Students YTD by Squadron'!D112,\" \")","v":16},{"$f":"IF(('ED272 Students YTD by Squadron'!$A112)<>0,'ED272 Students YTD by Squadron'!E112,\" \")","v":14},{"$f":"IF(('ED272 Students YTD by Squadron'!$A112)<>0,'ED272 Students YTD by Squadron'!F112,\" \")","v":16},{"$f":"IF(('ED272 Students YTD by Squadron'!$A112)<>0,'ED272 Students YTD by Squadron'!G112,\" \")","v":14},{"$f":"IF(('ED272 Students YTD by Squadron'!$A112)<>0,'ED272 Students YTD by Squadron'!H112,\" \")","v":16},{"$f":"IF(('ED272 Students YTD by Squadron'!$A112)<>0,'ED272 Students YTD by Squadron'!I112,\" \")","v":14},{"$f":"IF(('ED272 Students YTD by Squadron'!$A112)<>0,'ED272A Classes YTD by Squadron'!D112,\" \")","v":2},{"$f":"IF(('ED272 Students YTD by Squadron'!$A112)<>0,'ED272A Classes YTD by Squadron'!E112,\" \")","v":2}]
[{"$f":"IF(('ED272 Students YTD by Squadron'!$A113)<>0,'ED272 Students YTD by Squadron'!A113,\" \")","v":7},{"$f":"IF(('ED272 Students YTD by Squadron'!$A113)<>0,'ED272 Students YTD by Squadron'!B113,\" \")","v":3330},{"$f":"IF(('ED272 Students YTD by Squadron'!$A113)<>0,'ED272 Students YTD by Squadron'!C113,\" \")","v":"Mid Ohio Valley Power Sqd"},{"$f":"IF(('ED272 Students YTD by Squadron'!$A113)<>0,'ED272 Students YTD by Squadron'!D113,\" \")","v":0},{"$f":"IF(('ED272 Students YTD by Squadron'!$A113)<>0,'ED272 Students YTD by Squadron'!E113,\" \")","v":0},{"$f":"IF(('ED272 Students YTD by Squadron'!$A113)<>0,'ED272 Students YTD by Squadron'!F113,\" \")","v":0},{"$f":"IF(('ED272 Students YTD by Squadron'!$A113)<>0,'ED272 Students YTD by Squadron'!G113,\" \")","v":0},{"$f":"IF(('ED272 Students YTD by Squadron'!$A113)<>0,'ED272 Students YTD by Squadron'!H113,\" \")","v":0},{"$f":"IF(('ED272 Students YTD by Squadron'!$A113)<>0,'ED272 Students YTD by Squadron'!I113,\" \")","v":0},{"$f":"IF(('ED272 Students YTD by Squadron'!$A113)<>0,'ED272A Classes YTD by Squadron'!D113,\" \")","v":0},{"$f":"IF(('ED272 Students YTD by Squadron'!$A113)<>0,'ED272A Classes YTD by Squadron'!E113,\" \")","v":0}]
[{"$f":"IF(('ED272 Students YTD by Squadron'!$A114)<>0,'ED272 Students YTD by Squadron'!A114,\" \")","v":7},{"$f":"IF(('ED272 Students YTD by Squadron'!$A114)<>0,'ED272 Students YTD by Squadron'!B114,\" \")","v":4395},{"$f":"IF(('ED272 Students YTD by Squadron'!$A114)<>0,'ED272 Students YTD by Squadron'!C114,\" \")","v":"Pittsburgh Power Squadron"},{"$f":"IF(('ED272 Students YTD by Squadron'!$A114)<>0,'ED272 Students YTD by Squadron'!D114,\" \")","v":12},{"$f":"IF(('ED272 Students YTD by Squadron'!$A114)<>0,'ED272 Students YTD by Squadron'!E114,\" \")","v":26},{"$f":"IF(('ED272 Students YTD by Squadron'!$A114)<>0,'ED272 Students YTD by Squadron'!F114,\" \")","v":11},{"$f":"IF(('ED272 Students YTD by Squadron'!$A114)<>0,'ED272 Students YTD by Squadron'!G114,\" \")","v":20},{"$f":"IF(('ED272 Students YTD by Squadron'!$A114)<>0,'ED272 Students YTD by Squadron'!H114,\" \")","v":11},{"$f":"IF(('ED272 Students YTD by Squadron'!$A114)<>0,'ED272 Students YTD by Squadron'!I114,\" \")","v":20},{"$f":"IF(('ED272 Students YTD by Squadron'!$A114)<>0,'ED272A Classes YTD by Squadron'!D114,\" \")","v":2},{"$f":"IF(('ED272 Students YTD by Squadron'!$A114)<>0,'ED272A Classes YTD by Squadron'!E114,\" \")","v":4}]
[{"$f":"IF(('ED272 Students YTD by Squadron'!$A115)<>0,'ED272 Students YTD by Squadron'!A115,\" \")","v":7},{"$f":"IF(('ED272 Students YTD by Squadron'!$A115)<>0,'ED272 Students YTD by Squadron'!B115,\" \")","v":4815},{"$f":"IF(('ED272 Students YTD by Squadron'!$A115)<>0,'ED272 Students YTD by Squadron'!C115,\" \")","v":"Rocky River Sail & Power "},{"$f":"IF(('ED272 Students YTD by Squadron'!$A115)<>0,'ED272 Students YTD by Squadron'!D115,\" \")","v":28},{"$f":"IF(('ED272 Students YTD by Squadron'!$A115)<>0,'ED272 Students YTD by Squadron'!E115,\" \")","v":15},{"$f":"IF(('ED272 Students YTD by Squadron'!$A115)<>0,'ED272 Students YTD by Squadron'!F115,\" \")","v":24},{"$f":"IF(('ED272 Students YTD by Squadron'!$A115)<>0,'ED272 Students YTD by Squadron'!G115,\" \")","v":12},{"$f":"IF(('ED272 Students YTD by Squadron'!$A115)<>0,'ED272 Students YTD by Squadron'!H115,\" \")","v":23},{"$f":"IF(('ED272 Students YTD by Squadron'!$A115)<>0,'ED272 Students YTD by Squadron'!I115,\" \")","v":11},{"$f":"IF(('ED272 Students YTD by Squadron'!$A115)<>0,'ED272A Classes YTD by Squadron'!D115,\" \")","v":3},{"$f":"IF(('ED272 Students YTD by Squadron'!$A115)<>0,'ED272A Classes YTD by Squadron'!E115,\" \")","v":3}]
[{"$f":"IF(('ED272 Students YTD by Squadron'!$A116)<>0,'ED272 Students YTD by Squadron'!A116,\" \")","v":7},{"$f":"IF(('ED272 Students YTD by Squadron'!$A116)<>0,'ED272 Students YTD by Squadron'!B116,\" \")","v":5610},{"$f":"IF(('ED272 Students YTD by Squadron'!$A116)<>0,'ED272 Students YTD by Squadron'!C116,\" \")","v":"South Hills Power Squad  "},{"$f":"IF(('ED272 Students YTD by Squadron'!$A116)<>0,'ED272 Students YTD by Squadron'!D116,\" \")","v":0},{"$f":"IF(('ED272 Students YTD by Squadron'!$A116)<>0,'ED272 Students YTD by Squadron'!E116,\" \")","v":0},{"$f":"IF(('ED272 Students YTD by Squadron'!$A116)<>0,'ED272 Students YTD by Squadron'!F116,\" \")","v":0},{"$f":"IF(('ED272 Students YTD by Squadron'!$A116)<>0,'ED272 Students YTD by Squadron'!G116,\" \")","v":0},{"$f":"IF(('ED272 Students YTD by Squadron'!$A116)<>0,'ED272 Students YTD by Squadron'!H116,\" \")","v":0},{"$f":"IF(('ED272 Students YTD by Squadron'!$A116)<>0,'ED272 Students YTD by Squadron'!I116,\" \")","v":0},{"$f":"IF(('ED272 Students YTD by Squadron'!$A116)<>0,'ED272A Classes YTD by Squadron'!D116,\" \")","v":0},{"$f":"IF(('ED272 Students YTD by Squadron'!$A116)<>0,'ED272A Classes YTD by Squadron'!E116,\" \")","v":0}]
[{"$f":"IF(('ED272 Students YTD by Squadron'!$A117)<>0,'ED272 Students YTD by Squadron'!A117,\" \")","v":7},{"$f":"IF(('ED272 Students YTD by Squadron'!$A117)<>0,'ED272 Students YTD by Squadron'!B117,\" \")","v":5685},{"$f":"IF(('ED272 Students YTD by Squadron'!$A117)<>0,'ED272 Students YTD by Squadron'!C117,\" \")","v":"Stark County Power Squad "},{"$f":"IF(('ED272 Students YTD by Squadron'!$A117)<>0,'ED272 Students YTD by Squadron'!D117,\" \")","v":12},{"$f":"IF(('ED272 Students YTD by Squadron'!$A117)<>0,'ED272 Students YTD by Squadron'!E117,\" \")","v":6},{"$f":"IF(('ED272 Students YTD by Squadron'!$A117)<>0,'ED272 Students YTD by Squadron'!F117,\" \")","v":12},{"$f":"IF(('ED272 Students YTD by Squadron'!$A117)<>0,'ED272 Students YTD by Squadron'!G117,\" \")","v":6},{"$f":"IF(('ED272 Students YTD by Squadron'!$A117)<>0,'ED272 Students YTD by Squadron'!H117,\" \")","v":12},{"$f":"IF(('ED272 Students YTD by Squadron'!$A117)<>0,'ED272 Students YTD by Squadron'!I117,\" \")","v":6},{"$f":"IF(('ED272 Students YTD by Squadron'!$A117)<>0,'ED272A Classes YTD by Squadron'!D117,\" \")","v":2},{"$f":"IF(('ED272 Students YTD by Squadron'!$A117)<>0,'ED272A Classes YTD by Squadron'!E117,\" \")","v":1}]
[{"$f":"IF(('ED272 Students YTD by Squadron'!$A118)<>0,'ED272 Students YTD by Squadron'!A118,\" \")","v":7},{"$f":"IF(('ED272 Students YTD by Squadron'!$A118)<>0,'ED272 Students YTD by Squadron'!B118,\" \")","v":5895},{"$f":"IF(('ED272 Students YTD by Squadron'!$A118)<>0,'ED272 Students YTD by Squadron'!C118,\" \")","v":"Ten Mile Power Squadron  "},{"$f":"IF(('ED272 Students YTD by Squadron'!$A118)<>0,'ED272 Students YTD by Squadron'!D118,\" \")","v":8},{"$f":"IF(('ED272 Students YTD by Squadron'!$A118)<>0,'ED272 Students YTD by Squadron'!E118,\" \")","v":26},{"$f":"IF(('ED272 Students YTD by Squadron'!$A118)<>0,'ED272 Students YTD by Squadron'!F118,\" \")","v":8},{"$f":"IF(('ED272 Students YTD by Squadron'!$A118)<>0,'ED272 Students YTD by Squadron'!G118,\" \")","v":26},{"$f":"IF(('ED272 Students YTD by Squadron'!$A118)<>0,'ED272 Students YTD by Squadron'!H118,\" \")","v":8},{"$f":"IF(('ED272 Students YTD by Squadron'!$A118)<>0,'ED272 Students YTD by Squadron'!I118,\" \")","v":26},{"$f":"IF(('ED272 Students YTD by Squadron'!$A118)<>0,'ED272A Classes YTD by Squadron'!D118,\" \")","v":1},{"$f":"IF(('ED272 Students YTD by Squadron'!$A118)<>0,'ED272A Classes YTD by Squadron'!E118,\" \")","v":1}]
[{"$f":"IF(('ED272 Students YTD by Squadron'!$A119)<>0,'ED272 Students YTD by Squadron'!A119,\" \")","v":7},{"$f":"IF(('ED272 Students YTD by Squadron'!$A119)<>0,'ED272 Students YTD by Squadron'!B119,\" \")","v":6060},{"$f":"IF(('ED272 Students YTD by Squadron'!$A119)<>0,'ED272 Students YTD by Squadron'!C119,\" \")","v":"Vermilion Power Squadron "},{"$f":"IF(('ED272 Students YTD by Squadron'!$A119)<>0,'ED272 Students YTD by Squadron'!D119,\" \")","v":12},{"$f":"IF(('ED272 Students YTD by Squadron'!$A119)<>0,'ED272 Students YTD by Squadron'!E119,\" \")","v":8},{"$f":"IF(('ED272 Students YTD by Squadron'!$A119)<>0,'ED272 Students YTD by Squadron'!F119,\" \")","v":12},{"$f":"IF(('ED272 Students YTD by Squadron'!$A119)<>0,'ED272 Students YTD by Squadron'!G119,\" \")","v":8},{"$f":"IF(('ED272 Students YTD by Squadron'!$A119)<>0,'ED272 Students YTD by Squadron'!H119,\" \")","v":12},{"$f":"IF(('ED272 Students YTD by Squadron'!$A119)<>0,'ED272 Students YTD by Squadron'!I119,\" \")","v":8},{"$f":"IF(('ED272 Students YTD by Squadron'!$A119)<>0,'ED272A Classes YTD by Squadron'!D119,\" \")","v":2},{"$f":"IF(('ED272 Students YTD by Squadron'!$A119)<>0,'ED272A Classes YTD by Squadron'!E119,\" \")","v":3}]
[{"$f":"IF(('ED272 Students YTD by Squadron'!$A120)<>0,'ED272 Students YTD by Squadron'!A120,\" \")","v":8},{"$f":"IF(('ED272 Students YTD by Squadron'!$A120)<>0,'ED272 Students YTD by Squadron'!B120,\" \")","v":1230},{"$f":"IF(('ED272 Students YTD by Squadron'!$A120)<>0,'ED272 Students YTD by Squadron'!C120,\" \")","v":"Coral Ridge Power Squad  "},{"$f":"IF(('ED272 Students YTD by Squadron'!$A120)<>0,'ED272 Students YTD by Squadron'!D120,\" \")","v":0},{"$f":"IF(('ED272 Students YTD by Squadron'!$A120)<>0,'ED272 Students YTD by Squadron'!E120,\" \")","v":9},{"$f":"IF(('ED272 Students YTD by Squadron'!$A120)<>0,'ED272 Students YTD by Squadron'!F120,\" \")","v":0},{"$f":"IF(('ED272 Students YTD by Squadron'!$A120)<>0,'ED272 Students YTD by Squadron'!G120,\" \")","v":9},{"$f":"IF(('ED272 Students YTD by Squadron'!$A120)<>0,'ED272 Students YTD by Squadron'!H120,\" \")","v":0},{"$f":"IF(('ED272 Students YTD by Squadron'!$A120)<>0,'ED272 Students YTD by Squadron'!I120,\" \")","v":9},{"$f":"IF(('ED272 Students YTD by Squadron'!$A120)<>0,'ED272A Classes YTD by Squadron'!D120,\" \")","v":0},{"$f":"IF(('ED272 Students YTD by Squadron'!$A120)<>0,'ED272A Classes YTD by Squadron'!E120,\" \")","v":1}]
[{"$f":"IF(('ED272 Students YTD by Squadron'!$A121)<>0,'ED272 Students YTD by Squadron'!A121,\" \")","v":8},{"$f":"IF(('ED272 Students YTD by Squadron'!$A121)<>0,'ED272 Students YTD by Squadron'!B121,\" \")","v":1800},{"$f":"IF(('ED272 Students YTD by Squadron'!$A121)<>0,'ED272 Students YTD by Squadron'!C121,\" \")","v":"Ft. Lauderdale Power Sqd "},{"$f":"IF(('ED272 Students YTD by Squadron'!$A121)<>0,'ED272 Students YTD by Squadron'!D121,\" \")","v":56},{"$f":"IF(('ED272 Students YTD by Squadron'!$A121)<>0,'ED272 Students YTD by Squadron'!E121,\" \")","v":33},{"$f":"IF(('ED272 Students YTD by Squadron'!$A121)<>0,'ED272 Students YTD by Squadron'!F121,\" \")","v":40},{"$f":"IF(('ED272 Students YTD by Squadron'!$A121)<>0,'ED272 Students YTD by Squadron'!G121,\" \")","v":21},{"$f":"IF(('ED272 Students YTD by Squadron'!$A121)<>0,'ED272 Students YTD by Squadron'!H121,\" \")","v":40},{"$f":"IF(('ED272 Students YTD by Squadron'!$A121)<>0,'ED272 Students YTD by Squadron'!I121,\" \")","v":21},{"$f":"IF(('ED272 Students YTD by Squadron'!$A121)<>0,'ED272A Classes YTD by Squadron'!D121,\" \")","v":6},{"$f":"IF(('ED272 Students YTD by Squadron'!$A121)<>0,'ED272A Classes YTD by Squadron'!E121,\" \")","v":6}]
[{"$f":"IF(('ED272 Students YTD by Squadron'!$A122)<>0,'ED272 Students YTD by Squadron'!A122,\" \")","v":8},{"$f":"IF(('ED272 Students YTD by Squadron'!$A122)<>0,'ED272 Students YTD by Squadron'!B122,\" \")","v":2280},{"$f":"IF(('ED272 Students YTD by Squadron'!$A122)<>0,'ED272 Students YTD by Squadron'!C122,\" \")","v":"Hollywood Power Squadron "},{"$f":"IF(('ED272 Students YTD by Squadron'!$A122)<>0,'ED272 Students YTD by Squadron'!D122,\" \")","v":55},{"$f":"IF(('ED272 Students YTD by Squadron'!$A122)<>0,'ED272 Students YTD by Squadron'!E122,\" \")","v":74},{"$f":"IF(('ED272 Students YTD by Squadron'!$A122)<>0,'ED272 Students YTD by Squadron'!F122,\" \")","v":55},{"$f":"IF(('ED272 Students YTD by Squadron'!$A122)<>0,'ED272 Students YTD by Squadron'!G122,\" \")","v":73},{"$f":"IF(('ED272 Students YTD by Squadron'!$A122)<>0,'ED272 Students YTD by Squadron'!H122,\" \")","v":45},{"$f":"IF(('ED272 Students YTD by Squadron'!$A122)<>0,'ED272 Students YTD by Squadron'!I122,\" \")","v":68},{"$f":"IF(('ED272 Students YTD by Squadron'!$A122)<>0,'ED272A Classes YTD by Squadron'!D122,\" \")","v":2},{"$f":"IF(('ED272 Students YTD by Squadron'!$A122)<>0,'ED272A Classes YTD by Squadron'!E122,\" \")","v":3}]
[{"$f":"IF(('ED272 Students YTD by Squadron'!$A123)<>0,'ED272 Students YTD by Squadron'!A123,\" \")","v":8},{"$f":"IF(('ED272 Students YTD by Squadron'!$A123)<>0,'ED272 Students YTD by Squadron'!B123,\" \")","v":2295},{"$f":"IF(('ED272 Students YTD by Squadron'!$A123)<>0,'ED272 Students YTD by Squadron'!C123,\" \")","v":"Homestead Power Squadron "},{"$f":"IF(('ED272 Students YTD by Squadron'!$A123)<>0,'ED272 Students YTD by Squadron'!D123,\" \")","v":0},{"$f":"IF(('ED272 Students YTD by Squadron'!$A123)<>0,'ED272 Students YTD by Squadron'!E123,\" \")","v":0},{"$f":"IF(('ED272 Students YTD by Squadron'!$A123)<>0,'ED272 Students YTD by Squadron'!F123,\" \")","v":0},{"$f":"IF(('ED272 Students YTD by Squadron'!$A123)<>0,'ED272 Students YTD by Squadron'!G123,\" \")","v":0},{"$f":"IF(('ED272 Students YTD by Squadron'!$A123)<>0,'ED272 Students YTD by Squadron'!H123,\" \")","v":0},{"$f":"IF(('ED272 Students YTD by Squadron'!$A123)<>0,'ED272 Students YTD by Squadron'!I123,\" \")","v":0},{"$f":"IF(('ED272 Students YTD by Squadron'!$A123)<>0,'ED272A Classes YTD by Squadron'!D123,\" \")","v":0},{"$f":"IF(('ED272 Students YTD by Squadron'!$A123)<>0,'ED272A Classes YTD by Squadron'!E123,\" \")","v":0}]
[{"$f":"IF(('ED272 Students YTD by Squadron'!$A124)<>0,'ED272 Students YTD by Squadron'!A124,\" \")","v":8},{"$f":"IF(('ED272 Students YTD by Squadron'!$A124)<>0,'ED272 Students YTD by Squadron'!B124,\" \")","v":2625},{"$f":"IF(('ED272 Students YTD by Squadron'!$A124)<>0,'ED272 Students YTD by Squadron'!C124,\" \")","v":"Key West Sail & Power Sqd"},{"$f":"IF(('ED272 Students YTD by Squadron'!$A124)<>0,'ED272 Students YTD by Squadron'!D124,\" \")","v":67},{"$f":"IF(('ED272 Students YTD by Squadron'!$A124)<>0,'ED272 Students YTD by Squadron'!E124,\" \")","v":91},{"$f":"IF(('ED272 Students YTD by Squadron'!$A124)<>0,'ED272 Students YTD by Squadron'!F124,\" \")","v":57},{"$f":"IF(('ED272 Students YTD by Squadron'!$A124)<>0,'ED272 Students YTD by Squadron'!G124,\" \")","v":68},{"$f":"IF(('ED272 Students YTD by Squadron'!$A124)<>0,'ED272 Students YTD by Squadron'!H124,\" \")","v":57},{"$f":"IF(('ED272 Students YTD by Squadron'!$A124)<>0,'ED272 Students YTD by Squadron'!I124,\" \")","v":68},{"$f":"IF(('ED272 Students YTD by Squadron'!$A124)<>0,'ED272A Classes YTD by Squadron'!D124,\" \")","v":6},{"$f":"IF(('ED272 Students YTD by Squadron'!$A124)<>0,'ED272A Classes YTD by Squadron'!E124,\" \")","v":9}]
[{"$f":"IF(('ED272 Students YTD by Squadron'!$A125)<>0,'ED272 Students YTD by Squadron'!A125,\" \")","v":8},{"$f":"IF(('ED272 Students YTD by Squadron'!$A125)<>0,'ED272 Students YTD by Squadron'!B125,\" \")","v":3105},{"$f":"IF(('ED272 Students YTD by Squadron'!$A125)<>0,'ED272 Students YTD by Squadron'!C125,\" \")","v":"Marathon Sail & Power Sqd"},{"$f":"IF(('ED272 Students YTD by Squadron'!$A125)<>0,'ED272 Students YTD by Squadron'!D125,\" \")","v":0},{"$f":"IF(('ED272 Students YTD by Squadron'!$A125)<>0,'ED272 Students YTD by Squadron'!E125,\" \")","v":0},{"$f":"IF(('ED272 Students YTD by Squadron'!$A125)<>0,'ED272 Students YTD by Squadron'!F125,\" \")","v":0},{"$f":"IF(('ED272 Students YTD by Squadron'!$A125)<>0,'ED272 Students YTD by Squadron'!G125,\" \")","v":0},{"$f":"IF(('ED272 Students YTD by Squadron'!$A125)<>0,'ED272 Students YTD by Squadron'!H125,\" \")","v":0},{"$f":"IF(('ED272 Students YTD by Squadron'!$A125)<>0,'ED272 Students YTD by Squadron'!I125,\" \")","v":0},{"$f":"IF(('ED272 Students YTD by Squadron'!$A125)<>0,'ED272A Classes YTD by Squadron'!D125,\" \")","v":0},{"$f":"IF(('ED272 Students YTD by Squadron'!$A125)<>0,'ED272A Classes YTD by Squadron'!E125,\" \")","v":0}]
[{"$f":"IF(('ED272 Students YTD by Squadron'!$A126)<>0,'ED272 Students YTD by Squadron'!A126,\" \")","v":8},{"$f":"IF(('ED272 Students YTD by Squadron'!$A126)<>0,'ED272 Students YTD by Squadron'!B126,\" \")","v":3255},{"$f":"IF(('ED272 Students YTD by Squadron'!$A126)<>0,'ED272 Students YTD by Squadron'!C126,\" \")","v":"Miami Sail & Power Squad "},{"$f":"IF(('ED272 Students YTD by Squadron'!$A126)<>0,'ED272 Students YTD by Squadron'!D126,\" \")","v":0},{"$f":"IF(('ED272 Students YTD by Squadron'!$A126)<>0,'ED272 Students YTD by Squadron'!E126,\" \")","v":0},{"$f":"IF(('ED272 Students YTD by Squadron'!$A126)<>0,'ED272 Students YTD by Squadron'!F126,\" \")","v":0},{"$f":"IF(('ED272 Students YTD by Squadron'!$A126)<>0,'ED272 Students YTD by Squadron'!G126,\" \")","v":0},{"$f":"IF(('ED272 Students YTD by Squadron'!$A126)<>0,'ED272 Students YTD by Squadron'!H126,\" \")","v":0},{"$f":"IF(('ED272 Students YTD by Squadron'!$A126)<>0,'ED272 Students YTD by Squadron'!I126,\" \")","v":0},{"$f":"IF(('ED272 Students YTD by Squadron'!$A126)<>0,'ED272A Classes YTD by Squadron'!D126,\" \")","v":0},{"$f":"IF(('ED272 Students YTD by Squadron'!$A126)<>0,'ED272A Classes YTD by Squadron'!E126,\" \")","v":0}]
[{"$f":"IF(('ED272 Students YTD by Squadron'!$A127)<>0,'ED272 Students YTD by Squadron'!A127,\" \")","v":8},{"$f":"IF(('ED272 Students YTD by Squadron'!$A127)<>0,'ED272 Students YTD by Squadron'!B127,\" \")","v":4170},{"$f":"IF(('ED272 Students YTD by Squadron'!$A127)<>0,'ED272 Students YTD by Squadron'!C127,\" \")","v":"Palm Beach Sail & Power  "},{"$f":"IF(('ED272 Students YTD by Squadron'!$A127)<>0,'ED272 Students YTD by Squadron'!D127,\" \")","v":90},{"$f":"IF(('ED272 Students YTD by Squadron'!$A127)<>0,'ED272 Students YTD by Squadron'!E127,\" \")","v":119},{"$f":"IF(('ED272 Students YTD by Squadron'!$A127)<>0,'ED272 Students YTD by Squadron'!F127,\" \")","v":90},{"$f":"IF(('ED272 Students YTD by Squadron'!$A127)<>0,'ED272 Students YTD by Squadron'!G127,\" \")","v":119},{"$f":"IF(('ED272 Students YTD by Squadron'!$A127)<>0,'ED272 Students YTD by Squadron'!H127,\" \")","v":90},{"$f":"IF(('ED272 Students YTD by Squadron'!$A127)<>0,'ED272 Students YTD by Squadron'!I127,\" \")","v":119},{"$f":"IF(('ED272 Students YTD by Squadron'!$A127)<>0,'ED272A Classes YTD by Squadron'!D127,\" \")","v":12},{"$f":"IF(('ED272 Students YTD by Squadron'!$A127)<>0,'ED272A Classes YTD by Squadron'!E127,\" \")","v":12}]
[{"$f":"IF(('ED272 Students YTD by Squadron'!$A128)<>0,'ED272 Students YTD by Squadron'!A128,\" \")","v":8},{"$f":"IF(('ED272 Students YTD by Squadron'!$A128)<>0,'ED272 Students YTD by Squadron'!B128,\" \")","v":4440},{"$f":"IF(('ED272 Students YTD by Squadron'!$A128)<>0,'ED272 Students YTD by Squadron'!C128,\" \")","v":"Pompano Beach Power Squad"},{"$f":"IF(('ED272 Students YTD by Squadron'!$A128)<>0,'ED272 Students YTD by Squadron'!D128,\" \")","v":96},{"$f":"IF(('ED272 Students YTD by Squadron'!$A128)<>0,'ED272 Students YTD by Squadron'!E128,\" \")","v":85},{"$f":"IF(('ED272 Students YTD by Squadron'!$A128)<>0,'ED272 Students YTD by Squadron'!F128,\" \")","v":83},{"$f":"IF(('ED272 Students YTD by Squadron'!$A128)<>0,'ED272 Students YTD by Squadron'!G128,\" \")","v":74},{"$f":"IF(('ED272 Students YTD by Squadron'!$A128)<>0,'ED272 Students YTD by Squadron'!H128,\" \")","v":83},{"$f":"IF(('ED272 Students YTD by Squadron'!$A128)<>0,'ED272 Students YTD by Squadron'!I128,\" \")","v":74},{"$f":"IF(('ED272 Students YTD by Squadron'!$A128)<>0,'ED272A Classes YTD by Squadron'!D128,\" \")","v":5},{"$f":"IF(('ED272 Students YTD by Squadron'!$A128)<>0,'ED272A Classes YTD by Squadron'!E128,\" \")","v":5}]
[{"$f":"IF(('ED272 Students YTD by Squadron'!$A129)<>0,'ED272 Students YTD by Squadron'!A129,\" \")","v":8},{"$f":"IF(('ED272 Students YTD by Squadron'!$A129)<>0,'ED272 Students YTD by Squadron'!B129,\" \")","v":4510},{"$f":"IF(('ED272 Students YTD by Squadron'!$A129)<>0,'ED272 Students YTD by Squadron'!C129,\" \")","v":"Port St. Lucie Power Sqd "},{"$f":"IF(('ED272 Students YTD by Squadron'!$A129)<>0,'ED272 Students YTD by Squadron'!D129,\" \")","v":26},{"$f":"IF(('ED272 Students YTD by Squadron'!$A129)<>0,'ED272 Students YTD by Squadron'!E129,\" \")","v":6},{"$f":"IF(('ED272 Students YTD by Squadron'!$A129)<>0,'ED272 Students YTD by Squadron'!F129,\" \")","v":24},{"$f":"IF(('ED272 Students YTD by Squadron'!$A129)<>0,'ED272 Students YTD by Squadron'!G129,\" \")","v":6},{"$f":"IF(('ED272 Students YTD by Squadron'!$A129)<>0,'ED272 Students YTD by Squadron'!H129,\" \")","v":24},{"$f":"IF(('ED272 Students YTD by Squadron'!$A129)<>0,'ED272 Students YTD by Squadron'!I129,\" \")","v":6},{"$f":"IF(('ED272 Students YTD by Squadron'!$A129)<>0,'ED272A Classes YTD by Squadron'!D129,\" \")","v":3},{"$f":"IF(('ED272 Students YTD by Squadron'!$A129)<>0,'ED272A Classes YTD by Squadron'!E129,\" \")","v":1}]
[{"$f":"IF(('ED272 Students YTD by Squadron'!$A130)<>0,'ED272 Students YTD by Squadron'!A130,\" \")","v":8},{"$f":"IF(('ED272 Students YTD by Squadron'!$A130)<>0,'ED272 Students YTD by Squadron'!B130,\" \")","v":5371},{"$f":"IF(('ED272 Students YTD by Squadron'!$A130)<>0,'ED272 Students YTD by Squadron'!C130,\" \")","v":"Sebastian Inlet Sail &   "},{"$f":"IF(('ED272 Students YTD by Squadron'!$A130)<>0,'ED272 Students YTD by Squadron'!D130,\" \")","v":28},{"$f":"IF(('ED272 Students YTD by Squadron'!$A130)<>0,'ED272 Students YTD by Squadron'!E130,\" \")","v":48},{"$f":"IF(('ED272 Students YTD by Squadron'!$A130)<>0,'ED272 Students YTD by Squadron'!F130,\" \")","v":25},{"$f":"IF(('ED272 Students YTD by Squadron'!$A130)<>0,'ED272 Students YTD by Squadron'!G130,\" \")","v":43},{"$f":"IF(('ED272 Students YTD by Squadron'!$A130)<>0,'ED272 Students YTD by Squadron'!H130,\" \")","v":25},{"$f":"IF(('ED272 Students YTD by Squadron'!$A130)<>0,'ED272 Students YTD by Squadron'!I130,\" \")","v":43},{"$f":"IF(('ED272 Students YTD by Squadron'!$A130)<>0,'ED272A Classes YTD by Squadron'!D130,\" \")","v":4},{"$f":"IF(('ED272 Students YTD by Squadron'!$A130)<>0,'ED272A Classes YTD by Squadron'!E130,\" \")","v":4}]
[{"$f":"IF(('ED272 Students YTD by Squadron'!$A131)<>0,'ED272 Students YTD by Squadron'!A131,\" \")","v":8},{"$f":"IF(('ED272 Students YTD by Squadron'!$A131)<>0,'ED272 Students YTD by Squadron'!B131,\" \")","v":5010},{"$f":"IF(('ED272 Students YTD by Squadron'!$A131)<>0,'ED272 Students YTD by Squadron'!C131,\" \")","v":"St. Lucie River Power Sqd"},{"$f":"IF(('ED272 Students YTD by Squadron'!$A131)<>0,'ED272 Students YTD by Squadron'!D131,\" \")","v":22},{"$f":"IF(('ED272 Students YTD by Squadron'!$A131)<>0,'ED272 Students YTD by Squadron'!E131,\" \")","v":34},{"$f":"IF(('ED272 Students YTD by Squadron'!$A131)<>0,'ED272 Students YTD by Squadron'!F131,\" \")","v":22},{"$f":"IF(('ED272 Students YTD by Squadron'!$A131)<>0,'ED272 Students YTD by Squadron'!G131,\" \")","v":34},{"$f":"IF(('ED272 Students YTD by Squadron'!$A131)<>0,'ED272 Students YTD by Squadron'!H131,\" \")","v":22},{"$f":"IF(('ED272 Students YTD by Squadron'!$A131)<>0,'ED272 Students YTD by Squadron'!I131,\" \")","v":34},{"$f":"IF(('ED272 Students YTD by Squadron'!$A131)<>0,'ED272A Classes YTD by Squadron'!D131,\" \")","v":5},{"$f":"IF(('ED272 Students YTD by Squadron'!$A131)<>0,'ED272A Classes YTD by Squadron'!E131,\" \")","v":10}]
[{"$f":"IF(('ED272 Students YTD by Squadron'!$A132)<>0,'ED272 Students YTD by Squadron'!A132,\" \")","v":8},{"$f":"IF(('ED272 Students YTD by Squadron'!$A132)<>0,'ED272 Students YTD by Squadron'!B132,\" \")","v":6075},{"$f":"IF(('ED272 Students YTD by Squadron'!$A132)<>0,'ED272 Students YTD by Squadron'!C132,\" \")","v":"Vero Beach Power Squadron"},{"$f":"IF(('ED272 Students YTD by Squadron'!$A132)<>0,'ED272 Students YTD by Squadron'!D132,\" \")","v":89},{"$f":"IF(('ED272 Students YTD by Squadron'!$A132)<>0,'ED272 Students YTD by Squadron'!E132,\" \")","v":73},{"$f":"IF(('ED272 Students YTD by Squadron'!$A132)<>0,'ED272 Students YTD by Squadron'!F132,\" \")","v":89},{"$f":"IF(('ED272 Students YTD by Squadron'!$A132)<>0,'ED272 Students YTD by Squadron'!G132,\" \")","v":73},{"$f":"IF(('ED272 Students YTD by Squadron'!$A132)<>0,'ED272 Students YTD by Squadron'!H132,\" \")","v":89},{"$f":"IF(('ED272 Students YTD by Squadron'!$A132)<>0,'ED272 Students YTD by Squadron'!I132,\" \")","v":73},{"$f":"IF(('ED272 Students YTD by Squadron'!$A132)<>0,'ED272A Classes YTD by Squadron'!D132,\" \")","v":5},{"$f":"IF(('ED272 Students YTD by Squadron'!$A132)<>0,'ED272A Classes YTD by Squadron'!E132,\" \")","v":6}]
[{"$f":"IF(('ED272 Students YTD by Squadron'!$A133)<>0,'ED272 Students YTD by Squadron'!A133,\" \")","v":9},{"$f":"IF(('ED272 Students YTD by Squadron'!$A133)<>0,'ED272 Students YTD by Squadron'!B133,\" \")","v":120},{"$f":"IF(('ED272 Students YTD by Squadron'!$A133)<>0,'ED272 Students YTD by Squadron'!C133,\" \")","v":"Anchor Bay Power Squadron"},{"$f":"IF(('ED272 Students YTD by Squadron'!$A133)<>0,'ED272 Students YTD by Squadron'!D133,\" \")","v":19},{"$f":"IF(('ED272 Students YTD by Squadron'!$A133)<>0,'ED272 Students YTD by Squadron'!E133,\" \")","v":9},{"$f":"IF(('ED272 Students YTD by Squadron'!$A133)<>0,'ED272 Students YTD by Squadron'!F133,\" \")","v":15},{"$f":"IF(('ED272 Students YTD by Squadron'!$A133)<>0,'ED272 Students YTD by Squadron'!G133,\" \")","v":9},{"$f":"IF(('ED272 Students YTD by Squadron'!$A133)<>0,'ED272 Students YTD by Squadron'!H133,\" \")","v":15},{"$f":"IF(('ED272 Students YTD by Squadron'!$A133)<>0,'ED272 Students YTD by Squadron'!I133,\" \")","v":9},{"$f":"IF(('ED272 Students YTD by Squadron'!$A133)<>0,'ED272A Classes YTD by Squadron'!D133,\" \")","v":2},{"$f":"IF(('ED272 Students YTD by Squadron'!$A133)<>0,'ED272A Classes YTD by Squadron'!E133,\" \")","v":1}]
[{"$f":"IF(('ED272 Students YTD by Squadron'!$A134)<>0,'ED272 Students YTD by Squadron'!A134,\" \")","v":9},{"$f":"IF(('ED272 Students YTD by Squadron'!$A134)<>0,'ED272 Students YTD by Squadron'!B134,\" \")","v":180},{"$f":"IF(('ED272 Students YTD by Squadron'!$A134)<>0,'ED272 Students YTD by Squadron'!C134,\" \")","v":"Ann Arbor Power Squadron "},{"$f":"IF(('ED272 Students YTD by Squadron'!$A134)<>0,'ED272 Students YTD by Squadron'!D134,\" \")","v":10},{"$f":"IF(('ED272 Students YTD by Squadron'!$A134)<>0,'ED272 Students YTD by Squadron'!E134,\" \")","v":0},{"$f":"IF(('ED272 Students YTD by Squadron'!$A134)<>0,'ED272 Students YTD by Squadron'!F134,\" \")","v":0},{"$f":"IF(('ED272 Students YTD by Squadron'!$A134)<>0,'ED272 Students YTD by Squadron'!G134,\" \")","v":0},{"$f":"IF(('ED272 Students YTD by Squadron'!$A134)<>0,'ED272 Students YTD by Squadron'!H134,\" \")","v":0},{"$f":"IF(('ED272 Students YTD by Squadron'!$A134)<>0,'ED272 Students YTD by Squadron'!I134,\" \")","v":0},{"$f":"IF(('ED272 Students YTD by Squadron'!$A134)<>0,'ED272A Classes YTD by Squadron'!D134,\" \")","v":2},{"$f":"IF(('ED272 Students YTD by Squadron'!$A134)<>0,'ED272A Classes YTD by Squadron'!E134,\" \")","v":1}]
[{"$f":"IF(('ED272 Students YTD by Squadron'!$A135)<>0,'ED272 Students YTD by Squadron'!A135,\" \")","v":9},{"$f":"IF(('ED272 Students YTD by Squadron'!$A135)<>0,'ED272 Students YTD by Squadron'!B135,\" \")","v":525},{"$f":"IF(('ED272 Students YTD by Squadron'!$A135)<>0,'ED272 Students YTD by Squadron'!C135,\" \")","v":"Birmingham Power Squadron"},{"$f":"IF(('ED272 Students YTD by Squadron'!$A135)<>0,'ED272 Students YTD by Squadron'!D135,\" \")","v":35},{"$f":"IF(('ED272 Students YTD by Squadron'!$A135)<>0,'ED272 Students YTD by Squadron'!E135,\" \")","v":6},{"$f":"IF(('ED272 Students YTD by Squadron'!$A135)<>0,'ED272 Students YTD by Squadron'!F135,\" \")","v":33},{"$f":"IF(('ED272 Students YTD by Squadron'!$A135)<>0,'ED272 Students YTD by Squadron'!G135,\" \")","v":6},{"$f":"IF(('ED272 Students YTD by Squadron'!$A135)<>0,'ED272 Students YTD by Squadron'!H135,\" \")","v":33},{"$f":"IF(('ED272 Students YTD by Squadron'!$A135)<>0,'ED272 Students YTD by Squadron'!I135,\" \")","v":6},{"$f":"IF(('ED272 Students YTD by Squadron'!$A135)<>0,'ED272A Classes YTD by Squadron'!D135,\" \")","v":9},{"$f":"IF(('ED272 Students YTD by Squadron'!$A135)<>0,'ED272A Classes YTD by Squadron'!E135,\" \")","v":5}]
[{"$f":"IF(('ED272 Students YTD by Squadron'!$A136)<>0,'ED272 Students YTD by Squadron'!A136,\" \")","v":9},{"$f":"IF(('ED272 Students YTD by Squadron'!$A136)<>0,'ED272 Students YTD by Squadron'!B136,\" \")","v":1410},{"$f":"IF(('ED272 Students YTD by Squadron'!$A136)<>0,'ED272 Students YTD by Squadron'!C136,\" \")","v":"Dearborn Sail & Power Sqd"},{"$f":"IF(('ED272 Students YTD by Squadron'!$A136)<>0,'ED272 Students YTD by Squadron'!D136,\" \")","v":15},{"$f":"IF(('ED272 Students YTD by Squadron'!$A136)<>0,'ED272 Students YTD by Squadron'!E136,\" \")","v":12},{"$f":"IF(('ED272 Students YTD by Squadron'!$A136)<>0,'ED272 Students YTD by Squadron'!F136,\" \")","v":13},{"$f":"IF(('ED272 Students YTD by Squadron'!$A136)<>0,'ED272 Students YTD by Squadron'!G136,\" \")","v":8},{"$f":"IF(('ED272 Students YTD by Squadron'!$A136)<>0,'ED272 Students YTD by Squadron'!H136,\" \")","v":13},{"$f":"IF(('ED272 Students YTD by Squadron'!$A136)<>0,'ED272 Students YTD by Squadron'!I136,\" \")","v":8},{"$f":"IF(('ED272 Students YTD by Squadron'!$A136)<>0,'ED272A Classes YTD by Squadron'!D136,\" \")","v":4},{"$f":"IF(('ED272 Students YTD by Squadron'!$A136)<>0,'ED272A Classes YTD by Squadron'!E136,\" \")","v":2}]
[{"$f":"IF(('ED272 Students YTD by Squadron'!$A137)<>0,'ED272 Students YTD by Squadron'!A137,\" \")","v":9},{"$f":"IF(('ED272 Students YTD by Squadron'!$A137)<>0,'ED272 Students YTD by Squadron'!B137,\" \")","v":1515},{"$f":"IF(('ED272 Students YTD by Squadron'!$A137)<>0,'ED272 Students YTD by Squadron'!C137,\" \")","v":"Detroit Power Squadron   "},{"$f":"IF(('ED272 Students YTD by Squadron'!$A137)<>0,'ED272 Students YTD by Squadron'!D137,\" \")","v":26},{"$f":"IF(('ED272 Students YTD by Squadron'!$A137)<>0,'ED272 Students YTD by Squadron'!E137,\" \")","v":47},{"$f":"IF(('ED272 Students YTD by Squadron'!$A137)<>0,'ED272 Students YTD by Squadron'!F137,\" \")","v":19},{"$f":"IF(('ED272 Students YTD by Squadron'!$A137)<>0,'ED272 Students YTD by Squadron'!G137,\" \")","v":36},{"$f":"IF(('ED272 Students YTD by Squadron'!$A137)<>0,'ED272 Students YTD by Squadron'!H137,\" \")","v":19},{"$f":"IF(('ED272 Students YTD by Squadron'!$A137)<>0,'ED272 Students YTD by Squadron'!I137,\" \")","v":36},{"$f":"IF(('ED272 Students YTD by Squadron'!$A137)<>0,'ED272A Classes YTD by Squadron'!D137,\" \")","v":3},{"$f":"IF(('ED272 Students YTD by Squadron'!$A137)<>0,'ED272A Classes YTD by Squadron'!E137,\" \")","v":3}]
[{"$f":"IF(('ED272 Students YTD by Squadron'!$A138)<>0,'ED272 Students YTD by Squadron'!A138,\" \")","v":9},{"$f":"IF(('ED272 Students YTD by Squadron'!$A138)<>0,'ED272 Students YTD by Squadron'!B138,\" \")","v":1755},{"$f":"IF(('ED272 Students YTD by Squadron'!$A138)<>0,'ED272 Students YTD by Squadron'!C138,\" \")","v":"Flint Power Squadron     "},{"$f":"IF(('ED272 Students YTD by Squadron'!$A138)<>0,'ED272 Students YTD by Squadron'!D138,\" \")","v":13},{"$f":"IF(('ED272 Students YTD by Squadron'!$A138)<>0,'ED272 Students YTD by Squadron'!E138,\" \")","v":13},{"$f":"IF(('ED272 Students YTD by Squadron'!$A138)<>0,'ED272 Students YTD by Squadron'!F138,\" \")","v":13},{"$f":"IF(('ED272 Students YTD by Squadron'!$A138)<>0,'ED272 Students YTD by Squadron'!G138,\" \")","v":13},{"$f":"IF(('ED272 Students YTD by Squadron'!$A138)<>0,'ED272 Students YTD by Squadron'!H138,\" \")","v":13},{"$f":"IF(('ED272 Students YTD by Squadron'!$A138)<>0,'ED272 Students YTD by Squadron'!I138,\" \")","v":13},{"$f":"IF(('ED272 Students YTD by Squadron'!$A138)<>0,'ED272A Classes YTD by Squadron'!D138,\" \")","v":1},{"$f":"IF(('ED272 Students YTD by Squadron'!$A138)<>0,'ED272A Classes YTD by Squadron'!E138,\" \")","v":1}]
[{"$f":"IF(('ED272 Students YTD by Squadron'!$A139)<>0,'ED272 Students YTD by Squadron'!A139,\" \")","v":9},{"$f":"IF(('ED272 Students YTD by Squadron'!$A139)<>0,'ED272 Students YTD by Squadron'!B139,\" \")","v":2010},{"$f":"IF(('ED272 Students YTD by Squadron'!$A139)<>0,'ED272 Students YTD by Squadron'!C139,\" \")","v":"Grand Rapids Power Squad "},{"$f":"IF(('ED272 Students YTD by Squadron'!$A139)<>0,'ED272 Students YTD by Squadron'!D139,\" \")","v":16},{"$f":"IF(('ED272 Students YTD by Squadron'!$A139)<>0,'ED272 Students YTD by Squadron'!E139,\" \")","v":6},{"$f":"IF(('ED272 Students YTD by Squadron'!$A139)<>0,'ED272 Students YTD by Squadron'!F139,\" \")","v":15},{"$f":"IF(('ED272 Students YTD by Squadron'!$A139)<>0,'ED272 Students YTD by Squadron'!G139,\" \")","v":6},{"$f":"IF(('ED272 Students YTD by Squadron'!$A139)<>0,'ED272 Students YTD by Squadron'!H139,\" \")","v":15},{"$f":"IF(('ED272 Students YTD by Squadron'!$A139)<>0,'ED272 Students YTD by Squadron'!I139,\" \")","v":6},{"$f":"IF(('ED272 Students YTD by Squadron'!$A139)<>0,'ED272A Classes YTD by Squadron'!D139,\" \")","v":2},{"$f":"IF(('ED272 Students YTD by Squadron'!$A139)<>0,'ED272A Classes YTD by Squadron'!E139,\" \")","v":1}]
[{"$f":"IF(('ED272 Students YTD by Squadron'!$A140)<>0,'ED272 Students YTD by Squadron'!A140,\" \")","v":9},{"$f":"IF(('ED272 Students YTD by Squadron'!$A140)<>0,'ED272 Students YTD by Squadron'!B140,\" \")","v":2025},{"$f":"IF(('ED272 Students YTD by Squadron'!$A140)<>0,'ED272 Students YTD by Squadron'!C140,\" \")","v":"Grand Traverse Bay Sail &"},{"$f":"IF(('ED272 Students YTD by Squadron'!$A140)<>0,'ED272 Students YTD by Squadron'!D140,\" \")","v":28},{"$f":"IF(('ED272 Students YTD by Squadron'!$A140)<>0,'ED272 Students YTD by Squadron'!E140,\" \")","v":18},{"$f":"IF(('ED272 Students YTD by Squadron'!$A140)<>0,'ED272 Students YTD by Squadron'!F140,\" \")","v":27},{"$f":"IF(('ED272 Students YTD by Squadron'!$A140)<>0,'ED272 Students YTD by Squadron'!G140,\" \")","v":18},{"$f":"IF(('ED272 Students YTD by Squadron'!$A140)<>0,'ED272 Students YTD by Squadron'!H140,\" \")","v":26},{"$f":"IF(('ED272 Students YTD by Squadron'!$A140)<>0,'ED272 Students YTD by Squadron'!I140,\" \")","v":16},{"$f":"IF(('ED272 Students YTD by Squadron'!$A140)<>0,'ED272A Classes YTD by Squadron'!D140,\" \")","v":4},{"$f":"IF(('ED272 Students YTD by Squadron'!$A140)<>0,'ED272A Classes YTD by Squadron'!E140,\" \")","v":2}]
[{"$f":"IF(('ED272 Students YTD by Squadron'!$A141)<>0,'ED272 Students YTD by Squadron'!A141,\" \")","v":9},{"$f":"IF(('ED272 Students YTD by Squadron'!$A141)<>0,'ED272 Students YTD by Squadron'!B141,\" \")","v":2160},{"$f":"IF(('ED272 Students YTD by Squadron'!$A141)<>0,'ED272 Students YTD by Squadron'!C141,\" \")","v":"Grosse Pointe Power Squad"},{"$f":"IF(('ED272 Students YTD by Squadron'!$A141)<>0,'ED272 Students YTD by Squadron'!D141,\" \")","v":9},{"$f":"IF(('ED272 Students YTD by Squadron'!$A141)<>0,'ED272 Students YTD by Squadron'!E141,\" \")","v":7},{"$f":"IF(('ED272 Students YTD by Squadron'!$A141)<>0,'ED272 Students YTD by Squadron'!F141,\" \")","v":9},{"$f":"IF(('ED272 Students YTD by Squadron'!$A141)<>0,'ED272 Students YTD by Squadron'!G141,\" \")","v":7},{"$f":"IF(('ED272 Students YTD by Squadron'!$A141)<>0,'ED272 Students YTD by Squadron'!H141,\" \")","v":9},{"$f":"IF(('ED272 Students YTD by Squadron'!$A141)<>0,'ED272 Students YTD by Squadron'!I141,\" \")","v":7},{"$f":"IF(('ED272 Students YTD by Squadron'!$A141)<>0,'ED272A Classes YTD by Squadron'!D141,\" \")","v":2},{"$f":"IF(('ED272 Students YTD by Squadron'!$A141)<>0,'ED272A Classes YTD by Squadron'!E141,\" \")","v":1}]
[{"$f":"IF(('ED272 Students YTD by Squadron'!$A142)<>0,'ED272 Students YTD by Squadron'!A142,\" \")","v":9},{"$f":"IF(('ED272 Students YTD by Squadron'!$A142)<>0,'ED272 Students YTD by Squadron'!B142,\" \")","v":2550},{"$f":"IF(('ED272 Students YTD by Squadron'!$A142)<>0,'ED272 Students YTD by Squadron'!C142,\" \")","v":"Kalamazoo Sail & Power Sq"},{"$f":"IF(('ED272 Students YTD by Squadron'!$A142)<>0,'ED272 Students YTD by Squadron'!D142,\" \")","v":20},{"$f":"IF(('ED272 Students YTD by Squadron'!$A142)<>0,'ED272 Students YTD by Squadron'!E142,\" \")","v":41},{"$f":"IF(('ED272 Students YTD by Squadron'!$A142)<>0,'ED272 Students YTD by Squadron'!F142,\" \")","v":20},{"$f":"IF(('ED272 Students YTD by Squadron'!$A142)<>0,'ED272 Students YTD by Squadron'!G142,\" \")","v":34},{"$f":"IF(('ED272 Students YTD by Squadron'!$A142)<>0,'ED272 Students YTD by Squadron'!H142,\" \")","v":20},{"$f":"IF(('ED272 Students YTD by Squadron'!$A142)<>0,'ED272 Students YTD by Squadron'!I142,\" \")","v":34},{"$f":"IF(('ED272 Students YTD by Squadron'!$A142)<>0,'ED272A Classes YTD by Squadron'!D142,\" \")","v":3},{"$f":"IF(('ED272 Students YTD by Squadron'!$A142)<>0,'ED272A Classes YTD by Squadron'!E142,\" \")","v":3}]
[{"$f":"IF(('ED272 Students YTD by Squadron'!$A143)<>0,'ED272 Students YTD by Squadron'!A143,\" \")","v":9},{"$f":"IF(('ED272 Students YTD by Squadron'!$A143)<>0,'ED272 Students YTD by Squadron'!B143,\" \")","v":2820},{"$f":"IF(('ED272 Students YTD by Squadron'!$A143)<>0,'ED272 Students YTD by Squadron'!C143,\" \")","v":"Lansing Sail & Power Sqd "},{"$f":"IF(('ED272 Students YTD by Squadron'!$A143)<>0,'ED272 Students YTD by Squadron'!D143,\" \")","v":16},{"$f":"IF(('ED272 Students YTD by Squadron'!$A143)<>0,'ED272 Students YTD by Squadron'!E143,\" \")","v":15},{"$f":"IF(('ED272 Students YTD by Squadron'!$A143)<>0,'ED272 Students YTD by Squadron'!F143,\" \")","v":14},{"$f":"IF(('ED272 Students YTD by Squadron'!$A143)<>0,'ED272 Students YTD by Squadron'!G143,\" \")","v":14},{"$f":"IF(('ED272 Students YTD by Squadron'!$A143)<>0,'ED272 Students YTD by Squadron'!H143,\" \")","v":14},{"$f":"IF(('ED272 Students YTD by Squadron'!$A143)<>0,'ED272 Students YTD by Squadron'!I143,\" \")","v":14},{"$f":"IF(('ED272 Students YTD by Squadron'!$A143)<>0,'ED272A Classes YTD by Squadron'!D143,\" \")","v":3},{"$f":"IF(('ED272 Students YTD by Squadron'!$A143)<>0,'ED272A Classes YTD by Squadron'!E143,\" \")","v":4}]
[{"$f":"IF(('ED272 Students YTD by Squadron'!$A144)<>0,'ED272 Students YTD by Squadron'!A144,\" \")","v":9},{"$f":"IF(('ED272 Students YTD by Squadron'!$A144)<>0,'ED272 Students YTD by Squadron'!B144,\" \")","v":3540},{"$f":"IF(('ED272 Students YTD by Squadron'!$A144)<>0,'ED272 Students YTD by Squadron'!C144,\" \")","v":"Mount Clemens Power Squad"},{"$f":"IF(('ED272 Students YTD by Squadron'!$A144)<>0,'ED272 Students YTD by Squadron'!D144,\" \")","v":16},{"$f":"IF(('ED272 Students YTD by Squadron'!$A144)<>0,'ED272 Students YTD by Squadron'!E144,\" \")","v":12},{"$f":"IF(('ED272 Students YTD by Squadron'!$A144)<>0,'ED272 Students YTD by Squadron'!F144,\" \")","v":15},{"$f":"IF(('ED272 Students YTD by Squadron'!$A144)<>0,'ED272 Students YTD by Squadron'!G144,\" \")","v":11},{"$f":"IF(('ED272 Students YTD by Squadron'!$A144)<>0,'ED272 Students YTD by Squadron'!H144,\" \")","v":15},{"$f":"IF(('ED272 Students YTD by Squadron'!$A144)<>0,'ED272 Students YTD by Squadron'!I144,\" \")","v":11},{"$f":"IF(('ED272 Students YTD by Squadron'!$A144)<>0,'ED272A Classes YTD by Squadron'!D144,\" \")","v":2},{"$f":"IF(('ED272 Students YTD by Squadron'!$A144)<>0,'ED272A Classes YTD by Squadron'!E144,\" \")","v":2}]
[{"$f":"IF(('ED272 Students YTD by Squadron'!$A145)<>0,'ED272 Students YTD by Squadron'!A145,\" \")","v":9},{"$f":"IF(('ED272 Students YTD by Squadron'!$A145)<>0,'ED272 Students YTD by Squadron'!B145,\" \")","v":3570},{"$f":"IF(('ED272 Students YTD by Squadron'!$A145)<>0,'ED272 Students YTD by Squadron'!C145,\" \")","v":"Muskegon Power Squadron  "},{"$f":"IF(('ED272 Students YTD by Squadron'!$A145)<>0,'ED272 Students YTD by Squadron'!D145,\" \")","v":13},{"$f":"IF(('ED272 Students YTD by Squadron'!$A145)<>0,'ED272 Students YTD by Squadron'!E145,\" \")","v":14},{"$f":"IF(('ED272 Students YTD by Squadron'!$A145)<>0,'ED272 Students YTD by Squadron'!F145,\" \")","v":13},{"$f":"IF(('ED272 Students YTD by Squadron'!$A145)<>0,'ED272 Students YTD by Squadron'!G145,\" \")","v":14},{"$f":"IF(('ED272 Students YTD by Squadron'!$A145)<>0,'ED272 Students YTD by Squadron'!H145,\" \")","v":13},{"$f":"IF(('ED272 Students YTD by Squadron'!$A145)<>0,'ED272 Students YTD by Squadron'!I145,\" \")","v":14},{"$f":"IF(('ED272 Students YTD by Squadron'!$A145)<>0,'ED272A Classes YTD by Squadron'!D145,\" \")","v":2},{"$f":"IF(('ED272 Students YTD by Squadron'!$A145)<>0,'ED272A Classes YTD by Squadron'!E145,\" \")","v":3}]
[{"$f":"IF(('ED272 Students YTD by Squadron'!$A146)<>0,'ED272 Students YTD by Squadron'!A146,\" \")","v":9},{"$f":"IF(('ED272 Students YTD by Squadron'!$A146)<>0,'ED272 Students YTD by Squadron'!B146,\" \")","v":4485},{"$f":"IF(('ED272 Students YTD by Squadron'!$A146)<>0,'ED272 Students YTD by Squadron'!C146,\" \")","v":"Port Huron Power Squadron"},{"$f":"IF(('ED272 Students YTD by Squadron'!$A146)<>0,'ED272 Students YTD by Squadron'!D146,\" \")","v":4},{"$f":"IF(('ED272 Students YTD by Squadron'!$A146)<>0,'ED272 Students YTD by Squadron'!E146,\" \")","v":30},{"$f":"IF(('ED272 Students YTD by Squadron'!$A146)<>0,'ED272 Students YTD by Squadron'!F146,\" \")","v":4},{"$f":"IF(('ED272 Students YTD by Squadron'!$A146)<>0,'ED272 Students YTD by Squadron'!G146,\" \")","v":29},{"$f":"IF(('ED272 Students YTD by Squadron'!$A146)<>0,'ED272 Students YTD by Squadron'!H146,\" \")","v":4},{"$f":"IF(('ED272 Students YTD by Squadron'!$A146)<>0,'ED272 Students YTD by Squadron'!I146,\" \")","v":29},{"$f":"IF(('ED272 Students YTD by Squadron'!$A146)<>0,'ED272A Classes YTD by Squadron'!D146,\" \")","v":1},{"$f":"IF(('ED272 Students YTD by Squadron'!$A146)<>0,'ED272A Classes YTD by Squadron'!E146,\" \")","v":3}]
[{"$f":"IF(('ED272 Students YTD by Squadron'!$A147)<>0,'ED272 Students YTD by Squadron'!A147,\" \")","v":9},{"$f":"IF(('ED272 Students YTD by Squadron'!$A147)<>0,'ED272 Students YTD by Squadron'!B147,\" \")","v":3010},{"$f":"IF(('ED272 Students YTD by Squadron'!$A147)<>0,'ED272 Students YTD by Squadron'!C147,\" \")","v":"Sable Point Sail & Power "},{"$f":"IF(('ED272 Students YTD by Squadron'!$A147)<>0,'ED272 Students YTD by Squadron'!D147,\" \")","v":2},{"$f":"IF(('ED272 Students YTD by Squadron'!$A147)<>0,'ED272 Students YTD by Squadron'!E147,\" \")","v":1},{"$f":"IF(('ED272 Students YTD by Squadron'!$A147)<>0,'ED272 Students YTD by Squadron'!F147,\" \")","v":2},{"$f":"IF(('ED272 Students YTD by Squadron'!$A147)<>0,'ED272 Students YTD by Squadron'!G147,\" \")","v":1},{"$f":"IF(('ED272 Students YTD by Squadron'!$A147)<>0,'ED272 Students YTD by Squadron'!H147,\" \")","v":2},{"$f":"IF(('ED272 Students YTD by Squadron'!$A147)<>0,'ED272 Students YTD by Squadron'!I147,\" \")","v":1},{"$f":"IF(('ED272 Students YTD by Squadron'!$A147)<>0,'ED272A Classes YTD by Squadron'!D147,\" \")","v":1},{"$f":"IF(('ED272 Students YTD by Squadron'!$A147)<>0,'ED272A Classes YTD by Squadron'!E147,\" \")","v":1}]
[{"$f":"IF(('ED272 Students YTD by Squadron'!$A148)<>0,'ED272 Students YTD by Squadron'!A148,\" \")","v":9},{"$f":"IF(('ED272 Students YTD by Squadron'!$A148)<>0,'ED272 Students YTD by Squadron'!B148,\" \")","v":4920},{"$f":"IF(('ED272 Students YTD by Squadron'!$A148)<>0,'ED272 Students YTD by Squadron'!C148,\" \")","v":"Saginaw Bay Power Squad  "},{"$f":"IF(('ED272 Students YTD by Squadron'!$A148)<>0,'ED272 Students YTD by Squadron'!D148,\" \")","v":0},{"$f":"IF(('ED272 Students YTD by Squadron'!$A148)<>0,'ED272 Students YTD by Squadron'!E148,\" \")","v":0},{"$f":"IF(('ED272 Students YTD by Squadron'!$A148)<>0,'ED272 Students YTD by Squadron'!F148,\" \")","v":0},{"$f":"IF(('ED272 Students YTD by Squadron'!$A148)<>0,'ED272 Students YTD by Squadron'!G148,\" \")","v":0},{"$f":"IF(('ED272 Students YTD by Squadron'!$A148)<>0,'ED272 Students YTD by Squadron'!H148,\" \")","v":0},{"$f":"IF(('ED272 Students YTD by Squadron'!$A148)<>0,'ED272 Students YTD by Squadron'!I148,\" \")","v":0},{"$f":"IF(('ED272 Students YTD by Squadron'!$A148)<>0,'ED272A Classes YTD by Squadron'!D148,\" \")","v":0},{"$f":"IF(('ED272 Students YTD by Squadron'!$A148)<>0,'ED272A Classes YTD by Squadron'!E148,\" \")","v":0}]
[{"$f":"IF(('ED272 Students YTD by Squadron'!$A149)<>0,'ED272 Students YTD by Squadron'!A149,\" \")","v":9},{"$f":"IF(('ED272 Students YTD by Squadron'!$A149)<>0,'ED272 Students YTD by Squadron'!B149,\" \")","v":5595},{"$f":"IF(('ED272 Students YTD by Squadron'!$A149)<>0,'ED272 Students YTD by Squadron'!C149,\" \")","v":"South Bend Power Squadron"},{"$f":"IF(('ED272 Students YTD by Squadron'!$A149)<>0,'ED272 Students YTD by Squadron'!D149,\" \")","v":54},{"$f":"IF(('ED272 Students YTD by Squadron'!$A149)<>0,'ED272 Students YTD by Squadron'!E149,\" \")","v":42},{"$f":"IF(('ED272 Students YTD by Squadron'!$A149)<>0,'ED272 Students YTD by Squadron'!F149,\" \")","v":49},{"$f":"IF(('ED272 Students YTD by Squadron'!$A149)<>0,'ED272 Students YTD by Squadron'!G149,\" \")","v":40},{"$f":"IF(('ED272 Students YTD by Squadron'!$A149)<>0,'ED272 Students YTD by Squadron'!H149,\" \")","v":49},{"$f":"IF(('ED272 Students YTD by Squadron'!$A149)<>0,'ED272 Students YTD by Squadron'!I149,\" \")","v":40},{"$f":"IF(('ED272 Students YTD by Squadron'!$A149)<>0,'ED272A Classes YTD by Squadron'!D149,\" \")","v":5},{"$f":"IF(('ED272 Students YTD by Squadron'!$A149)<>0,'ED272A Classes YTD by Squadron'!E149,\" \")","v":3}]
[{"$f":"IF(('ED272 Students YTD by Squadron'!$A150)<>0,'ED272 Students YTD by Squadron'!A150,\" \")","v":9},{"$f":"IF(('ED272 Students YTD by Squadron'!$A150)<>0,'ED272 Students YTD by Squadron'!B150,\" \")","v":4945},{"$f":"IF(('ED272 Students YTD by Squadron'!$A150)<>0,'ED272 Students YTD by Squadron'!C150,\" \")","v":"St. Clair Shores Sail &  "},{"$f":"IF(('ED272 Students YTD by Squadron'!$A150)<>0,'ED272 Students YTD by Squadron'!D150,\" \")","v":12},{"$f":"IF(('ED272 Students YTD by Squadron'!$A150)<>0,'ED272 Students YTD by Squadron'!E150,\" \")","v":0},{"$f":"IF(('ED272 Students YTD by Squadron'!$A150)<>0,'ED272 Students YTD by Squadron'!F150,\" \")","v":0},{"$f":"IF(('ED272 Students YTD by Squadron'!$A150)<>0,'ED272 Students YTD by Squadron'!G150,\" \")","v":0},{"$f":"IF(('ED272 Students YTD by Squadron'!$A150)<>0,'ED272 Students YTD by Squadron'!H150,\" \")","v":0},{"$f":"IF(('ED272 Students YTD by Squadron'!$A150)<>0,'ED272 Students YTD by Squadron'!I150,\" \")","v":0},{"$f":"IF(('ED272 Students YTD by Squadron'!$A150)<>0,'ED272A Classes YTD by Squadron'!D150,\" \")","v":1},{"$f":"IF(('ED272 Students YTD by Squadron'!$A150)<>0,'ED272A Classes YTD by Squadron'!E150,\" \")","v":0}]
[{"$f":"IF(('ED272 Students YTD by Squadron'!$A151)<>0,'ED272 Students YTD by Squadron'!A151,\" \")","v":9},{"$f":"IF(('ED272 Students YTD by Squadron'!$A151)<>0,'ED272 Students YTD by Squadron'!B151,\" \")","v":5903},{"$f":"IF(('ED272 Students YTD by Squadron'!$A151)<>0,'ED272 Students YTD by Squadron'!C151,\" \")","v":"Tip of the Mitt Power Sq "},{"$f":"IF(('ED272 Students YTD by Squadron'!$A151)<>0,'ED272 Students YTD by Squadron'!D151,\" \")","v":0},{"$f":"IF(('ED272 Students YTD by Squadron'!$A151)<>0,'ED272 Students YTD by Squadron'!E151,\" \")","v":0},{"$f":"IF(('ED272 Students YTD by Squadron'!$A151)<>0,'ED272 Students YTD by Squadron'!F151,\" \")","v":0},{"$f":"IF(('ED272 Students YTD by Squadron'!$A151)<>0,'ED272 Students YTD by Squadron'!G151,\" \")","v":0},{"$f":"IF(('ED272 Students YTD by Squadron'!$A151)<>0,'ED272 Students YTD by Squadron'!H151,\" \")","v":0},{"$f":"IF(('ED272 Students YTD by Squadron'!$A151)<>0,'ED272 Students YTD by Squadron'!I151,\" \")","v":0},{"$f":"IF(('ED272 Students YTD by Squadron'!$A151)<>0,'ED272A Classes YTD by Squadron'!D151,\" \")","v":0},{"$f":"IF(('ED272 Students YTD by Squadron'!$A151)<>0,'ED272A Classes YTD by Squadron'!E151,\" \")","v":0}]
[{"$f":"IF(('ED272 Students YTD by Squadron'!$A152)<>0,'ED272 Students YTD by Squadron'!A152,\" \")","v":9},{"$f":"IF(('ED272 Students YTD by Squadron'!$A152)<>0,'ED272 Students YTD by Squadron'!B152,\" \")","v":6345},{"$f":"IF(('ED272 Students YTD by Squadron'!$A152)<>0,'ED272 Students YTD by Squadron'!C152,\" \")","v":"Wyandotte Power Squadron "},{"$f":"IF(('ED272 Students YTD by Squadron'!$A152)<>0,'ED272 Students YTD by Squadron'!D152,\" \")","v":47},{"$f":"IF(('ED272 Students YTD by Squadron'!$A152)<>0,'ED272 Students YTD by Squadron'!E152,\" \")","v":59},{"$f":"IF(('ED272 Students YTD by Squadron'!$A152)<>0,'ED272 Students YTD by Squadron'!F152,\" \")","v":42},{"$f":"IF(('ED272 Students YTD by Squadron'!$A152)<>0,'ED272 Students YTD by Squadron'!G152,\" \")","v":50},{"$f":"IF(('ED272 Students YTD by Squadron'!$A152)<>0,'ED272 Students YTD by Squadron'!H152,\" \")","v":42},{"$f":"IF(('ED272 Students YTD by Squadron'!$A152)<>0,'ED272 Students YTD by Squadron'!I152,\" \")","v":50},{"$f":"IF(('ED272 Students YTD by Squadron'!$A152)<>0,'ED272A Classes YTD by Squadron'!D152,\" \")","v":3},{"$f":"IF(('ED272 Students YTD by Squadron'!$A152)<>0,'ED272A Classes YTD by Squadron'!E152,\" \")","v":3}]
[{"$f":"IF(('ED272 Students YTD by Squadron'!$A153)<>0,'ED272 Students YTD by Squadron'!A153,\" \")","v":10},{"$f":"IF(('ED272 Students YTD by Squadron'!$A153)<>0,'ED272 Students YTD by Squadron'!B153,\" \")","v":955},{"$f":"IF(('ED272 Students YTD by Squadron'!$A153)<>0,'ED272 Students YTD by Squadron'!C153,\" \")","v":"Central Wisconsin Sail&  "},{"$f":"IF(('ED272 Students YTD by Squadron'!$A153)<>0,'ED272 Students YTD by Squadron'!D153,\" \")","v":15},{"$f":"IF(('ED272 Students YTD by Squadron'!$A153)<>0,'ED272 Students YTD by Squadron'!E153,\" \")","v":4},{"$f":"IF(('ED272 Students YTD by Squadron'!$A153)<>0,'ED272 Students YTD by Squadron'!F153,\" \")","v":15},{"$f":"IF(('ED272 Students YTD by Squadron'!$A153)<>0,'ED272 Students YTD by Squadron'!G153,\" \")","v":4},{"$f":"IF(('ED272 Students YTD by Squadron'!$A153)<>0,'ED272 Students YTD by Squadron'!H153,\" \")","v":15},{"$f":"IF(('ED272 Students YTD by Squadron'!$A153)<>0,'ED272 Students YTD by Squadron'!I153,\" \")","v":4},{"$f":"IF(('ED272 Students YTD by Squadron'!$A153)<>0,'ED272A Classes YTD by Squadron'!D153,\" \")","v":1},{"$f":"IF(('ED272 Students YTD by Squadron'!$A153)<>0,'ED272A Classes YTD by Squadron'!E153,\" \")","v":1}]
[{"$f":"IF(('ED272 Students YTD by Squadron'!$A154)<>0,'ED272 Students YTD by Squadron'!A154,\" \")","v":10},{"$f":"IF(('ED272 Students YTD by Squadron'!$A154)<>0,'ED272 Students YTD by Squadron'!B154,\" \")","v":5715},{"$f":"IF(('ED272 Students YTD by Squadron'!$A154)<>0,'ED272 Students YTD by Squadron'!C154,\" \")","v":"Door County Power Squad  "},{"$f":"IF(('ED272 Students YTD by Squadron'!$A154)<>0,'ED272 Students YTD by Squadron'!D154,\" \")","v":10},{"$f":"IF(('ED272 Students YTD by Squadron'!$A154)<>0,'ED272 Students YTD by Squadron'!E154,\" \")","v":0},{"$f":"IF(('ED272 Students YTD by Squadron'!$A154)<>0,'ED272 Students YTD by Squadron'!F154,\" \")","v":9},{"$f":"IF(('ED272 Students YTD by Squadron'!$A154)<>0,'ED272 Students YTD by Squadron'!G154,\" \")","v":0},{"$f":"IF(('ED272 Students YTD by Squadron'!$A154)<>0,'ED272 Students YTD by Squadron'!H154,\" \")","v":9},{"$f":"IF(('ED272 Students YTD by Squadron'!$A154)<>0,'ED272 Students YTD by Squadron'!I154,\" \")","v":0},{"$f":"IF(('ED272 Students YTD by Squadron'!$A154)<>0,'ED272A Classes YTD by Squadron'!D154,\" \")","v":1},{"$f":"IF(('ED272 Students YTD by Squadron'!$A154)<>0,'ED272A Classes YTD by Squadron'!E154,\" \")","v":0}]
[{"$f":"IF(('ED272 Students YTD by Squadron'!$A155)<>0,'ED272 Students YTD by Squadron'!A155,\" \")","v":10},{"$f":"IF(('ED272 Students YTD by Squadron'!$A155)<>0,'ED272 Students YTD by Squadron'!B155,\" \")","v":1545},{"$f":"IF(('ED272 Students YTD by Squadron'!$A155)<>0,'ED272 Students YTD by Squadron'!C155,\" \")","v":"Duluth Sail & Power Squad"},{"$f":"IF(('ED272 Students YTD by Squadron'!$A155)<>0,'ED272 Students YTD by Squadron'!D155,\" \")","v":10},{"$f":"IF(('ED272 Students YTD by Squadron'!$A155)<>0,'ED272 Students YTD by Squadron'!E155,\" \")","v":24},{"$f":"IF(('ED272 Students YTD by Squadron'!$A155)<>0,'ED272 Students YTD by Squadron'!F155,\" \")","v":9},{"$f":"IF(('ED272 Students YTD by Squadron'!$A155)<>0,'ED272 Students YTD by Squadron'!G155,\" \")","v":22},{"$f":"IF(('ED272 Students YTD by Squadron'!$A155)<>0,'ED272 Students YTD by Squadron'!H155,\" \")","v":9},{"$f":"IF(('ED272 Students YTD by Squadron'!$A155)<>0,'ED272 Students YTD by Squadron'!I155,\" \")","v":22},{"$f":"IF(('ED272 Students YTD by Squadron'!$A155)<>0,'ED272A Classes YTD by Squadron'!D155,\" \")","v":1},{"$f":"IF(('ED272 Students YTD by Squadron'!$A155)<>0,'ED272A Classes YTD by Squadron'!E155,\" \")","v":2}]
[{"$f":"IF(('ED272 Students YTD by Squadron'!$A156)<>0,'ED272 Students YTD by Squadron'!A156,\" \")","v":10},{"$f":"IF(('ED272 Students YTD by Squadron'!$A156)<>0,'ED272 Students YTD by Squadron'!B156,\" \")","v":2085},{"$f":"IF(('ED272 Students YTD by Squadron'!$A156)<>0,'ED272 Students YTD by Squadron'!C156,\" \")","v":"Green Bay Sail & Power Sq"},{"$f":"IF(('ED272 Students YTD by Squadron'!$A156)<>0,'ED272 Students YTD by Squadron'!D156,\" \")","v":36},{"$f":"IF(('ED272 Students YTD by Squadron'!$A156)<>0,'ED272 Students YTD by Squadron'!E156,\" \")","v":34},{"$f":"IF(('ED272 Students YTD by Squadron'!$A156)<>0,'ED272 Students YTD by Squadron'!F156,\" \")","v":36},{"$f":"IF(('ED272 Students YTD by Squadron'!$A156)<>0,'ED272 Students YTD by Squadron'!G156,\" \")","v":34},{"$f":"IF(('ED272 Students YTD by Squadron'!$A156)<>0,'ED272 Students YTD by Squadron'!H156,\" \")","v":35},{"$f":"IF(('ED272 Students YTD by Squadron'!$A156)<>0,'ED272 Students YTD by Squadron'!I156,\" \")","v":33},{"$f":"IF(('ED272 Students YTD by Squadron'!$A156)<>0,'ED272A Classes YTD by Squadron'!D156,\" \")","v":1},{"$f":"IF(('ED272 Students YTD by Squadron'!$A156)<>0,'ED272A Classes YTD by Squadron'!E156,\" \")","v":1}]
[{"$f":"IF(('ED272 Students YTD by Squadron'!$A157)<>0,'ED272 Students YTD by Squadron'!A157,\" \")","v":10},{"$f":"IF(('ED272 Students YTD by Squadron'!$A157)<>0,'ED272 Students YTD by Squadron'!B157,\" \")","v":2267},{"$f":"IF(('ED272 Students YTD by Squadron'!$A157)<>0,'ED272 Students YTD by Squadron'!C157,\" \")","v":"Hiawatha Valley Sail &   "},{"$f":"IF(('ED272 Students YTD by Squadron'!$A157)<>0,'ED272 Students YTD by Squadron'!D157,\" \")","v":11},{"$f":"IF(('ED272 Students YTD by Squadron'!$A157)<>0,'ED272 Students YTD by Squadron'!E157,\" \")","v":19},{"$f":"IF(('ED272 Students YTD by Squadron'!$A157)<>0,'ED272 Students YTD by Squadron'!F157,\" \")","v":10},{"$f":"IF(('ED272 Students YTD by Squadron'!$A157)<>0,'ED272 Students YTD by Squadron'!G157,\" \")","v":6},{"$f":"IF(('ED272 Students YTD by Squadron'!$A157)<>0,'ED272 Students YTD by Squadron'!H157,\" \")","v":10},{"$f":"IF(('ED272 Students YTD by Squadron'!$A157)<>0,'ED272 Students YTD by Squadron'!I157,\" \")","v":6},{"$f":"IF(('ED272 Students YTD by Squadron'!$A157)<>0,'ED272A Classes YTD by Squadron'!D157,\" \")","v":1},{"$f":"IF(('ED272 Students YTD by Squadron'!$A157)<>0,'ED272A Classes YTD by Squadron'!E157,\" \")","v":2}]
[{"$f":"IF(('ED272 Students YTD by Squadron'!$A158)<>0,'ED272 Students YTD by Squadron'!A158,\" \")","v":10},{"$f":"IF(('ED272 Students YTD by Squadron'!$A158)<>0,'ED272 Students YTD by Squadron'!B158,\" \")","v":3030},{"$f":"IF(('ED272 Students YTD by Squadron'!$A158)<>0,'ED272 Students YTD by Squadron'!C158,\" \")","v":"Madison Power Squadron   "},{"$f":"IF(('ED272 Students YTD by Squadron'!$A158)<>0,'ED272 Students YTD by Squadron'!D158,\" \")","v":8},{"$f":"IF(('ED272 Students YTD by Squadron'!$A158)<>0,'ED272 Students YTD by Squadron'!E158,\" \")","v":0},{"$f":"IF(('ED272 Students YTD by Squadron'!$A158)<>0,'ED272 Students YTD by Squadron'!F158,\" \")","v":7},{"$f":"IF(('ED272 Students YTD by Squadron'!$A158)<>0,'ED272 Students YTD by Squadron'!G158,\" \")","v":0},{"$f":"IF(('ED272 Students YTD by Squadron'!$A158)<>0,'ED272 Students YTD by Squadron'!H158,\" \")","v":7},{"$f":"IF(('ED272 Students YTD by Squadron'!$A158)<>0,'ED272 Students YTD by Squadron'!I158,\" \")","v":0},{"$f":"IF(('ED272 Students YTD by Squadron'!$A158)<>0,'ED272A Classes YTD by Squadron'!D158,\" \")","v":1},{"$f":"IF(('ED272 Students YTD by Squadron'!$A158)<>0,'ED272A Classes YTD by Squadron'!E158,\" \")","v":0}]
[{"$f":"IF(('ED272 Students YTD by Squadron'!$A159)<>0,'ED272 Students YTD by Squadron'!A159,\" \")","v":10},{"$f":"IF(('ED272 Students YTD by Squadron'!$A159)<>0,'ED272 Students YTD by Squadron'!B159,\" \")","v":3140},{"$f":"IF(('ED272 Students YTD by Squadron'!$A159)<>0,'ED272 Students YTD by Squadron'!C159,\" \")","v":"Marinette Menominee Sail&"},{"$f":"IF(('ED272 Students YTD by Squadron'!$A159)<>0,'ED272 Students YTD by Squadron'!D159,\" \")","v":0},{"$f":"IF(('ED272 Students YTD by Squadron'!$A159)<>0,'ED272 Students YTD by Squadron'!E159,\" \")","v":0},{"$f":"IF(('ED272 Students YTD by Squadron'!$A159)<>0,'ED272 Students YTD by Squadron'!F159,\" \")","v":0},{"$f":"IF(('ED272 Students YTD by Squadron'!$A159)<>0,'ED272 Students YTD by Squadron'!G159,\" \")","v":0},{"$f":"IF(('ED272 Students YTD by Squadron'!$A159)<>0,'ED272 Students YTD by Squadron'!H159,\" \")","v":0},{"$f":"IF(('ED272 Students YTD by Squadron'!$A159)<>0,'ED272 Students YTD by Squadron'!I159,\" \")","v":0},{"$f":"IF(('ED272 Students YTD by Squadron'!$A159)<>0,'ED272A Classes YTD by Squadron'!D159,\" \")","v":0},{"$f":"IF(('ED272 Students YTD by Squadron'!$A159)<>0,'ED272A Classes YTD by Squadron'!E159,\" \")","v":0}]
[{"$f":"IF(('ED272 Students YTD by Squadron'!$A160)<>0,'ED272 Students YTD by Squadron'!A160,\" \")","v":10},{"$f":"IF(('ED272 Students YTD by Squadron'!$A160)<>0,'ED272 Students YTD by Squadron'!B160,\" \")","v":3390},{"$f":"IF(('ED272 Students YTD by Squadron'!$A160)<>0,'ED272 Students YTD by Squadron'!C160,\" \")","v":"Milwaukee Sail & Power Sq"},{"$f":"IF(('ED272 Students YTD by Squadron'!$A160)<>0,'ED272 Students YTD by Squadron'!D160,\" \")","v":28},{"$f":"IF(('ED272 Students YTD by Squadron'!$A160)<>0,'ED272 Students YTD by Squadron'!E160,\" \")","v":15},{"$f":"IF(('ED272 Students YTD by Squadron'!$A160)<>0,'ED272 Students YTD by Squadron'!F160,\" \")","v":21},{"$f":"IF(('ED272 Students YTD by Squadron'!$A160)<>0,'ED272 Students YTD by Squadron'!G160,\" \")","v":14},{"$f":"IF(('ED272 Students YTD by Squadron'!$A160)<>0,'ED272 Students YTD by Squadron'!H160,\" \")","v":21},{"$f":"IF(('ED272 Students YTD by Squadron'!$A160)<>0,'ED272 Students YTD by Squadron'!I160,\" \")","v":14},{"$f":"IF(('ED272 Students YTD by Squadron'!$A160)<>0,'ED272A Classes YTD by Squadron'!D160,\" \")","v":3},{"$f":"IF(('ED272 Students YTD by Squadron'!$A160)<>0,'ED272A Classes YTD by Squadron'!E160,\" \")","v":3}]
[{"$f":"IF(('ED272 Students YTD by Squadron'!$A161)<>0,'ED272 Students YTD by Squadron'!A161,\" \")","v":10},{"$f":"IF(('ED272 Students YTD by Squadron'!$A161)<>0,'ED272 Students YTD by Squadron'!B161,\" \")","v":3405},{"$f":"IF(('ED272 Students YTD by Squadron'!$A161)<>0,'ED272 Students YTD by Squadron'!C161,\" \")","v":"Minnetonka Power Squadron"},{"$f":"IF(('ED272 Students YTD by Squadron'!$A161)<>0,'ED272 Students YTD by Squadron'!D161,\" \")","v":44},{"$f":"IF(('ED272 Students YTD by Squadron'!$A161)<>0,'ED272 Students YTD by Squadron'!E161,\" \")","v":41},{"$f":"IF(('ED272 Students YTD by Squadron'!$A161)<>0,'ED272 Students YTD by Squadron'!F161,\" \")","v":37},{"$f":"IF(('ED272 Students YTD by Squadron'!$A161)<>0,'ED272 Students YTD by Squadron'!G161,\" \")","v":33},{"$f":"IF(('ED272 Students YTD by Squadron'!$A161)<>0,'ED272 Students YTD by Squadron'!H161,\" \")","v":37},{"$f":"IF(('ED272 Students YTD by Squadron'!$A161)<>0,'ED272 Students YTD by Squadron'!I161,\" \")","v":33},{"$f":"IF(('ED272 Students YTD by Squadron'!$A161)<>0,'ED272A Classes YTD by Squadron'!D161,\" \")","v":3},{"$f":"IF(('ED272 Students YTD by Squadron'!$A161)<>0,'ED272A Classes YTD by Squadron'!E161,\" \")","v":3}]
[{"$f":"IF(('ED272 Students YTD by Squadron'!$A162)<>0,'ED272 Students YTD by Squadron'!A162,\" \")","v":10},{"$f":"IF(('ED272 Students YTD by Squadron'!$A162)<>0,'ED272 Students YTD by Squadron'!B162,\" \")","v":4095},{"$f":"IF(('ED272 Students YTD by Squadron'!$A162)<>0,'ED272 Students YTD by Squadron'!C162,\" \")","v":"Oshkosh Power Squadron   "},{"$f":"IF(('ED272 Students YTD by Squadron'!$A162)<>0,'ED272 Students YTD by Squadron'!D162,\" \")","v":39},{"$f":"IF(('ED272 Students YTD by Squadron'!$A162)<>0,'ED272 Students YTD by Squadron'!E162,\" \")","v":17},{"$f":"IF(('ED272 Students YTD by Squadron'!$A162)<>0,'ED272 Students YTD by Squadron'!F162,\" \")","v":39},{"$f":"IF(('ED272 Students YTD by Squadron'!$A162)<>0,'ED272 Students YTD by Squadron'!G162,\" \")","v":17},{"$f":"IF(('ED272 Students YTD by Squadron'!$A162)<>0,'ED272 Students YTD by Squadron'!H162,\" \")","v":39},{"$f":"IF(('ED272 Students YTD by Squadron'!$A162)<>0,'ED272 Students YTD by Squadron'!I162,\" \")","v":17},{"$f":"IF(('ED272 Students YTD by Squadron'!$A162)<>0,'ED272A Classes YTD by Squadron'!D162,\" \")","v":1},{"$f":"IF(('ED272 Students YTD by Squadron'!$A162)<>0,'ED272A Classes YTD by Squadron'!E162,\" \")","v":1}]
[{"$f":"IF(('ED272 Students YTD by Squadron'!$A163)<>0,'ED272 Students YTD by Squadron'!A163,\" \")","v":10},{"$f":"IF(('ED272 Students YTD by Squadron'!$A163)<>0,'ED272 Students YTD by Squadron'!B163,\" \")","v":5025},{"$f":"IF(('ED272 Students YTD by Squadron'!$A163)<>0,'ED272 Students YTD by Squadron'!C163,\" \")","v":"St. Paul Sail & Power Sqd"},{"$f":"IF(('ED272 Students YTD by Squadron'!$A163)<>0,'ED272 Students YTD by Squadron'!D163,\" \")","v":0},{"$f":"IF(('ED272 Students YTD by Squadron'!$A163)<>0,'ED272 Students YTD by Squadron'!E163,\" \")","v":0},{"$f":"IF(('ED272 Students YTD by Squadron'!$A163)<>0,'ED272 Students YTD by Squadron'!F163,\" \")","v":0},{"$f":"IF(('ED272 Students YTD by Squadron'!$A163)<>0,'ED272 Students YTD by Squadron'!G163,\" \")","v":0},{"$f":"IF(('ED272 Students YTD by Squadron'!$A163)<>0,'ED272 Students YTD by Squadron'!H163,\" \")","v":0},{"$f":"IF(('ED272 Students YTD by Squadron'!$A163)<>0,'ED272 Students YTD by Squadron'!I163,\" \")","v":0},{"$f":"IF(('ED272 Students YTD by Squadron'!$A163)<>0,'ED272A Classes YTD by Squadron'!D163,\" \")","v":0},{"$f":"IF(('ED272 Students YTD by Squadron'!$A163)<>0,'ED272A Classes YTD by Squadron'!E163,\" \")","v":0}]
[{"$f":"IF(('ED272 Students YTD by Squadron'!$A164)<>0,'ED272 Students YTD by Squadron'!A164,\" \")","v":11},{"$f":"IF(('ED272 Students YTD by Squadron'!$A164)<>0,'ED272 Students YTD by Squadron'!B164,\" \")","v":315},{"$f":"IF(('ED272 Students YTD by Squadron'!$A164)<>0,'ED272 Students YTD by Squadron'!C164,\" \")","v":"Bald Eagle Power Squadron"},{"$f":"IF(('ED272 Students YTD by Squadron'!$A164)<>0,'ED272 Students YTD by Squadron'!D164,\" \")","v":2},{"$f":"IF(('ED272 Students YTD by Squadron'!$A164)<>0,'ED272 Students YTD by Squadron'!E164,\" \")","v":0},{"$f":"IF(('ED272 Students YTD by Squadron'!$A164)<>0,'ED272 Students YTD by Squadron'!F164,\" \")","v":2},{"$f":"IF(('ED272 Students YTD by Squadron'!$A164)<>0,'ED272 Students YTD by Squadron'!G164,\" \")","v":0},{"$f":"IF(('ED272 Students YTD by Squadron'!$A164)<>0,'ED272 Students YTD by Squadron'!H164,\" \")","v":2},{"$f":"IF(('ED272 Students YTD by Squadron'!$A164)<>0,'ED272 Students YTD by Squadron'!I164,\" \")","v":0},{"$f":"IF(('ED272 Students YTD by Squadron'!$A164)<>0,'ED272A Classes YTD by Squadron'!D164,\" \")","v":1},{"$f":"IF(('ED272 Students YTD by Squadron'!$A164)<>0,'ED272A Classes YTD by Squadron'!E164,\" \")","v":1}]
[{"$f":"IF(('ED272 Students YTD by Squadron'!$A165)<>0,'ED272 Students YTD by Squadron'!A165,\" \")","v":11},{"$f":"IF(('ED272 Students YTD by Squadron'!$A165)<>0,'ED272 Students YTD by Squadron'!B165,\" \")","v":1635},{"$f":"IF(('ED272 Students YTD by Squadron'!$A165)<>0,'ED272 Students YTD by Squadron'!C165,\" \")","v":"Erie Power Squadron      "},{"$f":"IF(('ED272 Students YTD by Squadron'!$A165)<>0,'ED272 Students YTD by Squadron'!D165,\" \")","v":13},{"$f":"IF(('ED272 Students YTD by Squadron'!$A165)<>0,'ED272 Students YTD by Squadron'!E165,\" \")","v":23},{"$f":"IF(('ED272 Students YTD by Squadron'!$A165)<>0,'ED272 Students YTD by Squadron'!F165,\" \")","v":13},{"$f":"IF(('ED272 Students YTD by Squadron'!$A165)<>0,'ED272 Students YTD by Squadron'!G165,\" \")","v":21},{"$f":"IF(('ED272 Students YTD by Squadron'!$A165)<>0,'ED272 Students YTD by Squadron'!H165,\" \")","v":13},{"$f":"IF(('ED272 Students YTD by Squadron'!$A165)<>0,'ED272 Students YTD by Squadron'!I165,\" \")","v":21},{"$f":"IF(('ED272 Students YTD by Squadron'!$A165)<>0,'ED272A Classes YTD by Squadron'!D165,\" \")","v":1},{"$f":"IF(('ED272 Students YTD by Squadron'!$A165)<>0,'ED272A Classes YTD by Squadron'!E165,\" \")","v":1}]
[{"$f":"IF(('ED272 Students YTD by Squadron'!$A166)<>0,'ED272 Students YTD by Squadron'!A166,\" \")","v":11},{"$f":"IF(('ED272 Students YTD by Squadron'!$A166)<>0,'ED272 Students YTD by Squadron'!B166,\" \")","v":2670},{"$f":"IF(('ED272 Students YTD by Squadron'!$A166)<>0,'ED272 Students YTD by Squadron'!C166,\" \")","v":"Kinzua Power Squadron    "},{"$f":"IF(('ED272 Students YTD by Squadron'!$A166)<>0,'ED272 Students YTD by Squadron'!D166,\" \")","v":10},{"$f":"IF(('ED272 Students YTD by Squadron'!$A166)<>0,'ED272 Students YTD by Squadron'!E166,\" \")","v":0},{"$f":"IF(('ED272 Students YTD by Squadron'!$A166)<>0,'ED272 Students YTD by Squadron'!F166,\" \")","v":10},{"$f":"IF(('ED272 Students YTD by Squadron'!$A166)<>0,'ED272 Students YTD by Squadron'!G166,\" \")","v":0},{"$f":"IF(('ED272 Students YTD by Squadron'!$A166)<>0,'ED272 Students YTD by Squadron'!H166,\" \")","v":10},{"$f":"IF(('ED272 Students YTD by Squadron'!$A166)<>0,'ED272 Students YTD by Squadron'!I166,\" \")","v":0},{"$f":"IF(('ED272 Students YTD by Squadron'!$A166)<>0,'ED272A Classes YTD by Squadron'!D166,\" \")","v":1},{"$f":"IF(('ED272 Students YTD by Squadron'!$A166)<>0,'ED272A Classes YTD by Squadron'!E166,\" \")","v":0}]
[{"$f":"IF(('ED272 Students YTD by Squadron'!$A167)<>0,'ED272 Students YTD by Squadron'!A167,\" \")","v":11},{"$f":"IF(('ED272 Students YTD by Squadron'!$A167)<>0,'ED272 Students YTD by Squadron'!B167,\" \")","v":3525},{"$f":"IF(('ED272 Students YTD by Squadron'!$A167)<>0,'ED272 Students YTD by Squadron'!C167,\" \")","v":"Mosquito Lake Power Squad"},{"$f":"IF(('ED272 Students YTD by Squadron'!$A167)<>0,'ED272 Students YTD by Squadron'!D167,\" \")","v":5},{"$f":"IF(('ED272 Students YTD by Squadron'!$A167)<>0,'ED272 Students YTD by Squadron'!E167,\" \")","v":7},{"$f":"IF(('ED272 Students YTD by Squadron'!$A167)<>0,'ED272 Students YTD by Squadron'!F167,\" \")","v":5},{"$f":"IF(('ED272 Students YTD by Squadron'!$A167)<>0,'ED272 Students YTD by Squadron'!G167,\" \")","v":5},{"$f":"IF(('ED272 Students YTD by Squadron'!$A167)<>0,'ED272 Students YTD by Squadron'!H167,\" \")","v":5},{"$f":"IF(('ED272 Students YTD by Squadron'!$A167)<>0,'ED272 Students YTD by Squadron'!I167,\" \")","v":5},{"$f":"IF(('ED272 Students YTD by Squadron'!$A167)<>0,'ED272A Classes YTD by Squadron'!D167,\" \")","v":1},{"$f":"IF(('ED272 Students YTD by Squadron'!$A167)<>0,'ED272A Classes YTD by Squadron'!E167,\" \")","v":1}]
[{"$f":"IF(('ED272 Students YTD by Squadron'!$A168)<>0,'ED272 Students YTD by Squadron'!A168,\" \")","v":11},{"$f":"IF(('ED272 Students YTD by Squadron'!$A168)<>0,'ED272 Students YTD by Squadron'!B168,\" \")","v":3700},{"$f":"IF(('ED272 Students YTD by Squadron'!$A168)<>0,'ED272 Students YTD by Squadron'!C168,\" \")","v":"New Castle Power Squadron"},{"$f":"IF(('ED272 Students YTD by Squadron'!$A168)<>0,'ED272 Students YTD by Squadron'!D168,\" \")","v":25},{"$f":"IF(('ED272 Students YTD by Squadron'!$A168)<>0,'ED272 Students YTD by Squadron'!E168,\" \")","v":24},{"$f":"IF(('ED272 Students YTD by Squadron'!$A168)<>0,'ED272 Students YTD by Squadron'!F168,\" \")","v":25},{"$f":"IF(('ED272 Students YTD by Squadron'!$A168)<>0,'ED272 Students YTD by Squadron'!G168,\" \")","v":24},{"$f":"IF(('ED272 Students YTD by Squadron'!$A168)<>0,'ED272 Students YTD by Squadron'!H168,\" \")","v":25},{"$f":"IF(('ED272 Students YTD by Squadron'!$A168)<>0,'ED272 Students YTD by Squadron'!I168,\" \")","v":24},{"$f":"IF(('ED272 Students YTD by Squadron'!$A168)<>0,'ED272A Classes YTD by Squadron'!D168,\" \")","v":3},{"$f":"IF(('ED272 Students YTD by Squadron'!$A168)<>0,'ED272A Classes YTD by Squadron'!E168,\" \")","v":3}]
[{"$f":"IF(('ED272 Students YTD by Squadron'!$A169)<>0,'ED272 Students YTD by Squadron'!A169,\" \")","v":12},{"$f":"IF(('ED272 Students YTD by Squadron'!$A169)<>0,'ED272 Students YTD by Squadron'!B169,\" \")","v":345},{"$f":"IF(('ED272 Students YTD by Squadron'!$A169)<>0,'ED272 Students YTD by Squadron'!C169,\" \")","v":"Bare Cove Power Squadron "},{"$f":"IF(('ED272 Students YTD by Squadron'!$A169)<>0,'ED272 Students YTD by Squadron'!D169,\" \")","v":7},{"$f":"IF(('ED272 Students YTD by Squadron'!$A169)<>0,'ED272 Students YTD by Squadron'!E169,\" \")","v":0},{"$f":"IF(('ED272 Students YTD by Squadron'!$A169)<>0,'ED272 Students YTD by Squadron'!F169,\" \")","v":7},{"$f":"IF(('ED272 Students YTD by Squadron'!$A169)<>0,'ED272 Students YTD by Squadron'!G169,\" \")","v":0},{"$f":"IF(('ED272 Students YTD by Squadron'!$A169)<>0,'ED272 Students YTD by Squadron'!H169,\" \")","v":7},{"$f":"IF(('ED272 Students YTD by Squadron'!$A169)<>0,'ED272 Students YTD by Squadron'!I169,\" \")","v":0},{"$f":"IF(('ED272 Students YTD by Squadron'!$A169)<>0,'ED272A Classes YTD by Squadron'!D169,\" \")","v":1},{"$f":"IF(('ED272 Students YTD by Squadron'!$A169)<>0,'ED272A Classes YTD by Squadron'!E169,\" \")","v":0}]
[{"$f":"IF(('ED272 Students YTD by Squadron'!$A170)<>0,'ED272 Students YTD by Squadron'!A170,\" \")","v":12},{"$f":"IF(('ED272 Students YTD by Squadron'!$A170)<>0,'ED272 Students YTD by Squadron'!B170,\" \")","v":510},{"$f":"IF(('ED272 Students YTD by Squadron'!$A170)<>0,'ED272 Students YTD by Squadron'!C170,\" \")","v":"Beverly-Marblehead Sail &"},{"$f":"IF(('ED272 Students YTD by Squadron'!$A170)<>0,'ED272 Students YTD by Squadron'!D170,\" \")","v":63},{"$f":"IF(('ED272 Students YTD by Squadron'!$A170)<>0,'ED272 Students YTD by Squadron'!E170,\" \")","v":167},{"$f":"IF(('ED272 Students YTD by Squadron'!$A170)<>0,'ED272 Students YTD by Squadron'!F170,\" \")","v":49},{"$f":"IF(('ED272 Students YTD by Squadron'!$A170)<>0,'ED272 Students YTD by Squadron'!G170,\" \")","v":140},{"$f":"IF(('ED272 Students YTD by Squadron'!$A170)<>0,'ED272 Students YTD by Squadron'!H170,\" \")","v":49},{"$f":"IF(('ED272 Students YTD by Squadron'!$A170)<>0,'ED272 Students YTD by Squadron'!I170,\" \")","v":139},{"$f":"IF(('ED272 Students YTD by Squadron'!$A170)<>0,'ED272A Classes YTD by Squadron'!D170,\" \")","v":2},{"$f":"IF(('ED272 Students YTD by Squadron'!$A170)<>0,'ED272A Classes YTD by Squadron'!E170,\" \")","v":8}]
[{"$f":"IF(('ED272 Students YTD by Squadron'!$A171)<>0,'ED272 Students YTD by Squadron'!A171,\" \")","v":12},{"$f":"IF(('ED272 Students YTD by Squadron'!$A171)<>0,'ED272 Students YTD by Squadron'!B171,\" \")","v":660},{"$f":"IF(('ED272 Students YTD by Squadron'!$A171)<>0,'ED272 Students YTD by Squadron'!C171,\" \")","v":"Broad Sound Power Squad  "},{"$f":"IF(('ED272 Students YTD by Squadron'!$A171)<>0,'ED272 Students YTD by Squadron'!D171,\" \")","v":0},{"$f":"IF(('ED272 Students YTD by Squadron'!$A171)<>0,'ED272 Students YTD by Squadron'!E171,\" \")","v":0},{"$f":"IF(('ED272 Students YTD by Squadron'!$A171)<>0,'ED272 Students YTD by Squadron'!F171,\" \")","v":0},{"$f":"IF(('ED272 Students YTD by Squadron'!$A171)<>0,'ED272 Students YTD by Squadron'!G171,\" \")","v":0},{"$f":"IF(('ED272 Students YTD by Squadron'!$A171)<>0,'ED272 Students YTD by Squadron'!H171,\" \")","v":0},{"$f":"IF(('ED272 Students YTD by Squadron'!$A171)<>0,'ED272 Students YTD by Squadron'!I171,\" \")","v":0},{"$f":"IF(('ED272 Students YTD by Squadron'!$A171)<>0,'ED272A Classes YTD by Squadron'!D171,\" \")","v":0},{"$f":"IF(('ED272 Students YTD by Squadron'!$A171)<>0,'ED272A Classes YTD by Squadron'!E171,\" \")","v":0}]
[{"$f":"IF(('ED272 Students YTD by Squadron'!$A172)<>0,'ED272 Students YTD by Squadron'!A172,\" \")","v":12},{"$f":"IF(('ED272 Students YTD by Squadron'!$A172)<>0,'ED272 Students YTD by Squadron'!B172,\" \")","v":1005},{"$f":"IF(('ED272 Students YTD by Squadron'!$A172)<>0,'ED272 Students YTD by Squadron'!C172,\" \")","v":"Charles River Sail &     "},{"$f":"IF(('ED272 Students YTD by Squadron'!$A172)<>0,'ED272 Students YTD by Squadron'!D172,\" \")","v":9},{"$f":"IF(('ED272 Students YTD by Squadron'!$A172)<>0,'ED272 Students YTD by Squadron'!E172,\" \")","v":0},{"$f":"IF(('ED272 Students YTD by Squadron'!$A172)<>0,'ED272 Students YTD by Squadron'!F172,\" \")","v":9},{"$f":"IF(('ED272 Students YTD by Squadron'!$A172)<>0,'ED272 Students YTD by Squadron'!G172,\" \")","v":0},{"$f":"IF(('ED272 Students YTD by Squadron'!$A172)<>0,'ED272 Students YTD by Squadron'!H172,\" \")","v":9},{"$f":"IF(('ED272 Students YTD by Squadron'!$A172)<>0,'ED272 Students YTD by Squadron'!I172,\" \")","v":0},{"$f":"IF(('ED272 Students YTD by Squadron'!$A172)<>0,'ED272A Classes YTD by Squadron'!D172,\" \")","v":1},{"$f":"IF(('ED272 Students YTD by Squadron'!$A172)<>0,'ED272A Classes YTD by Squadron'!E172,\" \")","v":0}]
[{"$f":"IF(('ED272 Students YTD by Squadron'!$A173)<>0,'ED272 Students YTD by Squadron'!A173,\" \")","v":12},{"$f":"IF(('ED272 Students YTD by Squadron'!$A173)<>0,'ED272 Students YTD by Squadron'!B173,\" \")","v":2040},{"$f":"IF(('ED272 Students YTD by Squadron'!$A173)<>0,'ED272 Students YTD by Squadron'!C173,\" \")","v":"Great Blue Hill Sail &   "},{"$f":"IF(('ED272 Students YTD by Squadron'!$A173)<>0,'ED272 Students YTD by Squadron'!D173,\" \")","v":22},{"$f":"IF(('ED272 Students YTD by Squadron'!$A173)<>0,'ED272 Students YTD by Squadron'!E173,\" \")","v":56},{"$f":"IF(('ED272 Students YTD by Squadron'!$A173)<>0,'ED272 Students YTD by Squadron'!F173,\" \")","v":20},{"$f":"IF(('ED272 Students YTD by Squadron'!$A173)<>0,'ED272 Students YTD by Squadron'!G173,\" \")","v":43},{"$f":"IF(('ED272 Students YTD by Squadron'!$A173)<>0,'ED272 Students YTD by Squadron'!H173,\" \")","v":20},{"$f":"IF(('ED272 Students YTD by Squadron'!$A173)<>0,'ED272 Students YTD by Squadron'!I173,\" \")","v":43},{"$f":"IF(('ED272 Students YTD by Squadron'!$A173)<>0,'ED272A Classes YTD by Squadron'!D173,\" \")","v":1},{"$f":"IF(('ED272 Students YTD by Squadron'!$A173)<>0,'ED272A Classes YTD by Squadron'!E173,\" \")","v":2}]
[{"$f":"IF(('ED272 Students YTD by Squadron'!$A174)<>0,'ED272 Students YTD by Squadron'!A174,\" \")","v":12},{"$f":"IF(('ED272 Students YTD by Squadron'!$A174)<>0,'ED272 Students YTD by Squadron'!B174,\" \")","v":3420},{"$f":"IF(('ED272 Students YTD by Squadron'!$A174)<>0,'ED272 Students YTD by Squadron'!C174,\" \")","v":"Minute Man Sail & Power  "},{"$f":"IF(('ED272 Students YTD by Squadron'!$A174)<>0,'ED272 Students YTD by Squadron'!D174,\" \")","v":5},{"$f":"IF(('ED272 Students YTD by Squadron'!$A174)<>0,'ED272 Students YTD by Squadron'!E174,\" \")","v":0},{"$f":"IF(('ED272 Students YTD by Squadron'!$A174)<>0,'ED272 Students YTD by Squadron'!F174,\" \")","v":5},{"$f":"IF(('ED272 Students YTD by Squadron'!$A174)<>0,'ED272 Students YTD by Squadron'!G174,\" \")","v":0},{"$f":"IF(('ED272 Students YTD by Squadron'!$A174)<>0,'ED272 Students YTD by Squadron'!H174,\" \")","v":5},{"$f":"IF(('ED272 Students YTD by Squadron'!$A174)<>0,'ED272 Students YTD by Squadron'!I174,\" \")","v":0},{"$f":"IF(('ED272 Students YTD by Squadron'!$A174)<>0,'ED272A Classes YTD by Squadron'!D174,\" \")","v":1},{"$f":"IF(('ED272 Students YTD by Squadron'!$A174)<>0,'ED272A Classes YTD by Squadron'!E174,\" \")","v":0}]
[{"$f":"IF(('ED272 Students YTD by Squadron'!$A175)<>0,'ED272 Students YTD by Squadron'!A175,\" \")","v":12},{"$f":"IF(('ED272 Students YTD by Squadron'!$A175)<>0,'ED272 Students YTD by Squadron'!B175,\" \")","v":3810},{"$f":"IF(('ED272 Students YTD by Squadron'!$A175)<>0,'ED272 Students YTD by Squadron'!C175,\" \")","v":"Nobscot Sail & Power Sqd "},{"$f":"IF(('ED272 Students YTD by Squadron'!$A175)<>0,'ED272 Students YTD by Squadron'!D175,\" \")","v":0},{"$f":"IF(('ED272 Students YTD by Squadron'!$A175)<>0,'ED272 Students YTD by Squadron'!E175,\" \")","v":0},{"$f":"IF(('ED272 Students YTD by Squadron'!$A175)<>0,'ED272 Students YTD by Squadron'!F175,\" \")","v":0},{"$f":"IF(('ED272 Students YTD by Squadron'!$A175)<>0,'ED272 Students YTD by Squadron'!G175,\" \")","v":0},{"$f":"IF(('ED272 Students YTD by Squadron'!$A175)<>0,'ED272 Students YTD by Squadron'!H175,\" \")","v":0},{"$f":"IF(('ED272 Students YTD by Squadron'!$A175)<>0,'ED272 Students YTD by Squadron'!I175,\" \")","v":0},{"$f":"IF(('ED272 Students YTD by Squadron'!$A175)<>0,'ED272A Classes YTD by Squadron'!D175,\" \")","v":0},{"$f":"IF(('ED272 Students YTD by Squadron'!$A175)<>0,'ED272A Classes YTD by Squadron'!E175,\" \")","v":0}]
[{"$f":"IF(('ED272 Students YTD by Squadron'!$A176)<>0,'ED272 Students YTD by Squadron'!A176,\" \")","v":12},{"$f":"IF(('ED272 Students YTD by Squadron'!$A176)<>0,'ED272 Students YTD by Squadron'!B176,\" \")","v":4020},{"$f":"IF(('ED272 Students YTD by Squadron'!$A176)<>0,'ED272 Students YTD by Squadron'!C176,\" \")","v":"Old Colony Power Squadron"},{"$f":"IF(('ED272 Students YTD by Squadron'!$A176)<>0,'ED272 Students YTD by Squadron'!D176,\" \")","v":27},{"$f":"IF(('ED272 Students YTD by Squadron'!$A176)<>0,'ED272 Students YTD by Squadron'!E176,\" \")","v":44},{"$f":"IF(('ED272 Students YTD by Squadron'!$A176)<>0,'ED272 Students YTD by Squadron'!F176,\" \")","v":22},{"$f":"IF(('ED272 Students YTD by Squadron'!$A176)<>0,'ED272 Students YTD by Squadron'!G176,\" \")","v":44},{"$f":"IF(('ED272 Students YTD by Squadron'!$A176)<>0,'ED272 Students YTD by Squadron'!H176,\" \")","v":22},{"$f":"IF(('ED272 Students YTD by Squadron'!$A176)<>0,'ED272 Students YTD by Squadron'!I176,\" \")","v":44},{"$f":"IF(('ED272 Students YTD by Squadron'!$A176)<>0,'ED272A Classes YTD by Squadron'!D176,\" \")","v":2},{"$f":"IF(('ED272 Students YTD by Squadron'!$A176)<>0,'ED272A Classes YTD by Squadron'!E176,\" \")","v":4}]
[{"$f":"IF(('ED272 Students YTD by Squadron'!$A177)<>0,'ED272 Students YTD by Squadron'!A177,\" \")","v":12},{"$f":"IF(('ED272 Students YTD by Squadron'!$A177)<>0,'ED272 Students YTD by Squadron'!B177,\" \")","v":6330},{"$f":"IF(('ED272 Students YTD by Squadron'!$A177)<>0,'ED272 Students YTD by Squadron'!C177,\" \")","v":"Worcester County Power   "},{"$f":"IF(('ED272 Students YTD by Squadron'!$A177)<>0,'ED272 Students YTD by Squadron'!D177,\" \")","v":4},{"$f":"IF(('ED272 Students YTD by Squadron'!$A177)<>0,'ED272 Students YTD by Squadron'!E177,\" \")","v":0},{"$f":"IF(('ED272 Students YTD by Squadron'!$A177)<>0,'ED272 Students YTD by Squadron'!F177,\" \")","v":4},{"$f":"IF(('ED272 Students YTD by Squadron'!$A177)<>0,'ED272 Students YTD by Squadron'!G177,\" \")","v":0},{"$f":"IF(('ED272 Students YTD by Squadron'!$A177)<>0,'ED272 Students YTD by Squadron'!H177,\" \")","v":4},{"$f":"IF(('ED272 Students YTD by Squadron'!$A177)<>0,'ED272 Students YTD by Squadron'!I177,\" \")","v":0},{"$f":"IF(('ED272 Students YTD by Squadron'!$A177)<>0,'ED272A Classes YTD by Squadron'!D177,\" \")","v":2},{"$f":"IF(('ED272 Students YTD by Squadron'!$A177)<>0,'ED272A Classes YTD by Squadron'!E177,\" \")","v":0}]
[{"$f":"IF(('ED272 Students YTD by Squadron'!$A178)<>0,'ED272 Students YTD by Squadron'!A178,\" \")","v":13},{"$f":"IF(('ED272 Students YTD by Squadron'!$A178)<>0,'ED272 Students YTD by Squadron'!B178,\" \")","v":75},{"$f":"IF(('ED272 Students YTD by Squadron'!$A178)<>0,'ED272 Students YTD by Squadron'!C178,\" \")","v":"Alamitos Power Squadron  "},{"$f":"IF(('ED272 Students YTD by Squadron'!$A178)<>0,'ED272 Students YTD by Squadron'!D178,\" \")","v":10},{"$f":"IF(('ED272 Students YTD by Squadron'!$A178)<>0,'ED272 Students YTD by Squadron'!E178,\" \")","v":4},{"$f":"IF(('ED272 Students YTD by Squadron'!$A178)<>0,'ED272 Students YTD by Squadron'!F178,\" \")","v":8},{"$f":"IF(('ED272 Students YTD by Squadron'!$A178)<>0,'ED272 Students YTD by Squadron'!G178,\" \")","v":1},{"$f":"IF(('ED272 Students YTD by Squadron'!$A178)<>0,'ED272 Students YTD by Squadron'!H178,\" \")","v":7},{"$f":"IF(('ED272 Students YTD by Squadron'!$A178)<>0,'ED272 Students YTD by Squadron'!I178,\" \")","v":1},{"$f":"IF(('ED272 Students YTD by Squadron'!$A178)<>0,'ED272A Classes YTD by Squadron'!D178,\" \")","v":3},{"$f":"IF(('ED272 Students YTD by Squadron'!$A178)<>0,'ED272A Classes YTD by Squadron'!E178,\" \")","v":1}]
[{"$f":"IF(('ED272 Students YTD by Squadron'!$A179)<>0,'ED272 Students YTD by Squadron'!A179,\" \")","v":13},{"$f":"IF(('ED272 Students YTD by Squadron'!$A179)<>0,'ED272 Students YTD by Squadron'!B179,\" \")","v":195},{"$f":"IF(('ED272 Students YTD by Squadron'!$A179)<>0,'ED272 Students YTD by Squadron'!C179,\" \")","v":"Arrowhead Sail & Power Sq"},{"$f":"IF(('ED272 Students YTD by Squadron'!$A179)<>0,'ED272 Students YTD by Squadron'!D179,\" \")","v":12},{"$f":"IF(('ED272 Students YTD by Squadron'!$A179)<>0,'ED272 Students YTD by Squadron'!E179,\" \")","v":0},{"$f":"IF(('ED272 Students YTD by Squadron'!$A179)<>0,'ED272 Students YTD by Squadron'!F179,\" \")","v":12},{"$f":"IF(('ED272 Students YTD by Squadron'!$A179)<>0,'ED272 Students YTD by Squadron'!G179,\" \")","v":0},{"$f":"IF(('ED272 Students YTD by Squadron'!$A179)<>0,'ED272 Students YTD by Squadron'!H179,\" \")","v":12},{"$f":"IF(('ED272 Students YTD by Squadron'!$A179)<>0,'ED272 Students YTD by Squadron'!I179,\" \")","v":0},{"$f":"IF(('ED272 Students YTD by Squadron'!$A179)<>0,'ED272A Classes YTD by Squadron'!D179,\" \")","v":6},{"$f":"IF(('ED272 Students YTD by Squadron'!$A179)<>0,'ED272A Classes YTD by Squadron'!E179,\" \")","v":1}]
[{"$f":"IF(('ED272 Students YTD by Squadron'!$A180)<>0,'ED272 Students YTD by Squadron'!A180,\" \")","v":13},{"$f":"IF(('ED272 Students YTD by Squadron'!$A180)<>0,'ED272 Students YTD by Squadron'!B180,\" \")","v":2225},{"$f":"IF(('ED272 Students YTD by Squadron'!$A180)<>0,'ED272 Students YTD by Squadron'!C180,\" \")","v":"Hawaii Sail & Power Squad"},{"$f":"IF(('ED272 Students YTD by Squadron'!$A180)<>0,'ED272 Students YTD by Squadron'!D180,\" \")","v":142},{"$f":"IF(('ED272 Students YTD by Squadron'!$A180)<>0,'ED272 Students YTD by Squadron'!E180,\" \")","v":9},{"$f":"IF(('ED272 Students YTD by Squadron'!$A180)<>0,'ED272 Students YTD by Squadron'!F180,\" \")","v":105},{"$f":"IF(('ED272 Students YTD by Squadron'!$A180)<>0,'ED272 Students YTD by Squadron'!G180,\" \")","v":5},{"$f":"IF(('ED272 Students YTD by Squadron'!$A180)<>0,'ED272 Students YTD by Squadron'!H180,\" \")","v":105},{"$f":"IF(('ED272 Students YTD by Squadron'!$A180)<>0,'ED272 Students YTD by Squadron'!I180,\" \")","v":5},{"$f":"IF(('ED272 Students YTD by Squadron'!$A180)<>0,'ED272A Classes YTD by Squadron'!D180,\" \")","v":9},{"$f":"IF(('ED272 Students YTD by Squadron'!$A180)<>0,'ED272A Classes YTD by Squadron'!E180,\" \")","v":1}]
[{"$f":"IF(('ED272 Students YTD by Squadron'!$A181)<>0,'ED272 Students YTD by Squadron'!A181,\" \")","v":13},{"$f":"IF(('ED272 Students YTD by Squadron'!$A181)<>0,'ED272 Students YTD by Squadron'!B181,\" \")","v":2310},{"$f":"IF(('ED272 Students YTD by Squadron'!$A181)<>0,'ED272 Students YTD by Squadron'!C181,\" \")","v":"Honolulu Power Squadron  "},{"$f":"IF(('ED272 Students YTD by Squadron'!$A181)<>0,'ED272 Students YTD by Squadron'!D181,\" \")","v":34},{"$f":"IF(('ED272 Students YTD by Squadron'!$A181)<>0,'ED272 Students YTD by Squadron'!E181,\" \")","v":0},{"$f":"IF(('ED272 Students YTD by Squadron'!$A181)<>0,'ED272 Students YTD by Squadron'!F181,\" \")","v":25},{"$f":"IF(('ED272 Students YTD by Squadron'!$A181)<>0,'ED272 Students YTD by Squadron'!G181,\" \")","v":0},{"$f":"IF(('ED272 Students YTD by Squadron'!$A181)<>0,'ED272 Students YTD by Squadron'!H181,\" \")","v":25},{"$f":"IF(('ED272 Students YTD by Squadron'!$A181)<>0,'ED272 Students YTD by Squadron'!I181,\" \")","v":0},{"$f":"IF(('ED272 Students YTD by Squadron'!$A181)<>0,'ED272A Classes YTD by Squadron'!D181,\" \")","v":4},{"$f":"IF(('ED272 Students YTD by Squadron'!$A181)<>0,'ED272A Classes YTD by Squadron'!E181,\" \")","v":0}]
[{"$f":"IF(('ED272 Students YTD by Squadron'!$A182)<>0,'ED272 Students YTD by Squadron'!A182,\" \")","v":13},{"$f":"IF(('ED272 Students YTD by Squadron'!$A182)<>0,'ED272 Students YTD by Squadron'!B182,\" \")","v":2835},{"$f":"IF(('ED272 Students YTD by Squadron'!$A182)<>0,'ED272 Students YTD by Squadron'!C182,\" \")","v":"Las Vegas Sail & Power Sq"},{"$f":"IF(('ED272 Students YTD by Squadron'!$A182)<>0,'ED272 Students YTD by Squadron'!D182,\" \")","v":12},{"$f":"IF(('ED272 Students YTD by Squadron'!$A182)<>0,'ED272 Students YTD by Squadron'!E182,\" \")","v":6},{"$f":"IF(('ED272 Students YTD by Squadron'!$A182)<>0,'ED272 Students YTD by Squadron'!F182,\" \")","v":12},{"$f":"IF(('ED272 Students YTD by Squadron'!$A182)<>0,'ED272 Students YTD by Squadron'!G182,\" \")","v":4},{"$f":"IF(('ED272 Students YTD by Squadron'!$A182)<>0,'ED272 Students YTD by Squadron'!H182,\" \")","v":12},{"$f":"IF(('ED272 Students YTD by Squadron'!$A182)<>0,'ED272 Students YTD by Squadron'!I182,\" \")","v":4},{"$f":"IF(('ED272 Students YTD by Squadron'!$A182)<>0,'ED272A Classes YTD by Squadron'!D182,\" \")","v":3},{"$f":"IF(('ED272 Students YTD by Squadron'!$A182)<>0,'ED272A Classes YTD by Squadron'!E182,\" \")","v":2}]
[{"$f":"IF(('ED272 Students YTD by Squadron'!$A183)<>0,'ED272 Students YTD by Squadron'!A183,\" \")","v":13},{"$f":"IF(('ED272 Students YTD by Squadron'!$A183)<>0,'ED272 Students YTD by Squadron'!B183,\" \")","v":2925},{"$f":"IF(('ED272 Students YTD by Squadron'!$A183)<>0,'ED272 Students YTD by Squadron'!C183,\" \")","v":"Long Beach Power Squadron"},{"$f":"IF(('ED272 Students YTD by Squadron'!$A183)<>0,'ED272 Students YTD by Squadron'!D183,\" \")","v":4},{"$f":"IF(('ED272 Students YTD by Squadron'!$A183)<>0,'ED272 Students YTD by Squadron'!E183,\" \")","v":4},{"$f":"IF(('ED272 Students YTD by Squadron'!$A183)<>0,'ED272 Students YTD by Squadron'!F183,\" \")","v":2},{"$f":"IF(('ED272 Students YTD by Squadron'!$A183)<>0,'ED272 Students YTD by Squadron'!G183,\" \")","v":4},{"$f":"IF(('ED272 Students YTD by Squadron'!$A183)<>0,'ED272 Students YTD by Squadron'!H183,\" \")","v":2},{"$f":"IF(('ED272 Students YTD by Squadron'!$A183)<>0,'ED272 Students YTD by Squadron'!I183,\" \")","v":4},{"$f":"IF(('ED272 Students YTD by Squadron'!$A183)<>0,'ED272A Classes YTD by Squadron'!D183,\" \")","v":1},{"$f":"IF(('ED272 Students YTD by Squadron'!$A183)<>0,'ED272A Classes YTD by Squadron'!E183,\" \")","v":1}]
[{"$f":"IF(('ED272 Students YTD by Squadron'!$A184)<>0,'ED272 Students YTD by Squadron'!A184,\" \")","v":13},{"$f":"IF(('ED272 Students YTD by Squadron'!$A184)<>0,'ED272 Students YTD by Squadron'!B184,\" \")","v":5235},{"$f":"IF(('ED272 Students YTD by Squadron'!$A184)<>0,'ED272 Students YTD by Squadron'!C184,\" \")","v":"Santa Barbara Sail &     "},{"$f":"IF(('ED272 Students YTD by Squadron'!$A184)<>0,'ED272 Students YTD by Squadron'!D184,\" \")","v":21},{"$f":"IF(('ED272 Students YTD by Squadron'!$A184)<>0,'ED272 Students YTD by Squadron'!E184,\" \")","v":0},{"$f":"IF(('ED272 Students YTD by Squadron'!$A184)<>0,'ED272 Students YTD by Squadron'!F184,\" \")","v":18},{"$f":"IF(('ED272 Students YTD by Squadron'!$A184)<>0,'ED272 Students YTD by Squadron'!G184,\" \")","v":0},{"$f":"IF(('ED272 Students YTD by Squadron'!$A184)<>0,'ED272 Students YTD by Squadron'!H184,\" \")","v":18},{"$f":"IF(('ED272 Students YTD by Squadron'!$A184)<>0,'ED272 Students YTD by Squadron'!I184,\" \")","v":0},{"$f":"IF(('ED272 Students YTD by Squadron'!$A184)<>0,'ED272A Classes YTD by Squadron'!D184,\" \")","v":2},{"$f":"IF(('ED272 Students YTD by Squadron'!$A184)<>0,'ED272A Classes YTD by Squadron'!E184,\" \")","v":0}]
[{"$f":"IF(('ED272 Students YTD by Squadron'!$A185)<>0,'ED272 Students YTD by Squadron'!A185,\" \")","v":13},{"$f":"IF(('ED272 Students YTD by Squadron'!$A185)<>0,'ED272 Students YTD by Squadron'!B185,\" \")","v":5898},{"$f":"IF(('ED272 Students YTD by Squadron'!$A185)<>0,'ED272 Students YTD by Squadron'!C185,\" \")","v":"The Valley Sail & Power  "},{"$f":"IF(('ED272 Students YTD by Squadron'!$A185)<>0,'ED272 Students YTD by Squadron'!D185,\" \")","v":21},{"$f":"IF(('ED272 Students YTD by Squadron'!$A185)<>0,'ED272 Students YTD by Squadron'!E185,\" \")","v":0},{"$f":"IF(('ED272 Students YTD by Squadron'!$A185)<>0,'ED272 Students YTD by Squadron'!F185,\" \")","v":17},{"$f":"IF(('ED272 Students YTD by Squadron'!$A185)<>0,'ED272 Students YTD by Squadron'!G185,\" \")","v":0},{"$f":"IF(('ED272 Students YTD by Squadron'!$A185)<>0,'ED272 Students YTD by Squadron'!H185,\" \")","v":16},{"$f":"IF(('ED272 Students YTD by Squadron'!$A185)<>0,'ED272 Students YTD by Squadron'!I185,\" \")","v":0},{"$f":"IF(('ED272 Students YTD by Squadron'!$A185)<>0,'ED272A Classes YTD by Squadron'!D185,\" \")","v":5},{"$f":"IF(('ED272 Students YTD by Squadron'!$A185)<>0,'ED272A Classes YTD by Squadron'!E185,\" \")","v":0}]
[{"$f":"IF(('ED272 Students YTD by Squadron'!$A186)<>0,'ED272 Students YTD by Squadron'!A186,\" \")","v":13},{"$f":"IF(('ED272 Students YTD by Squadron'!$A186)<>0,'ED272 Students YTD by Squadron'!B186,\" \")","v":5900},{"$f":"IF(('ED272 Students YTD by Squadron'!$A186)<>0,'ED272 Students YTD by Squadron'!C186,\" \")","v":"Tokyo Sail & Power Squad "},{"$f":"IF(('ED272 Students YTD by Squadron'!$A186)<>0,'ED272 Students YTD by Squadron'!D186,\" \")","v":0},{"$f":"IF(('ED272 Students YTD by Squadron'!$A186)<>0,'ED272 Students YTD by Squadron'!E186,\" \")","v":0},{"$f":"IF(('ED272 Students YTD by Squadron'!$A186)<>0,'ED272 Students YTD by Squadron'!F186,\" \")","v":0},{"$f":"IF(('ED272 Students YTD by Squadron'!$A186)<>0,'ED272 Students YTD by Squadron'!G186,\" \")","v":0},{"$f":"IF(('ED272 Students YTD by Squadron'!$A186)<>0,'ED272 Students YTD by Squadron'!H186,\" \")","v":0},{"$f":"IF(('ED272 Students YTD by Squadron'!$A186)<>0,'ED272 Students YTD by Squadron'!I186,\" \")","v":0},{"$f":"IF(('ED272 Students YTD by Squadron'!$A186)<>0,'ED272A Classes YTD by Squadron'!D186,\" \")","v":0},{"$f":"IF(('ED272 Students YTD by Squadron'!$A186)<>0,'ED272A Classes YTD by Squadron'!E186,\" \")","v":0}]
[{"$f":"IF(('ED272 Students YTD by Squadron'!$A187)<>0,'ED272 Students YTD by Squadron'!A187,\" \")","v":13},{"$f":"IF(('ED272 Students YTD by Squadron'!$A187)<>0,'ED272 Students YTD by Squadron'!B187,\" \")","v":5926},{"$f":"IF(('ED272 Students YTD by Squadron'!$A187)<>0,'ED272 Students YTD by Squadron'!C187,\" \")","v":"Tres Rios Power Squadron "},{"$f":"IF(('ED272 Students YTD by Squadron'!$A187)<>0,'ED272 Students YTD by Squadron'!D187,\" \")","v":7},{"$f":"IF(('ED272 Students YTD by Squadron'!$A187)<>0,'ED272 Students YTD by Squadron'!E187,\" \")","v":0},{"$f":"IF(('ED272 Students YTD by Squadron'!$A187)<>0,'ED272 Students YTD by Squadron'!F187,\" \")","v":7},{"$f":"IF(('ED272 Students YTD by Squadron'!$A187)<>0,'ED272 Students YTD by Squadron'!G187,\" \")","v":0},{"$f":"IF(('ED272 Students YTD by Squadron'!$A187)<>0,'ED272 Students YTD by Squadron'!H187,\" \")","v":7},{"$f":"IF(('ED272 Students YTD by Squadron'!$A187)<>0,'ED272 Students YTD by Squadron'!I187,\" \")","v":0},{"$f":"IF(('ED272 Students YTD by Squadron'!$A187)<>0,'ED272A Classes YTD by Squadron'!D187,\" \")","v":2},{"$f":"IF(('ED272 Students YTD by Squadron'!$A187)<>0,'ED272A Classes YTD by Squadron'!E187,\" \")","v":0}]
[{"$f":"IF(('ED272 Students YTD by Squadron'!$A188)<>0,'ED272 Students YTD by Squadron'!A188,\" \")","v":13},{"$f":"IF(('ED272 Students YTD by Squadron'!$A188)<>0,'ED272 Students YTD by Squadron'!B188,\" \")","v":6045},{"$f":"IF(('ED272 Students YTD by Squadron'!$A188)<>0,'ED272 Students YTD by Squadron'!C188,\" \")","v":"Ventura Power Squadron   "},{"$f":"IF(('ED272 Students YTD by Squadron'!$A188)<>0,'ED272 Students YTD by Squadron'!D188,\" \")","v":41},{"$f":"IF(('ED272 Students YTD by Squadron'!$A188)<>0,'ED272 Students YTD by Squadron'!E188,\" \")","v":41},{"$f":"IF(('ED272 Students YTD by Squadron'!$A188)<>0,'ED272 Students YTD by Squadron'!F188,\" \")","v":36},{"$f":"IF(('ED272 Students YTD by Squadron'!$A188)<>0,'ED272 Students YTD by Squadron'!G188,\" \")","v":34},{"$f":"IF(('ED272 Students YTD by Squadron'!$A188)<>0,'ED272 Students YTD by Squadron'!H188,\" \")","v":36},{"$f":"IF(('ED272 Students YTD by Squadron'!$A188)<>0,'ED272 Students YTD by Squadron'!I188,\" \")","v":34},{"$f":"IF(('ED272 Students YTD by Squadron'!$A188)<>0,'ED272A Classes YTD by Squadron'!D188,\" \")","v":2},{"$f":"IF(('ED272 Students YTD by Squadron'!$A188)<>0,'ED272A Classes YTD by Squadron'!E188,\" \")","v":2}]
[{"$f":"IF(('ED272 Students YTD by Squadron'!$A189)<>0,'ED272 Students YTD by Squadron'!A189,\" \")","v":14},{"$f":"IF(('ED272 Students YTD by Squadron'!$A189)<>0,'ED272 Students YTD by Squadron'!B189,\" \")","v":735},{"$f":"IF(('ED272 Students YTD by Squadron'!$A189)<>0,'ED272 Students YTD by Squadron'!C189,\" \")","v":"Buzzards Bay Sail & Power"},{"$f":"IF(('ED272 Students YTD by Squadron'!$A189)<>0,'ED272 Students YTD by Squadron'!D189,\" \")","v":14},{"$f":"IF(('ED272 Students YTD by Squadron'!$A189)<>0,'ED272 Students YTD by Squadron'!E189,\" \")","v":15},{"$f":"IF(('ED272 Students YTD by Squadron'!$A189)<>0,'ED272 Students YTD by Squadron'!F189,\" \")","v":14},{"$f":"IF(('ED272 Students YTD by Squadron'!$A189)<>0,'ED272 Students YTD by Squadron'!G189,\" \")","v":15},{"$f":"IF(('ED272 Students YTD by Squadron'!$A189)<>0,'ED272 Students YTD by Squadron'!H189,\" \")","v":14},{"$f":"IF(('ED272 Students YTD by Squadron'!$A189)<>0,'ED272 Students YTD by Squadron'!I189,\" \")","v":15},{"$f":"IF(('ED272 Students YTD by Squadron'!$A189)<>0,'ED272A Classes YTD by Squadron'!D189,\" \")","v":2},{"$f":"IF(('ED272 Students YTD by Squadron'!$A189)<>0,'ED272A Classes YTD by Squadron'!E189,\" \")","v":2}]
[{"$f":"IF(('ED272 Students YTD by Squadron'!$A190)<>0,'ED272 Students YTD by Squadron'!A190,\" \")","v":14},{"$f":"IF(('ED272 Students YTD by Squadron'!$A190)<>0,'ED272 Students YTD by Squadron'!B190,\" \")","v":825},{"$f":"IF(('ED272 Students YTD by Squadron'!$A190)<>0,'ED272 Students YTD by Squadron'!C190,\" \")","v":"Cape Cod Sail & Power Sqd"},{"$f":"IF(('ED272 Students YTD by Squadron'!$A190)<>0,'ED272 Students YTD by Squadron'!D190,\" \")","v":58},{"$f":"IF(('ED272 Students YTD by Squadron'!$A190)<>0,'ED272 Students YTD by Squadron'!E190,\" \")","v":36},{"$f":"IF(('ED272 Students YTD by Squadron'!$A190)<>0,'ED272 Students YTD by Squadron'!F190,\" \")","v":45},{"$f":"IF(('ED272 Students YTD by Squadron'!$A190)<>0,'ED272 Students YTD by Squadron'!G190,\" \")","v":26},{"$f":"IF(('ED272 Students YTD by Squadron'!$A190)<>0,'ED272 Students YTD by Squadron'!H190,\" \")","v":45},{"$f":"IF(('ED272 Students YTD by Squadron'!$A190)<>0,'ED272 Students YTD by Squadron'!I190,\" \")","v":26},{"$f":"IF(('ED272 Students YTD by Squadron'!$A190)<>0,'ED272A Classes YTD by Squadron'!D190,\" \")","v":2},{"$f":"IF(('ED272 Students YTD by Squadron'!$A190)<>0,'ED272A Classes YTD by Squadron'!E190,\" \")","v":2}]
[{"$f":"IF(('ED272 Students YTD by Squadron'!$A191)<>0,'ED272 Students YTD by Squadron'!A191,\" \")","v":14},{"$f":"IF(('ED272 Students YTD by Squadron'!$A191)<>0,'ED272 Students YTD by Squadron'!B191,\" \")","v":2130},{"$f":"IF(('ED272 Students YTD by Squadron'!$A191)<>0,'ED272 Students YTD by Squadron'!C191,\" \")","v":"Greenwich Bay Sail &     "},{"$f":"IF(('ED272 Students YTD by Squadron'!$A191)<>0,'ED272 Students YTD by Squadron'!D191,\" \")","v":0},{"$f":"IF(('ED272 Students YTD by Squadron'!$A191)<>0,'ED272 Students YTD by Squadron'!E191,\" \")","v":0},{"$f":"IF(('ED272 Students YTD by Squadron'!$A191)<>0,'ED272 Students YTD by Squadron'!F191,\" \")","v":0},{"$f":"IF(('ED272 Students YTD by Squadron'!$A191)<>0,'ED272 Students YTD by Squadron'!G191,\" \")","v":0},{"$f":"IF(('ED272 Students YTD by Squadron'!$A191)<>0,'ED272 Students YTD by Squadron'!H191,\" \")","v":0},{"$f":"IF(('ED272 Students YTD by Squadron'!$A191)<>0,'ED272 Students YTD by Squadron'!I191,\" \")","v":0},{"$f":"IF(('ED272 Students YTD by Squadron'!$A191)<>0,'ED272A Classes YTD by Squadron'!D191,\" \")","v":0},{"$f":"IF(('ED272 Students YTD by Squadron'!$A191)<>0,'ED272A Classes YTD by Squadron'!E191,\" \")","v":0}]
[{"$f":"IF(('ED272 Students YTD by Squadron'!$A192)<>0,'ED272 Students YTD by Squadron'!A192,\" \")","v":14},{"$f":"IF(('ED272 Students YTD by Squadron'!$A192)<>0,'ED272 Students YTD by Squadron'!B192,\" \")","v":3165},{"$f":"IF(('ED272 Students YTD by Squadron'!$A192)<>0,'ED272 Students YTD by Squadron'!C192,\" \")","v":"Mattapoisett Power Squad "},{"$f":"IF(('ED272 Students YTD by Squadron'!$A192)<>0,'ED272 Students YTD by Squadron'!D192,\" \")","v":0},{"$f":"IF(('ED272 Students YTD by Squadron'!$A192)<>0,'ED272 Students YTD by Squadron'!E192,\" \")","v":0},{"$f":"IF(('ED272 Students YTD by Squadron'!$A192)<>0,'ED272 Students YTD by Squadron'!F192,\" \")","v":0},{"$f":"IF(('ED272 Students YTD by Squadron'!$A192)<>0,'ED272 Students YTD by Squadron'!G192,\" \")","v":0},{"$f":"IF(('ED272 Students YTD by Squadron'!$A192)<>0,'ED272 Students YTD by Squadron'!H192,\" \")","v":0},{"$f":"IF(('ED272 Students YTD by Squadron'!$A192)<>0,'ED272 Students YTD by Squadron'!I192,\" \")","v":0},{"$f":"IF(('ED272 Students YTD by Squadron'!$A192)<>0,'ED272A Classes YTD by Squadron'!D192,\" \")","v":0},{"$f":"IF(('ED272 Students YTD by Squadron'!$A192)<>0,'ED272A Classes YTD by Squadron'!E192,\" \")","v":0}]
[{"$f":"IF(('ED272 Students YTD by Squadron'!$A193)<>0,'ED272 Students YTD by Squadron'!A193,\" \")","v":14},{"$f":"IF(('ED272 Students YTD by Squadron'!$A193)<>0,'ED272 Students YTD by Squadron'!B193,\" \")","v":3630},{"$f":"IF(('ED272 Students YTD by Squadron'!$A193)<>0,'ED272 Students YTD by Squadron'!C193,\" \")","v":"Narragansett Bay Power Sq"},{"$f":"IF(('ED272 Students YTD by Squadron'!$A193)<>0,'ED272 Students YTD by Squadron'!D193,\" \")","v":0},{"$f":"IF(('ED272 Students YTD by Squadron'!$A193)<>0,'ED272 Students YTD by Squadron'!E193,\" \")","v":0},{"$f":"IF(('ED272 Students YTD by Squadron'!$A193)<>0,'ED272 Students YTD by Squadron'!F193,\" \")","v":0},{"$f":"IF(('ED272 Students YTD by Squadron'!$A193)<>0,'ED272 Students YTD by Squadron'!G193,\" \")","v":0},{"$f":"IF(('ED272 Students YTD by Squadron'!$A193)<>0,'ED272 Students YTD by Squadron'!H193,\" \")","v":0},{"$f":"IF(('ED272 Students YTD by Squadron'!$A193)<>0,'ED272 Students YTD by Squadron'!I193,\" \")","v":0},{"$f":"IF(('ED272 Students YTD by Squadron'!$A193)<>0,'ED272A Classes YTD by Squadron'!D193,\" \")","v":0},{"$f":"IF(('ED272 Students YTD by Squadron'!$A193)<>0,'ED272A Classes YTD by Squadron'!E193,\" \")","v":0}]
[{"$f":"IF(('ED272 Students YTD by Squadron'!$A194)<>0,'ED272 Students YTD by Squadron'!A194,\" \")","v":14},{"$f":"IF(('ED272 Students YTD by Squadron'!$A194)<>0,'ED272 Students YTD by Squadron'!B194,\" \")","v":3750},{"$f":"IF(('ED272 Students YTD by Squadron'!$A194)<>0,'ED272 Students YTD by Squadron'!C194,\" \")","v":"Newport Sail & Power Sqd "},{"$f":"IF(('ED272 Students YTD by Squadron'!$A194)<>0,'ED272 Students YTD by Squadron'!D194,\" \")","v":0},{"$f":"IF(('ED272 Students YTD by Squadron'!$A194)<>0,'ED272 Students YTD by Squadron'!E194,\" \")","v":0},{"$f":"IF(('ED272 Students YTD by Squadron'!$A194)<>0,'ED272 Students YTD by Squadron'!F194,\" \")","v":0},{"$f":"IF(('ED272 Students YTD by Squadron'!$A194)<>0,'ED272 Students YTD by Squadron'!G194,\" \")","v":0},{"$f":"IF(('ED272 Students YTD by Squadron'!$A194)<>0,'ED272 Students YTD by Squadron'!H194,\" \")","v":0},{"$f":"IF(('ED272 Students YTD by Squadron'!$A194)<>0,'ED272 Students YTD by Squadron'!I194,\" \")","v":0},{"$f":"IF(('ED272 Students YTD by Squadron'!$A194)<>0,'ED272A Classes YTD by Squadron'!D194,\" \")","v":0},{"$f":"IF(('ED272 Students YTD by Squadron'!$A194)<>0,'ED272A Classes YTD by Squadron'!E194,\" \")","v":0}]
[{"$f":"IF(('ED272 Students YTD by Squadron'!$A195)<>0,'ED272 Students YTD by Squadron'!A195,\" \")","v":14},{"$f":"IF(('ED272 Students YTD by Squadron'!$A195)<>0,'ED272 Students YTD by Squadron'!B195,\" \")","v":5880},{"$f":"IF(('ED272 Students YTD by Squadron'!$A195)<>0,'ED272 Students YTD by Squadron'!C195,\" \")","v":"Taunton River Power Squad"},{"$f":"IF(('ED272 Students YTD by Squadron'!$A195)<>0,'ED272 Students YTD by Squadron'!D195,\" \")","v":61},{"$f":"IF(('ED272 Students YTD by Squadron'!$A195)<>0,'ED272 Students YTD by Squadron'!E195,\" \")","v":34},{"$f":"IF(('ED272 Students YTD by Squadron'!$A195)<>0,'ED272 Students YTD by Squadron'!F195,\" \")","v":60},{"$f":"IF(('ED272 Students YTD by Squadron'!$A195)<>0,'ED272 Students YTD by Squadron'!G195,\" \")","v":28},{"$f":"IF(('ED272 Students YTD by Squadron'!$A195)<>0,'ED272 Students YTD by Squadron'!H195,\" \")","v":60},{"$f":"IF(('ED272 Students YTD by Squadron'!$A195)<>0,'ED272 Students YTD by Squadron'!I195,\" \")","v":28},{"$f":"IF(('ED272 Students YTD by Squadron'!$A195)<>0,'ED272A Classes YTD by Squadron'!D195,\" \")","v":3},{"$f":"IF(('ED272 Students YTD by Squadron'!$A195)<>0,'ED272A Classes YTD by Squadron'!E195,\" \")","v":2}]
[{"$f":"IF(('ED272 Students YTD by Squadron'!$A196)<>0,'ED272 Students YTD by Squadron'!A196,\" \")","v":15},{"$f":"IF(('ED272 Students YTD by Squadron'!$A196)<>0,'ED272 Students YTD by Squadron'!B196,\" \")","v":375},{"$f":"IF(('ED272 Students YTD by Squadron'!$A196)<>0,'ED272 Students YTD by Squadron'!C196,\" \")","v":"Baton Rouge Sail & Power "},{"$f":"IF(('ED272 Students YTD by Squadron'!$A196)<>0,'ED272 Students YTD by Squadron'!D196,\" \")","v":0},{"$f":"IF(('ED272 Students YTD by Squadron'!$A196)<>0,'ED272 Students YTD by Squadron'!E196,\" \")","v":0},{"$f":"IF(('ED272 Students YTD by Squadron'!$A196)<>0,'ED272 Students YTD by Squadron'!F196,\" \")","v":0},{"$f":"IF(('ED272 Students YTD by Squadron'!$A196)<>0,'ED272 Students YTD by Squadron'!G196,\" \")","v":0},{"$f":"IF(('ED272 Students YTD by Squadron'!$A196)<>0,'ED272 Students YTD by Squadron'!H196,\" \")","v":0},{"$f":"IF(('ED272 Students YTD by Squadron'!$A196)<>0,'ED272 Students YTD by Squadron'!I196,\" \")","v":0},{"$f":"IF(('ED272 Students YTD by Squadron'!$A196)<>0,'ED272A Classes YTD by Squadron'!D196,\" \")","v":2},{"$f":"IF(('ED272 Students YTD by Squadron'!$A196)<>0,'ED272A Classes YTD by Squadron'!E196,\" \")","v":0}]
[{"$f":"IF(('ED272 Students YTD by Squadron'!$A197)<>0,'ED272 Students YTD by Squadron'!A197,\" \")","v":15},{"$f":"IF(('ED272 Students YTD by Squadron'!$A197)<>0,'ED272 Students YTD by Squadron'!B197,\" \")","v":1860},{"$f":"IF(('ED272 Students YTD by Squadron'!$A197)<>0,'ED272 Students YTD by Squadron'!C197,\" \")","v":"Ft. Walton Sail & Power  "},{"$f":"IF(('ED272 Students YTD by Squadron'!$A197)<>0,'ED272 Students YTD by Squadron'!D197,\" \")","v":91},{"$f":"IF(('ED272 Students YTD by Squadron'!$A197)<>0,'ED272 Students YTD by Squadron'!E197,\" \")","v":127},{"$f":"IF(('ED272 Students YTD by Squadron'!$A197)<>0,'ED272 Students YTD by Squadron'!F197,\" \")","v":87},{"$f":"IF(('ED272 Students YTD by Squadron'!$A197)<>0,'ED272 Students YTD by Squadron'!G197,\" \")","v":109},{"$f":"IF(('ED272 Students YTD by Squadron'!$A197)<>0,'ED272 Students YTD by Squadron'!H197,\" \")","v":87},{"$f":"IF(('ED272 Students YTD by Squadron'!$A197)<>0,'ED272 Students YTD by Squadron'!I197,\" \")","v":109},{"$f":"IF(('ED272 Students YTD by Squadron'!$A197)<>0,'ED272A Classes YTD by Squadron'!D197,\" \")","v":6},{"$f":"IF(('ED272 Students YTD by Squadron'!$A197)<>0,'ED272A Classes YTD by Squadron'!E197,\" \")","v":6}]
[{"$f":"IF(('ED272 Students YTD by Squadron'!$A198)<>0,'ED272 Students YTD by Squadron'!A198,\" \")","v":15},{"$f":"IF(('ED272 Students YTD by Squadron'!$A198)<>0,'ED272 Students YTD by Squadron'!B198,\" \")","v":2793},{"$f":"IF(('ED272 Students YTD by Squadron'!$A198)<>0,'ED272 Students YTD by Squadron'!C198,\" \")","v":"Lake Pontchartrain Sail  "},{"$f":"IF(('ED272 Students YTD by Squadron'!$A198)<>0,'ED272 Students YTD by Squadron'!D198,\" \")","v":17},{"$f":"IF(('ED272 Students YTD by Squadron'!$A198)<>0,'ED272 Students YTD by Squadron'!E198,\" \")","v":8},{"$f":"IF(('ED272 Students YTD by Squadron'!$A198)<>0,'ED272 Students YTD by Squadron'!F198,\" \")","v":17},{"$f":"IF(('ED272 Students YTD by Squadron'!$A198)<>0,'ED272 Students YTD by Squadron'!G198,\" \")","v":8},{"$f":"IF(('ED272 Students YTD by Squadron'!$A198)<>0,'ED272 Students YTD by Squadron'!H198,\" \")","v":17},{"$f":"IF(('ED272 Students YTD by Squadron'!$A198)<>0,'ED272 Students YTD by Squadron'!I198,\" \")","v":8},{"$f":"IF(('ED272 Students YTD by Squadron'!$A198)<>0,'ED272A Classes YTD by Squadron'!D198,\" \")","v":1},{"$f":"IF(('ED272 Students YTD by Squadron'!$A198)<>0,'ED272A Classes YTD by Squadron'!E198,\" \")","v":2}]
[{"$f":"IF(('ED272 Students YTD by Squadron'!$A199)<>0,'ED272 Students YTD by Squadron'!A199,\" \")","v":15},{"$f":"IF(('ED272 Students YTD by Squadron'!$A199)<>0,'ED272 Students YTD by Squadron'!B199,\" \")","v":3451},{"$f":"IF(('ED272 Students YTD by Squadron'!$A199)<>0,'ED272 Students YTD by Squadron'!C199,\" \")","v":"Mississippi Gulf Coast   "},{"$f":"IF(('ED272 Students YTD by Squadron'!$A199)<>0,'ED272 Students YTD by Squadron'!D199,\" \")","v":0},{"$f":"IF(('ED272 Students YTD by Squadron'!$A199)<>0,'ED272 Students YTD by Squadron'!E199,\" \")","v":6},{"$f":"IF(('ED272 Students YTD by Squadron'!$A199)<>0,'ED272 Students YTD by Squadron'!F199,\" \")","v":0},{"$f":"IF(('ED272 Students YTD by Squadron'!$A199)<>0,'ED272 Students YTD by Squadron'!G199,\" \")","v":6},{"$f":"IF(('ED272 Students YTD by Squadron'!$A199)<>0,'ED272 Students YTD by Squadron'!H199,\" \")","v":0},{"$f":"IF(('ED272 Students YTD by Squadron'!$A199)<>0,'ED272 Students YTD by Squadron'!I199,\" \")","v":6},{"$f":"IF(('ED272 Students YTD by Squadron'!$A199)<>0,'ED272A Classes YTD by Squadron'!D199,\" \")","v":0},{"$f":"IF(('ED272 Students YTD by Squadron'!$A199)<>0,'ED272A Classes YTD by Squadron'!E199,\" \")","v":1}]
[{"$f":"IF(('ED272 Students YTD by Squadron'!$A200)<>0,'ED272 Students YTD by Squadron'!A200,\" \")","v":15},{"$f":"IF(('ED272 Students YTD by Squadron'!$A200)<>0,'ED272 Students YTD by Squadron'!B200,\" \")","v":3465},{"$f":"IF(('ED272 Students YTD by Squadron'!$A200)<>0,'ED272 Students YTD by Squadron'!C200,\" \")","v":"Mobile Sail & Power Squad"},{"$f":"IF(('ED272 Students YTD by Squadron'!$A200)<>0,'ED272 Students YTD by Squadron'!D200,\" \")","v":0},{"$f":"IF(('ED272 Students YTD by Squadron'!$A200)<>0,'ED272 Students YTD by Squadron'!E200,\" \")","v":0},{"$f":"IF(('ED272 Students YTD by Squadron'!$A200)<>0,'ED272 Students YTD by Squadron'!F200,\" \")","v":0},{"$f":"IF(('ED272 Students YTD by Squadron'!$A200)<>0,'ED272 Students YTD by Squadron'!G200,\" \")","v":0},{"$f":"IF(('ED272 Students YTD by Squadron'!$A200)<>0,'ED272 Students YTD by Squadron'!H200,\" \")","v":0},{"$f":"IF(('ED272 Students YTD by Squadron'!$A200)<>0,'ED272 Students YTD by Squadron'!I200,\" \")","v":0},{"$f":"IF(('ED272 Students YTD by Squadron'!$A200)<>0,'ED272A Classes YTD by Squadron'!D200,\" \")","v":0},{"$f":"IF(('ED272 Students YTD by Squadron'!$A200)<>0,'ED272A Classes YTD by Squadron'!E200,\" \")","v":0}]
[{"$f":"IF(('ED272 Students YTD by Squadron'!$A201)<>0,'ED272 Students YTD by Squadron'!A201,\" \")","v":15},{"$f":"IF(('ED272 Students YTD by Squadron'!$A201)<>0,'ED272 Students YTD by Squadron'!B201,\" \")","v":3735},{"$f":"IF(('ED272 Students YTD by Squadron'!$A201)<>0,'ED272 Students YTD by Squadron'!C201,\" \")","v":"New Orleans Power Squad  "},{"$f":"IF(('ED272 Students YTD by Squadron'!$A201)<>0,'ED272 Students YTD by Squadron'!D201,\" \")","v":56},{"$f":"IF(('ED272 Students YTD by Squadron'!$A201)<>0,'ED272 Students YTD by Squadron'!E201,\" \")","v":50},{"$f":"IF(('ED272 Students YTD by Squadron'!$A201)<>0,'ED272 Students YTD by Squadron'!F201,\" \")","v":47},{"$f":"IF(('ED272 Students YTD by Squadron'!$A201)<>0,'ED272 Students YTD by Squadron'!G201,\" \")","v":43},{"$f":"IF(('ED272 Students YTD by Squadron'!$A201)<>0,'ED272 Students YTD by Squadron'!H201,\" \")","v":47},{"$f":"IF(('ED272 Students YTD by Squadron'!$A201)<>0,'ED272 Students YTD by Squadron'!I201,\" \")","v":43},{"$f":"IF(('ED272 Students YTD by Squadron'!$A201)<>0,'ED272A Classes YTD by Squadron'!D201,\" \")","v":6},{"$f":"IF(('ED272 Students YTD by Squadron'!$A201)<>0,'ED272A Classes YTD by Squadron'!E201,\" \")","v":3}]
[{"$f":"IF(('ED272 Students YTD by Squadron'!$A202)<>0,'ED272 Students YTD by Squadron'!A202,\" \")","v":15},{"$f":"IF(('ED272 Students YTD by Squadron'!$A202)<>0,'ED272 Students YTD by Squadron'!B202,\" \")","v":4320},{"$f":"IF(('ED272 Students YTD by Squadron'!$A202)<>0,'ED272 Students YTD by Squadron'!C202,\" \")","v":"Pensacola Sail & Power   "},{"$f":"IF(('ED272 Students YTD by Squadron'!$A202)<>0,'ED272 Students YTD by Squadron'!D202,\" \")","v":29},{"$f":"IF(('ED272 Students YTD by Squadron'!$A202)<>0,'ED272 Students YTD by Squadron'!E202,\" \")","v":7},{"$f":"IF(('ED272 Students YTD by Squadron'!$A202)<>0,'ED272 Students YTD by Squadron'!F202,\" \")","v":25},{"$f":"IF(('ED272 Students YTD by Squadron'!$A202)<>0,'ED272 Students YTD by Squadron'!G202,\" \")","v":5},{"$f":"IF(('ED272 Students YTD by Squadron'!$A202)<>0,'ED272 Students YTD by Squadron'!H202,\" \")","v":24},{"$f":"IF(('ED272 Students YTD by Squadron'!$A202)<>0,'ED272 Students YTD by Squadron'!I202,\" \")","v":5},{"$f":"IF(('ED272 Students YTD by Squadron'!$A202)<>0,'ED272A Classes YTD by Squadron'!D202,\" \")","v":4},{"$f":"IF(('ED272 Students YTD by Squadron'!$A202)<>0,'ED272A Classes YTD by Squadron'!E202,\" \")","v":1}]
[{"$f":"IF(('ED272 Students YTD by Squadron'!$A203)<>0,'ED272 Students YTD by Squadron'!A203,\" \")","v":15},{"$f":"IF(('ED272 Students YTD by Squadron'!$A203)<>0,'ED272 Students YTD by Squadron'!B203,\" \")","v":4355},{"$f":"IF(('ED272 Students YTD by Squadron'!$A203)<>0,'ED272 Students YTD by Squadron'!C203,\" \")","v":"Perdido Bay Power Squad  "},{"$f":"IF(('ED272 Students YTD by Squadron'!$A203)<>0,'ED272 Students YTD by Squadron'!D203,\" \")","v":31},{"$f":"IF(('ED272 Students YTD by Squadron'!$A203)<>0,'ED272 Students YTD by Squadron'!E203,\" \")","v":38},{"$f":"IF(('ED272 Students YTD by Squadron'!$A203)<>0,'ED272 Students YTD by Squadron'!F203,\" \")","v":31},{"$f":"IF(('ED272 Students YTD by Squadron'!$A203)<>0,'ED272 Students YTD by Squadron'!G203,\" \")","v":37},{"$f":"IF(('ED272 Students YTD by Squadron'!$A203)<>0,'ED272 Students YTD by Squadron'!H203,\" \")","v":31},{"$f":"IF(('ED272 Students YTD by Squadron'!$A203)<>0,'ED272 Students YTD by Squadron'!I203,\" \")","v":37},{"$f":"IF(('ED272 Students YTD by Squadron'!$A203)<>0,'ED272A Classes YTD by Squadron'!D203,\" \")","v":5},{"$f":"IF(('ED272 Students YTD by Squadron'!$A203)<>0,'ED272A Classes YTD by Squadron'!E203,\" \")","v":5}]
[{"$f":"IF(('ED272 Students YTD by Squadron'!$A204)<>0,'ED272 Students YTD by Squadron'!A204,\" \")","v":16},{"$f":"IF(('ED272 Students YTD by Squadron'!$A204)<>0,'ED272 Students YTD by Squadron'!B204,\" \")","v":30},{"$f":"IF(('ED272 Students YTD by Squadron'!$A204)<>0,'ED272 Students YTD by Squadron'!C204,\" \")","v":"Agate Pass Sail & Power  "},{"$f":"IF(('ED272 Students YTD by Squadron'!$A204)<>0,'ED272 Students YTD by Squadron'!D204,\" \")","v":3},{"$f":"IF(('ED272 Students YTD by Squadron'!$A204)<>0,'ED272 Students YTD by Squadron'!E204,\" \")","v":4},{"$f":"IF(('ED272 Students YTD by Squadron'!$A204)<>0,'ED272 Students YTD by Squadron'!F204,\" \")","v":3},{"$f":"IF(('ED272 Students YTD by Squadron'!$A204)<>0,'ED272 Students YTD by Squadron'!G204,\" \")","v":2},{"$f":"IF(('ED272 Students YTD by Squadron'!$A204)<>0,'ED272 Students YTD by Squadron'!H204,\" \")","v":3},{"$f":"IF(('ED272 Students YTD by Squadron'!$A204)<>0,'ED272 Students YTD by Squadron'!I204,\" \")","v":2},{"$f":"IF(('ED272 Students YTD by Squadron'!$A204)<>0,'ED272A Classes YTD by Squadron'!D204,\" \")","v":1},{"$f":"IF(('ED272 Students YTD by Squadron'!$A204)<>0,'ED272A Classes YTD by Squadron'!E204,\" \")","v":1}]
[{"$f":"IF(('ED272 Students YTD by Squadron'!$A205)<>0,'ED272 Students YTD by Squadron'!A205,\" \")","v":16},{"$f":"IF(('ED272 Students YTD by Squadron'!$A205)<>0,'ED272 Students YTD by Squadron'!B205,\" \")","v":450},{"$f":"IF(('ED272 Students YTD by Squadron'!$A205)<>0,'ED272 Students YTD by Squadron'!C205,\" \")","v":"Bellevue Sail & Power Sqd"},{"$f":"IF(('ED272 Students YTD by Squadron'!$A205)<>0,'ED272 Students YTD by Squadron'!D205,\" \")","v":61},{"$f":"IF(('ED272 Students YTD by Squadron'!$A205)<>0,'ED272 Students YTD by Squadron'!E205,\" \")","v":77},{"$f":"IF(('ED272 Students YTD by Squadron'!$A205)<>0,'ED272 Students YTD by Squadron'!F205,\" \")","v":54},{"$f":"IF(('ED272 Students YTD by Squadron'!$A205)<>0,'ED272 Students YTD by Squadron'!G205,\" \")","v":73},{"$f":"IF(('ED272 Students YTD by Squadron'!$A205)<>0,'ED272 Students YTD by Squadron'!H205,\" \")","v":54},{"$f":"IF(('ED272 Students YTD by Squadron'!$A205)<>0,'ED272 Students YTD by Squadron'!I205,\" \")","v":73},{"$f":"IF(('ED272 Students YTD by Squadron'!$A205)<>0,'ED272A Classes YTD by Squadron'!D205,\" \")","v":4},{"$f":"IF(('ED272 Students YTD by Squadron'!$A205)<>0,'ED272A Classes YTD by Squadron'!E205,\" \")","v":5}]
[{"$f":"IF(('ED272 Students YTD by Squadron'!$A206)<>0,'ED272 Students YTD by Squadron'!A206,\" \")","v":16},{"$f":"IF(('ED272 Students YTD by Squadron'!$A206)<>0,'ED272 Students YTD by Squadron'!B206,\" \")","v":465},{"$f":"IF(('ED272 Students YTD by Squadron'!$A206)<>0,'ED272 Students YTD by Squadron'!C206,\" \")","v":"Bellingham Sail & Power  "},{"$f":"IF(('ED272 Students YTD by Squadron'!$A206)<>0,'ED272 Students YTD by Squadron'!D206,\" \")","v":49},{"$f":"IF(('ED272 Students YTD by Squadron'!$A206)<>0,'ED272 Students YTD by Squadron'!E206,\" \")","v":57},{"$f":"IF(('ED272 Students YTD by Squadron'!$A206)<>0,'ED272 Students YTD by Squadron'!F206,\" \")","v":46},{"$f":"IF(('ED272 Students YTD by Squadron'!$A206)<>0,'ED272 Students YTD by Squadron'!G206,\" \")","v":55},{"$f":"IF(('ED272 Students YTD by Squadron'!$A206)<>0,'ED272 Students YTD by Squadron'!H206,\" \")","v":46},{"$f":"IF(('ED272 Students YTD by Squadron'!$A206)<>0,'ED272 Students YTD by Squadron'!I206,\" \")","v":55},{"$f":"IF(('ED272 Students YTD by Squadron'!$A206)<>0,'ED272A Classes YTD by Squadron'!D206,\" \")","v":3},{"$f":"IF(('ED272 Students YTD by Squadron'!$A206)<>0,'ED272A Classes YTD by Squadron'!E206,\" \")","v":3}]
[{"$f":"IF(('ED272 Students YTD by Squadron'!$A207)<>0,'ED272 Students YTD by Squadron'!A207,\" \")","v":16},{"$f":"IF(('ED272 Students YTD by Squadron'!$A207)<>0,'ED272 Students YTD by Squadron'!B207,\" \")","v":630},{"$f":"IF(('ED272 Students YTD by Squadron'!$A207)<>0,'ED272 Students YTD by Squadron'!C207,\" \")","v":"Bremerton Sail & Power Sq"},{"$f":"IF(('ED272 Students YTD by Squadron'!$A207)<>0,'ED272 Students YTD by Squadron'!D207,\" \")","v":37},{"$f":"IF(('ED272 Students YTD by Squadron'!$A207)<>0,'ED272 Students YTD by Squadron'!E207,\" \")","v":23},{"$f":"IF(('ED272 Students YTD by Squadron'!$A207)<>0,'ED272 Students YTD by Squadron'!F207,\" \")","v":28},{"$f":"IF(('ED272 Students YTD by Squadron'!$A207)<>0,'ED272 Students YTD by Squadron'!G207,\" \")","v":20},{"$f":"IF(('ED272 Students YTD by Squadron'!$A207)<>0,'ED272 Students YTD by Squadron'!H207,\" \")","v":28},{"$f":"IF(('ED272 Students YTD by Squadron'!$A207)<>0,'ED272 Students YTD by Squadron'!I207,\" \")","v":20},{"$f":"IF(('ED272 Students YTD by Squadron'!$A207)<>0,'ED272A Classes YTD by Squadron'!D207,\" \")","v":8},{"$f":"IF(('ED272 Students YTD by Squadron'!$A207)<>0,'ED272A Classes YTD by Squadron'!E207,\" \")","v":12}]
[{"$f":"IF(('ED272 Students YTD by Squadron'!$A208)<>0,'ED272 Students YTD by Squadron'!A208,\" \")","v":16},{"$f":"IF(('ED272 Students YTD by Squadron'!$A208)<>0,'ED272 Students YTD by Squadron'!B208,\" \")","v":1430},{"$f":"IF(('ED272 Students YTD by Squadron'!$A208)<>0,'ED272 Students YTD by Squadron'!C208,\" \")","v":"Deception Pass Sail &    "},{"$f":"IF(('ED272 Students YTD by Squadron'!$A208)<>0,'ED272 Students YTD by Squadron'!D208,\" \")","v":23},{"$f":"IF(('ED272 Students YTD by Squadron'!$A208)<>0,'ED272 Students YTD by Squadron'!E208,\" \")","v":15},{"$f":"IF(('ED272 Students YTD by Squadron'!$A208)<>0,'ED272 Students YTD by Squadron'!F208,\" \")","v":23},{"$f":"IF(('ED272 Students YTD by Squadron'!$A208)<>0,'ED272 Students YTD by Squadron'!G208,\" \")","v":14},{"$f":"IF(('ED272 Students YTD by Squadron'!$A208)<>0,'ED272 Students YTD by Squadron'!H208,\" \")","v":23},{"$f":"IF(('ED272 Students YTD by Squadron'!$A208)<>0,'ED272 Students YTD by Squadron'!I208,\" \")","v":14},{"$f":"IF(('ED272 Students YTD by Squadron'!$A208)<>0,'ED272A Classes YTD by Squadron'!D208,\" \")","v":3},{"$f":"IF(('ED272 Students YTD by Squadron'!$A208)<>0,'ED272A Classes YTD by Squadron'!E208,\" \")","v":1}]
[{"$f":"IF(('ED272 Students YTD by Squadron'!$A209)<>0,'ED272 Students YTD by Squadron'!A209,\" \")","v":16},{"$f":"IF(('ED272 Students YTD by Squadron'!$A209)<>0,'ED272 Students YTD by Squadron'!B209,\" \")","v":1680},{"$f":"IF(('ED272 Students YTD by Squadron'!$A209)<>0,'ED272 Students YTD by Squadron'!C209,\" \")","v":"Everett Sail & Power Sqd "},{"$f":"IF(('ED272 Students YTD by Squadron'!$A209)<>0,'ED272 Students YTD by Squadron'!D209,\" \")","v":37},{"$f":"IF(('ED272 Students YTD by Squadron'!$A209)<>0,'ED272 Students YTD by Squadron'!E209,\" \")","v":35},{"$f":"IF(('ED272 Students YTD by Squadron'!$A209)<>0,'ED272 Students YTD by Squadron'!F209,\" \")","v":37},{"$f":"IF(('ED272 Students YTD by Squadron'!$A209)<>0,'ED272 Students YTD by Squadron'!G209,\" \")","v":32},{"$f":"IF(('ED272 Students YTD by Squadron'!$A209)<>0,'ED272 Students YTD by Squadron'!H209,\" \")","v":37},{"$f":"IF(('ED272 Students YTD by Squadron'!$A209)<>0,'ED272 Students YTD by Squadron'!I209,\" \")","v":32},{"$f":"IF(('ED272 Students YTD by Squadron'!$A209)<>0,'ED272A Classes YTD by Squadron'!D209,\" \")","v":4},{"$f":"IF(('ED272 Students YTD by Squadron'!$A209)<>0,'ED272A Classes YTD by Squadron'!E209,\" \")","v":4}]
[{"$f":"IF(('ED272 Students YTD by Squadron'!$A210)<>0,'ED272 Students YTD by Squadron'!A210,\" \")","v":16},{"$f":"IF(('ED272 Students YTD by Squadron'!$A210)<>0,'ED272 Students YTD by Squadron'!B210,\" \")","v":1955},{"$f":"IF(('ED272 Students YTD by Squadron'!$A210)<>0,'ED272 Students YTD by Squadron'!C210,\" \")","v":"Friday Harbor Power Squad"},{"$f":"IF(('ED272 Students YTD by Squadron'!$A210)<>0,'ED272 Students YTD by Squadron'!D210,\" \")","v":93},{"$f":"IF(('ED272 Students YTD by Squadron'!$A210)<>0,'ED272 Students YTD by Squadron'!E210,\" \")","v":45},{"$f":"IF(('ED272 Students YTD by Squadron'!$A210)<>0,'ED272 Students YTD by Squadron'!F210,\" \")","v":85},{"$f":"IF(('ED272 Students YTD by Squadron'!$A210)<>0,'ED272 Students YTD by Squadron'!G210,\" \")","v":38},{"$f":"IF(('ED272 Students YTD by Squadron'!$A210)<>0,'ED272 Students YTD by Squadron'!H210,\" \")","v":85},{"$f":"IF(('ED272 Students YTD by Squadron'!$A210)<>0,'ED272 Students YTD by Squadron'!I210,\" \")","v":38},{"$f":"IF(('ED272 Students YTD by Squadron'!$A210)<>0,'ED272A Classes YTD by Squadron'!D210,\" \")","v":4},{"$f":"IF(('ED272 Students YTD by Squadron'!$A210)<>0,'ED272A Classes YTD by Squadron'!E210,\" \")","v":2}]
[{"$f":"IF(('ED272 Students YTD by Squadron'!$A211)<>0,'ED272 Students YTD by Squadron'!A211,\" \")","v":16},{"$f":"IF(('ED272 Students YTD by Squadron'!$A211)<>0,'ED272 Students YTD by Squadron'!B211,\" \")","v":3875},{"$f":"IF(('ED272 Students YTD by Squadron'!$A211)<>0,'ED272 Students YTD by Squadron'!C211,\" \")","v":"North Olympic Sail &     "},{"$f":"IF(('ED272 Students YTD by Squadron'!$A211)<>0,'ED272 Students YTD by Squadron'!D211,\" \")","v":52},{"$f":"IF(('ED272 Students YTD by Squadron'!$A211)<>0,'ED272 Students YTD by Squadron'!E211,\" \")","v":14},{"$f":"IF(('ED272 Students YTD by Squadron'!$A211)<>0,'ED272 Students YTD by Squadron'!F211,\" \")","v":47},{"$f":"IF(('ED272 Students YTD by Squadron'!$A211)<>0,'ED272 Students YTD by Squadron'!G211,\" \")","v":13},{"$f":"IF(('ED272 Students YTD by Squadron'!$A211)<>0,'ED272 Students YTD by Squadron'!H211,\" \")","v":47},{"$f":"IF(('ED272 Students YTD by Squadron'!$A211)<>0,'ED272 Students YTD by Squadron'!I211,\" \")","v":13},{"$f":"IF(('ED272 Students YTD by Squadron'!$A211)<>0,'ED272A Classes YTD by Squadron'!D211,\" \")","v":3},{"$f":"IF(('ED272 Students YTD by Squadron'!$A211)<>0,'ED272A Classes YTD by Squadron'!E211,\" \")","v":2}]
[{"$f":"IF(('ED272 Students YTD by Squadron'!$A212)<>0,'ED272 Students YTD by Squadron'!A212,\" \")","v":16},{"$f":"IF(('ED272 Students YTD by Squadron'!$A212)<>0,'ED272 Students YTD by Squadron'!B212,\" \")","v":76},{"$f":"IF(('ED272 Students YTD by Squadron'!$A212)<>0,'ED272 Students YTD by Squadron'!C212,\" \")","v":"North Star Sail &        "},{"$f":"IF(('ED272 Students YTD by Squadron'!$A212)<>0,'ED272 Students YTD by Squadron'!D212,\" \")","v":0},{"$f":"IF(('ED272 Students YTD by Squadron'!$A212)<>0,'ED272 Students YTD by Squadron'!E212,\" \")","v":0},{"$f":"IF(('ED272 Students YTD by Squadron'!$A212)<>0,'ED272 Students YTD by Squadron'!F212,\" \")","v":0},{"$f":"IF(('ED272 Students YTD by Squadron'!$A212)<>0,'ED272 Students YTD by Squadron'!G212,\" \")","v":0},{"$f":"IF(('ED272 Students YTD by Squadron'!$A212)<>0,'ED272 Students YTD by Squadron'!H212,\" \")","v":0},{"$f":"IF(('ED272 Students YTD by Squadron'!$A212)<>0,'ED272 Students YTD by Squadron'!I212,\" \")","v":0},{"$f":"IF(('ED272 Students YTD by Squadron'!$A212)<>0,'ED272A Classes YTD by Squadron'!D212,\" \")","v":0},{"$f":"IF(('ED272 Students YTD by Squadron'!$A212)<>0,'ED272A Classes YTD by Squadron'!E212,\" \")","v":0}]
[{"$f":"IF(('ED272 Students YTD by Squadron'!$A213)<>0,'ED272 Students YTD by Squadron'!A213,\" \")","v":16},{"$f":"IF(('ED272 Students YTD by Squadron'!$A213)<>0,'ED272 Students YTD by Squadron'!B213,\" \")","v":4050},{"$f":"IF(('ED272 Students YTD by Squadron'!$A213)<>0,'ED272 Students YTD by Squadron'!C213,\" \")","v":"Olympia Sail & Power Sqd "},{"$f":"IF(('ED272 Students YTD by Squadron'!$A213)<>0,'ED272 Students YTD by Squadron'!D213,\" \")","v":9},{"$f":"IF(('ED272 Students YTD by Squadron'!$A213)<>0,'ED272 Students YTD by Squadron'!E213,\" \")","v":39},{"$f":"IF(('ED272 Students YTD by Squadron'!$A213)<>0,'ED272 Students YTD by Squadron'!F213,\" \")","v":9},{"$f":"IF(('ED272 Students YTD by Squadron'!$A213)<>0,'ED272 Students YTD by Squadron'!G213,\" \")","v":36},{"$f":"IF(('ED272 Students YTD by Squadron'!$A213)<>0,'ED272 Students YTD by Squadron'!H213,\" \")","v":9},{"$f":"IF(('ED272 Students YTD by Squadron'!$A213)<>0,'ED272 Students YTD by Squadron'!I213,\" \")","v":34},{"$f":"IF(('ED272 Students YTD by Squadron'!$A213)<>0,'ED272A Classes YTD by Squadron'!D213,\" \")","v":2},{"$f":"IF(('ED272 Students YTD by Squadron'!$A213)<>0,'ED272A Classes YTD by Squadron'!E213,\" \")","v":2}]
[{"$f":"IF(('ED272 Students YTD by Squadron'!$A214)<>0,'ED272 Students YTD by Squadron'!A214,\" \")","v":16},{"$f":"IF(('ED272 Students YTD by Squadron'!$A214)<>0,'ED272 Students YTD by Squadron'!B214,\" \")","v":4560},{"$f":"IF(('ED272 Students YTD by Squadron'!$A214)<>0,'ED272 Students YTD by Squadron'!C214,\" \")","v":"Poverty Bay Sail & Power "},{"$f":"IF(('ED272 Students YTD by Squadron'!$A214)<>0,'ED272 Students YTD by Squadron'!D214,\" \")","v":57},{"$f":"IF(('ED272 Students YTD by Squadron'!$A214)<>0,'ED272 Students YTD by Squadron'!E214,\" \")","v":44},{"$f":"IF(('ED272 Students YTD by Squadron'!$A214)<>0,'ED272 Students YTD by Squadron'!F214,\" \")","v":57},{"$f":"IF(('ED272 Students YTD by Squadron'!$A214)<>0,'ED272 Students YTD by Squadron'!G214,\" \")","v":43},{"$f":"IF(('ED272 Students YTD by Squadron'!$A214)<>0,'ED272 Students YTD by Squadron'!H214,\" \")","v":57},{"$f":"IF(('ED272 Students YTD by Squadron'!$A214)<>0,'ED272 Students YTD by Squadron'!I214,\" \")","v":43},{"$f":"IF(('ED272 Students YTD by Squadron'!$A214)<>0,'ED272A Classes YTD by Squadron'!D214,\" \")","v":9},{"$f":"IF(('ED272 Students YTD by Squadron'!$A214)<>0,'ED272A Classes YTD by Squadron'!E214,\" \")","v":8}]
[{"$f":"IF(('ED272 Students YTD by Squadron'!$A215)<>0,'ED272 Students YTD by Squadron'!A215,\" \")","v":16},{"$f":"IF(('ED272 Students YTD by Squadron'!$A215)<>0,'ED272 Students YTD by Squadron'!B215,\" \")","v":4396},{"$f":"IF(('ED272 Students YTD by Squadron'!$A215)<>0,'ED272 Students YTD by Squadron'!C215,\" \")","v":"Pt. Wilson Sail & Power  "},{"$f":"IF(('ED272 Students YTD by Squadron'!$A215)<>0,'ED272 Students YTD by Squadron'!D215,\" \")","v":16},{"$f":"IF(('ED272 Students YTD by Squadron'!$A215)<>0,'ED272 Students YTD by Squadron'!E215,\" \")","v":20},{"$f":"IF(('ED272 Students YTD by Squadron'!$A215)<>0,'ED272 Students YTD by Squadron'!F215,\" \")","v":15},{"$f":"IF(('ED272 Students YTD by Squadron'!$A215)<>0,'ED272 Students YTD by Squadron'!G215,\" \")","v":19},{"$f":"IF(('ED272 Students YTD by Squadron'!$A215)<>0,'ED272 Students YTD by Squadron'!H215,\" \")","v":15},{"$f":"IF(('ED272 Students YTD by Squadron'!$A215)<>0,'ED272 Students YTD by Squadron'!I215,\" \")","v":19},{"$f":"IF(('ED272 Students YTD by Squadron'!$A215)<>0,'ED272A Classes YTD by Squadron'!D215,\" \")","v":1},{"$f":"IF(('ED272 Students YTD by Squadron'!$A215)<>0,'ED272A Classes YTD by Squadron'!E215,\" \")","v":1}]
[{"$f":"IF(('ED272 Students YTD by Squadron'!$A216)<>0,'ED272 Students YTD by Squadron'!A216,\" \")","v":16},{"$f":"IF(('ED272 Students YTD by Squadron'!$A216)<>0,'ED272 Students YTD by Squadron'!B216,\" \")","v":5370},{"$f":"IF(('ED272 Students YTD by Squadron'!$A216)<>0,'ED272 Students YTD by Squadron'!C216,\" \")","v":"Seattle Sail & Power Sqd "},{"$f":"IF(('ED272 Students YTD by Squadron'!$A216)<>0,'ED272 Students YTD by Squadron'!D216,\" \")","v":137},{"$f":"IF(('ED272 Students YTD by Squadron'!$A216)<>0,'ED272 Students YTD by Squadron'!E216,\" \")","v":62},{"$f":"IF(('ED272 Students YTD by Squadron'!$A216)<>0,'ED272 Students YTD by Squadron'!F216,\" \")","v":130},{"$f":"IF(('ED272 Students YTD by Squadron'!$A216)<>0,'ED272 Students YTD by Squadron'!G216,\" \")","v":57},{"$f":"IF(('ED272 Students YTD by Squadron'!$A216)<>0,'ED272 Students YTD by Squadron'!H216,\" \")","v":130},{"$f":"IF(('ED272 Students YTD by Squadron'!$A216)<>0,'ED272 Students YTD by Squadron'!I216,\" \")","v":53},{"$f":"IF(('ED272 Students YTD by Squadron'!$A216)<>0,'ED272A Classes YTD by Squadron'!D216,\" \")","v":5},{"$f":"IF(('ED272 Students YTD by Squadron'!$A216)<>0,'ED272A Classes YTD by Squadron'!E216,\" \")","v":3}]
[{"$f":"IF(('ED272 Students YTD by Squadron'!$A217)<>0,'ED272 Students YTD by Squadron'!A217,\" \")","v":16},{"$f":"IF(('ED272 Students YTD by Squadron'!$A217)<>0,'ED272 Students YTD by Squadron'!B217,\" \")","v":5495},{"$f":"IF(('ED272 Students YTD by Squadron'!$A217)<>0,'ED272 Students YTD by Squadron'!C217,\" \")","v":"Skagit Bay Sail & Power  "},{"$f":"IF(('ED272 Students YTD by Squadron'!$A217)<>0,'ED272 Students YTD by Squadron'!D217,\" \")","v":12},{"$f":"IF(('ED272 Students YTD by Squadron'!$A217)<>0,'ED272 Students YTD by Squadron'!E217,\" \")","v":19},{"$f":"IF(('ED272 Students YTD by Squadron'!$A217)<>0,'ED272 Students YTD by Squadron'!F217,\" \")","v":6},{"$f":"IF(('ED272 Students YTD by Squadron'!$A217)<>0,'ED272 Students YTD by Squadron'!G217,\" \")","v":18},{"$f":"IF(('ED272 Students YTD by Squadron'!$A217)<>0,'ED272 Students YTD by Squadron'!H217,\" \")","v":6},{"$f":"IF(('ED272 Students YTD by Squadron'!$A217)<>0,'ED272 Students YTD by Squadron'!I217,\" \")","v":18},{"$f":"IF(('ED272 Students YTD by Squadron'!$A217)<>0,'ED272A Classes YTD by Squadron'!D217,\" \")","v":1},{"$f":"IF(('ED272 Students YTD by Squadron'!$A217)<>0,'ED272A Classes YTD by Squadron'!E217,\" \")","v":1}]
[{"$f":"IF(('ED272 Students YTD by Squadron'!$A218)<>0,'ED272 Students YTD by Squadron'!A218,\" \")","v":16},{"$f":"IF(('ED272 Students YTD by Squadron'!$A218)<>0,'ED272 Students YTD by Squadron'!B218,\" \")","v":5565},{"$f":"IF(('ED272 Students YTD by Squadron'!$A218)<>0,'ED272 Students YTD by Squadron'!C218,\" \")","v":"Spokane Sail & Power Sqd "},{"$f":"IF(('ED272 Students YTD by Squadron'!$A218)<>0,'ED272 Students YTD by Squadron'!D218,\" \")","v":2},{"$f":"IF(('ED272 Students YTD by Squadron'!$A218)<>0,'ED272 Students YTD by Squadron'!E218,\" \")","v":10},{"$f":"IF(('ED272 Students YTD by Squadron'!$A218)<>0,'ED272 Students YTD by Squadron'!F218,\" \")","v":2},{"$f":"IF(('ED272 Students YTD by Squadron'!$A218)<>0,'ED272 Students YTD by Squadron'!G218,\" \")","v":10},{"$f":"IF(('ED272 Students YTD by Squadron'!$A218)<>0,'ED272 Students YTD by Squadron'!H218,\" \")","v":2},{"$f":"IF(('ED272 Students YTD by Squadron'!$A218)<>0,'ED272 Students YTD by Squadron'!I218,\" \")","v":10},{"$f":"IF(('ED272 Students YTD by Squadron'!$A218)<>0,'ED272A Classes YTD by Squadron'!D218,\" \")","v":1},{"$f":"IF(('ED272 Students YTD by Squadron'!$A218)<>0,'ED272A Classes YTD by Squadron'!E218,\" \")","v":2}]
[{"$f":"IF(('ED272 Students YTD by Squadron'!$A219)<>0,'ED272 Students YTD by Squadron'!A219,\" \")","v":16},{"$f":"IF(('ED272 Students YTD by Squadron'!$A219)<>0,'ED272 Students YTD by Squadron'!B219,\" \")","v":5805},{"$f":"IF(('ED272 Students YTD by Squadron'!$A219)<>0,'ED272 Students YTD by Squadron'!C219,\" \")","v":"Tacoma Power Squadron    "},{"$f":"IF(('ED272 Students YTD by Squadron'!$A219)<>0,'ED272 Students YTD by Squadron'!D219,\" \")","v":16},{"$f":"IF(('ED272 Students YTD by Squadron'!$A219)<>0,'ED272 Students YTD by Squadron'!E219,\" \")","v":16},{"$f":"IF(('ED272 Students YTD by Squadron'!$A219)<>0,'ED272 Students YTD by Squadron'!F219,\" \")","v":12},{"$f":"IF(('ED272 Students YTD by Squadron'!$A219)<>0,'ED272 Students YTD by Squadron'!G219,\" \")","v":13},{"$f":"IF(('ED272 Students YTD by Squadron'!$A219)<>0,'ED272 Students YTD by Squadron'!H219,\" \")","v":12},{"$f":"IF(('ED272 Students YTD by Squadron'!$A219)<>0,'ED272 Students YTD by Squadron'!I219,\" \")","v":13},{"$f":"IF(('ED272 Students YTD by Squadron'!$A219)<>0,'ED272A Classes YTD by Squadron'!D219,\" \")","v":2},{"$f":"IF(('ED272 Students YTD by Squadron'!$A219)<>0,'ED272A Classes YTD by Squadron'!E219,\" \")","v":2}]
[{"$f":"IF(('ED272 Students YTD by Squadron'!$A220)<>0,'ED272 Students YTD by Squadron'!A220,\" \")","v":17},{"$f":"IF(('ED272 Students YTD by Squadron'!$A220)<>0,'ED272 Students YTD by Squadron'!B220,\" \")","v":240},{"$f":"IF(('ED272 Students YTD by Squadron'!$A220)<>0,'ED272 Students YTD by Squadron'!C220,\" \")","v":"Atlanta Sail & Power Sqd "},{"$f":"IF(('ED272 Students YTD by Squadron'!$A220)<>0,'ED272 Students YTD by Squadron'!D220,\" \")","v":94},{"$f":"IF(('ED272 Students YTD by Squadron'!$A220)<>0,'ED272 Students YTD by Squadron'!E220,\" \")","v":17},{"$f":"IF(('ED272 Students YTD by Squadron'!$A220)<>0,'ED272 Students YTD by Squadron'!F220,\" \")","v":94},{"$f":"IF(('ED272 Students YTD by Squadron'!$A220)<>0,'ED272 Students YTD by Squadron'!G220,\" \")","v":15},{"$f":"IF(('ED272 Students YTD by Squadron'!$A220)<>0,'ED272 Students YTD by Squadron'!H220,\" \")","v":94},{"$f":"IF(('ED272 Students YTD by Squadron'!$A220)<>0,'ED272 Students YTD by Squadron'!I220,\" \")","v":15},{"$f":"IF(('ED272 Students YTD by Squadron'!$A220)<>0,'ED272A Classes YTD by Squadron'!D220,\" \")","v":8},{"$f":"IF(('ED272 Students YTD by Squadron'!$A220)<>0,'ED272A Classes YTD by Squadron'!E220,\" \")","v":3}]
[{"$f":"IF(('ED272 Students YTD by Squadron'!$A221)<>0,'ED272 Students YTD by Squadron'!A221,\" \")","v":17},{"$f":"IF(('ED272 Students YTD by Squadron'!$A221)<>0,'ED272 Students YTD by Squadron'!B221,\" \")","v":210},{"$f":"IF(('ED272 Students YTD by Squadron'!$A221)<>0,'ED272 Students YTD by Squadron'!C221,\" \")","v":"Blue Ridge Sail & Power  "},{"$f":"IF(('ED272 Students YTD by Squadron'!$A221)<>0,'ED272 Students YTD by Squadron'!D221,\" \")","v":0},{"$f":"IF(('ED272 Students YTD by Squadron'!$A221)<>0,'ED272 Students YTD by Squadron'!E221,\" \")","v":0},{"$f":"IF(('ED272 Students YTD by Squadron'!$A221)<>0,'ED272 Students YTD by Squadron'!F221,\" \")","v":0},{"$f":"IF(('ED272 Students YTD by Squadron'!$A221)<>0,'ED272 Students YTD by Squadron'!G221,\" \")","v":0},{"$f":"IF(('ED272 Students YTD by Squadron'!$A221)<>0,'ED272 Students YTD by Squadron'!H221,\" \")","v":0},{"$f":"IF(('ED272 Students YTD by Squadron'!$A221)<>0,'ED272 Students YTD by Squadron'!I221,\" \")","v":0},{"$f":"IF(('ED272 Students YTD by Squadron'!$A221)<>0,'ED272A Classes YTD by Squadron'!D221,\" \")","v":0},{"$f":"IF(('ED272 Students YTD by Squadron'!$A221)<>0,'ED272A Classes YTD by Squadron'!E221,\" \")","v":0}]
[{"$f":"IF(('ED272 Students YTD by Squadron'!$A222)<>0,'ED272 Students YTD by Squadron'!A222,\" \")","v":17},{"$f":"IF(('ED272 Students YTD by Squadron'!$A222)<>0,'ED272 Students YTD by Squadron'!B222,\" \")","v":1050},{"$f":"IF(('ED272 Students YTD by Squadron'!$A222)<>0,'ED272 Students YTD by Squadron'!C222,\" \")","v":"Chattanooga Power Squad  "},{"$f":"IF(('ED272 Students YTD by Squadron'!$A222)<>0,'ED272 Students YTD by Squadron'!D222,\" \")","v":6},{"$f":"IF(('ED272 Students YTD by Squadron'!$A222)<>0,'ED272 Students YTD by Squadron'!E222,\" \")","v":8},{"$f":"IF(('ED272 Students YTD by Squadron'!$A222)<>0,'ED272 Students YTD by Squadron'!F222,\" \")","v":5},{"$f":"IF(('ED272 Students YTD by Squadron'!$A222)<>0,'ED272 Students YTD by Squadron'!G222,\" \")","v":8},{"$f":"IF(('ED272 Students YTD by Squadron'!$A222)<>0,'ED272 Students YTD by Squadron'!H222,\" \")","v":5},{"$f":"IF(('ED272 Students YTD by Squadron'!$A222)<>0,'ED272 Students YTD by Squadron'!I222,\" \")","v":8},{"$f":"IF(('ED272 Students YTD by Squadron'!$A222)<>0,'ED272A Classes YTD by Squadron'!D222,\" \")","v":2},{"$f":"IF(('ED272 Students YTD by Squadron'!$A222)<>0,'ED272A Classes YTD by Squadron'!E222,\" \")","v":1}]
[{"$f":"IF(('ED272 Students YTD by Squadron'!$A223)<>0,'ED272 Students YTD by Squadron'!A223,\" \")","v":17},{"$f":"IF(('ED272 Students YTD by Squadron'!$A223)<>0,'ED272 Students YTD by Squadron'!B223,\" \")","v":2400},{"$f":"IF(('ED272 Students YTD by Squadron'!$A223)<>0,'ED272 Students YTD by Squadron'!C223,\" \")","v":"Huntsville Power Squadron"},{"$f":"IF(('ED272 Students YTD by Squadron'!$A223)<>0,'ED272 Students YTD by Squadron'!D223,\" \")","v":22},{"$f":"IF(('ED272 Students YTD by Squadron'!$A223)<>0,'ED272 Students YTD by Squadron'!E223,\" \")","v":10},{"$f":"IF(('ED272 Students YTD by Squadron'!$A223)<>0,'ED272 Students YTD by Squadron'!F223,\" \")","v":21},{"$f":"IF(('ED272 Students YTD by Squadron'!$A223)<>0,'ED272 Students YTD by Squadron'!G223,\" \")","v":10},{"$f":"IF(('ED272 Students YTD by Squadron'!$A223)<>0,'ED272 Students YTD by Squadron'!H223,\" \")","v":21},{"$f":"IF(('ED272 Students YTD by Squadron'!$A223)<>0,'ED272 Students YTD by Squadron'!I223,\" \")","v":10},{"$f":"IF(('ED272 Students YTD by Squadron'!$A223)<>0,'ED272A Classes YTD by Squadron'!D223,\" \")","v":3},{"$f":"IF(('ED272 Students YTD by Squadron'!$A223)<>0,'ED272A Classes YTD by Squadron'!E223,\" \")","v":3}]
[{"$f":"IF(('ED272 Students YTD by Squadron'!$A224)<>0,'ED272 Students YTD by Squadron'!A224,\" \")","v":17},{"$f":"IF(('ED272 Students YTD by Squadron'!$A224)<>0,'ED272 Students YTD by Squadron'!B224,\" \")","v":2505},{"$f":"IF(('ED272 Students YTD by Squadron'!$A224)<>0,'ED272 Students YTD by Squadron'!C224,\" \")","v":"Johnson City Power Squad "},{"$f":"IF(('ED272 Students YTD by Squadron'!$A224)<>0,'ED272 Students YTD by Squadron'!D224,\" \")","v":0},{"$f":"IF(('ED272 Students YTD by Squadron'!$A224)<>0,'ED272 Students YTD by Squadron'!E224,\" \")","v":0},{"$f":"IF(('ED272 Students YTD by Squadron'!$A224)<>0,'ED272 Students YTD by Squadron'!F224,\" \")","v":0},{"$f":"IF(('ED272 Students YTD by Squadron'!$A224)<>0,'ED272 Students YTD by Squadron'!G224,\" \")","v":0},{"$f":"IF(('ED272 Students YTD by Squadron'!$A224)<>0,'ED272 Students YTD by Squadron'!H224,\" \")","v":0},{"$f":"IF(('ED272 Students YTD by Squadron'!$A224)<>0,'ED272 Students YTD by Squadron'!I224,\" \")","v":0},{"$f":"IF(('ED272 Students YTD by Squadron'!$A224)<>0,'ED272A Classes YTD by Squadron'!D224,\" \")","v":0},{"$f":"IF(('ED272 Students YTD by Squadron'!$A224)<>0,'ED272A Classes YTD by Squadron'!E224,\" \")","v":0}]
[{"$f":"IF(('ED272 Students YTD by Squadron'!$A225)<>0,'ED272 Students YTD by Squadron'!A225,\" \")","v":17},{"$f":"IF(('ED272 Students YTD by Squadron'!$A225)<>0,'ED272 Students YTD by Squadron'!B225,\" \")","v":2700},{"$f":"IF(('ED272 Students YTD by Squadron'!$A225)<>0,'ED272 Students YTD by Squadron'!C225,\" \")","v":"Knoxville Power Squadron "},{"$f":"IF(('ED272 Students YTD by Squadron'!$A225)<>0,'ED272 Students YTD by Squadron'!D225,\" \")","v":16},{"$f":"IF(('ED272 Students YTD by Squadron'!$A225)<>0,'ED272 Students YTD by Squadron'!E225,\" \")","v":5},{"$f":"IF(('ED272 Students YTD by Squadron'!$A225)<>0,'ED272 Students YTD by Squadron'!F225,\" \")","v":14},{"$f":"IF(('ED272 Students YTD by Squadron'!$A225)<>0,'ED272 Students YTD by Squadron'!G225,\" \")","v":4},{"$f":"IF(('ED272 Students YTD by Squadron'!$A225)<>0,'ED272 Students YTD by Squadron'!H225,\" \")","v":14},{"$f":"IF(('ED272 Students YTD by Squadron'!$A225)<>0,'ED272 Students YTD by Squadron'!I225,\" \")","v":4},{"$f":"IF(('ED272 Students YTD by Squadron'!$A225)<>0,'ED272A Classes YTD by Squadron'!D225,\" \")","v":3},{"$f":"IF(('ED272 Students YTD by Squadron'!$A225)<>0,'ED272A Classes YTD by Squadron'!E225,\" \")","v":1}]
[{"$f":"IF(('ED272 Students YTD by Squadron'!$A226)<>0,'ED272 Students YTD by Squadron'!A226,\" \")","v":17},{"$f":"IF(('ED272 Students YTD by Squadron'!$A226)<>0,'ED272 Students YTD by Squadron'!B226,\" \")","v":3195},{"$f":"IF(('ED272 Students YTD by Squadron'!$A226)<>0,'ED272 Students YTD by Squadron'!C226,\" \")","v":"Memphis Sail & Power     "},{"$f":"IF(('ED272 Students YTD by Squadron'!$A226)<>0,'ED272 Students YTD by Squadron'!D226,\" \")","v":0},{"$f":"IF(('ED272 Students YTD by Squadron'!$A226)<>0,'ED272 Students YTD by Squadron'!E226,\" \")","v":0},{"$f":"IF(('ED272 Students YTD by Squadron'!$A226)<>0,'ED272 Students YTD by Squadron'!F226,\" \")","v":0},{"$f":"IF(('ED272 Students YTD by Squadron'!$A226)<>0,'ED272 Students YTD by Squadron'!G226,\" \")","v":0},{"$f":"IF(('ED272 Students YTD by Squadron'!$A226)<>0,'ED272 Students YTD by Squadron'!H226,\" \")","v":0},{"$f":"IF(('ED272 Students YTD by Squadron'!$A226)<>0,'ED272 Students YTD by Squadron'!I226,\" \")","v":0},{"$f":"IF(('ED272 Students YTD by Squadron'!$A226)<>0,'ED272A Classes YTD by Squadron'!D226,\" \")","v":0},{"$f":"IF(('ED272 Students YTD by Squadron'!$A226)<>0,'ED272A Classes YTD by Squadron'!E226,\" \")","v":0}]
[{"$f":"IF(('ED272 Students YTD by Squadron'!$A227)<>0,'ED272 Students YTD by Squadron'!A227,\" \")","v":17},{"$f":"IF(('ED272 Students YTD by Squadron'!$A227)<>0,'ED272 Students YTD by Squadron'!B227,\" \")","v":3585},{"$f":"IF(('ED272 Students YTD by Squadron'!$A227)<>0,'ED272 Students YTD by Squadron'!C227,\" \")","v":"Montgomery Power Squadron"},{"$f":"IF(('ED272 Students YTD by Squadron'!$A227)<>0,'ED272 Students YTD by Squadron'!D227,\" \")","v":0},{"$f":"IF(('ED272 Students YTD by Squadron'!$A227)<>0,'ED272 Students YTD by Squadron'!E227,\" \")","v":0},{"$f":"IF(('ED272 Students YTD by Squadron'!$A227)<>0,'ED272 Students YTD by Squadron'!F227,\" \")","v":0},{"$f":"IF(('ED272 Students YTD by Squadron'!$A227)<>0,'ED272 Students YTD by Squadron'!G227,\" \")","v":0},{"$f":"IF(('ED272 Students YTD by Squadron'!$A227)<>0,'ED272 Students YTD by Squadron'!H227,\" \")","v":0},{"$f":"IF(('ED272 Students YTD by Squadron'!$A227)<>0,'ED272 Students YTD by Squadron'!I227,\" \")","v":0},{"$f":"IF(('ED272 Students YTD by Squadron'!$A227)<>0,'ED272A Classes YTD by Squadron'!D227,\" \")","v":0},{"$f":"IF(('ED272 Students YTD by Squadron'!$A227)<>0,'ED272A Classes YTD by Squadron'!E227,\" \")","v":0}]
[{"$f":"IF(('ED272 Students YTD by Squadron'!$A228)<>0,'ED272 Students YTD by Squadron'!A228,\" \")","v":17},{"$f":"IF(('ED272 Students YTD by Squadron'!$A228)<>0,'ED272 Students YTD by Squadron'!B228,\" \")","v":3555},{"$f":"IF(('ED272 Students YTD by Squadron'!$A228)<>0,'ED272 Students YTD by Squadron'!C228,\" \")","v":"Muscogee Sail & Power Sqd"},{"$f":"IF(('ED272 Students YTD by Squadron'!$A228)<>0,'ED272 Students YTD by Squadron'!D228,\" \")","v":0},{"$f":"IF(('ED272 Students YTD by Squadron'!$A228)<>0,'ED272 Students YTD by Squadron'!E228,\" \")","v":0},{"$f":"IF(('ED272 Students YTD by Squadron'!$A228)<>0,'ED272 Students YTD by Squadron'!F228,\" \")","v":0},{"$f":"IF(('ED272 Students YTD by Squadron'!$A228)<>0,'ED272 Students YTD by Squadron'!G228,\" \")","v":0},{"$f":"IF(('ED272 Students YTD by Squadron'!$A228)<>0,'ED272 Students YTD by Squadron'!H228,\" \")","v":0},{"$f":"IF(('ED272 Students YTD by Squadron'!$A228)<>0,'ED272 Students YTD by Squadron'!I228,\" \")","v":0},{"$f":"IF(('ED272 Students YTD by Squadron'!$A228)<>0,'ED272A Classes YTD by Squadron'!D228,\" \")","v":0},{"$f":"IF(('ED272 Students YTD by Squadron'!$A228)<>0,'ED272A Classes YTD by Squadron'!E228,\" \")","v":0}]
[{"$f":"IF(('ED272 Students YTD by Squadron'!$A229)<>0,'ED272 Students YTD by Squadron'!A229,\" \")","v":17},{"$f":"IF(('ED272 Students YTD by Squadron'!$A229)<>0,'ED272 Students YTD by Squadron'!B229,\" \")","v":3560},{"$f":"IF(('ED272 Students YTD by Squadron'!$A229)<>0,'ED272 Students YTD by Squadron'!C229,\" \")","v":"Music City               "},{"$f":"IF(('ED272 Students YTD by Squadron'!$A229)<>0,'ED272 Students YTD by Squadron'!D229,\" \")","v":9},{"$f":"IF(('ED272 Students YTD by Squadron'!$A229)<>0,'ED272 Students YTD by Squadron'!E229,\" \")","v":8},{"$f":"IF(('ED272 Students YTD by Squadron'!$A229)<>0,'ED272 Students YTD by Squadron'!F229,\" \")","v":9},{"$f":"IF(('ED272 Students YTD by Squadron'!$A229)<>0,'ED272 Students YTD by Squadron'!G229,\" \")","v":7},{"$f":"IF(('ED272 Students YTD by Squadron'!$A229)<>0,'ED272 Students YTD by Squadron'!H229,\" \")","v":9},{"$f":"IF(('ED272 Students YTD by Squadron'!$A229)<>0,'ED272 Students YTD by Squadron'!I229,\" \")","v":7},{"$f":"IF(('ED272 Students YTD by Squadron'!$A229)<>0,'ED272A Classes YTD by Squadron'!D229,\" \")","v":1},{"$f":"IF(('ED272 Students YTD by Squadron'!$A229)<>0,'ED272A Classes YTD by Squadron'!E229,\" \")","v":3}]
[{"$f":"IF(('ED272 Students YTD by Squadron'!$A230)<>0,'ED272 Students YTD by Squadron'!A230,\" \")","v":17},{"$f":"IF(('ED272 Students YTD by Squadron'!$A230)<>0,'ED272 Students YTD by Squadron'!B230,\" \")","v":3960},{"$f":"IF(('ED272 Students YTD by Squadron'!$A230)<>0,'ED272 Students YTD by Squadron'!C230,\" \")","v":"Oak Ridge Power Squadron "},{"$f":"IF(('ED272 Students YTD by Squadron'!$A230)<>0,'ED272 Students YTD by Squadron'!D230,\" \")","v":0},{"$f":"IF(('ED272 Students YTD by Squadron'!$A230)<>0,'ED272 Students YTD by Squadron'!E230,\" \")","v":0},{"$f":"IF(('ED272 Students YTD by Squadron'!$A230)<>0,'ED272 Students YTD by Squadron'!F230,\" \")","v":0},{"$f":"IF(('ED272 Students YTD by Squadron'!$A230)<>0,'ED272 Students YTD by Squadron'!G230,\" \")","v":0},{"$f":"IF(('ED272 Students YTD by Squadron'!$A230)<>0,'ED272 Students YTD by Squadron'!H230,\" \")","v":0},{"$f":"IF(('ED272 Students YTD by Squadron'!$A230)<>0,'ED272 Students YTD by Squadron'!I230,\" \")","v":0},{"$f":"IF(('ED272 Students YTD by Squadron'!$A230)<>0,'ED272A Classes YTD by Squadron'!D230,\" \")","v":0},{"$f":"IF(('ED272 Students YTD by Squadron'!$A230)<>0,'ED272A Classes YTD by Squadron'!E230,\" \")","v":0}]
[{"$f":"IF(('ED272 Students YTD by Squadron'!$A231)<>0,'ED272 Students YTD by Squadron'!A231,\" \")","v":17},{"$f":"IF(('ED272 Students YTD by Squadron'!$A231)<>0,'ED272 Students YTD by Squadron'!B231,\" \")","v":6105},{"$f":"IF(('ED272 Students YTD by Squadron'!$A231)<>0,'ED272 Students YTD by Squadron'!C231,\" \")","v":"Vulcan Power Squadron    "},{"$f":"IF(('ED272 Students YTD by Squadron'!$A231)<>0,'ED272 Students YTD by Squadron'!D231,\" \")","v":4},{"$f":"IF(('ED272 Students YTD by Squadron'!$A231)<>0,'ED272 Students YTD by Squadron'!E231,\" \")","v":0},{"$f":"IF(('ED272 Students YTD by Squadron'!$A231)<>0,'ED272 Students YTD by Squadron'!F231,\" \")","v":4},{"$f":"IF(('ED272 Students YTD by Squadron'!$A231)<>0,'ED272 Students YTD by Squadron'!G231,\" \")","v":0},{"$f":"IF(('ED272 Students YTD by Squadron'!$A231)<>0,'ED272 Students YTD by Squadron'!H231,\" \")","v":4},{"$f":"IF(('ED272 Students YTD by Squadron'!$A231)<>0,'ED272 Students YTD by Squadron'!I231,\" \")","v":0},{"$f":"IF(('ED272 Students YTD by Squadron'!$A231)<>0,'ED272A Classes YTD by Squadron'!D231,\" \")","v":1},{"$f":"IF(('ED272 Students YTD by Squadron'!$A231)<>0,'ED272A Classes YTD by Squadron'!E231,\" \")","v":0}]
[{"$f":"IF(('ED272 Students YTD by Squadron'!$A232)<>0,'ED272 Students YTD by Squadron'!A232,\" \")","v":19},{"$f":"IF(('ED272 Students YTD by Squadron'!$A232)<>0,'ED272 Students YTD by Squadron'!B232,\" \")","v":105},{"$f":"IF(('ED272 Students YTD by Squadron'!$A232)<>0,'ED272 Students YTD by Squadron'!C232,\" \")","v":"Amoskeag Power Squadron  "},{"$f":"IF(('ED272 Students YTD by Squadron'!$A232)<>0,'ED272 Students YTD by Squadron'!D232,\" \")","v":8},{"$f":"IF(('ED272 Students YTD by Squadron'!$A232)<>0,'ED272 Students YTD by Squadron'!E232,\" \")","v":49},{"$f":"IF(('ED272 Students YTD by Squadron'!$A232)<>0,'ED272 Students YTD by Squadron'!F232,\" \")","v":8},{"$f":"IF(('ED272 Students YTD by Squadron'!$A232)<>0,'ED272 Students YTD by Squadron'!G232,\" \")","v":41},{"$f":"IF(('ED272 Students YTD by Squadron'!$A232)<>0,'ED272 Students YTD by Squadron'!H232,\" \")","v":8},{"$f":"IF(('ED272 Students YTD by Squadron'!$A232)<>0,'ED272 Students YTD by Squadron'!I232,\" \")","v":41},{"$f":"IF(('ED272 Students YTD by Squadron'!$A232)<>0,'ED272A Classes YTD by Squadron'!D232,\" \")","v":1},{"$f":"IF(('ED272 Students YTD by Squadron'!$A232)<>0,'ED272A Classes YTD by Squadron'!E232,\" \")","v":3}]
[{"$f":"IF(('ED272 Students YTD by Squadron'!$A233)<>0,'ED272 Students YTD by Squadron'!A233,\" \")","v":19},{"$f":"IF(('ED272 Students YTD by Squadron'!$A233)<>0,'ED272 Students YTD by Squadron'!B233,\" \")","v":193},{"$f":"IF(('ED272 Students YTD by Squadron'!$A233)<>0,'ED272 Students YTD by Squadron'!C233,\" \")","v":"Aroostook Valley Sail &  "},{"$f":"IF(('ED272 Students YTD by Squadron'!$A233)<>0,'ED272 Students YTD by Squadron'!D233,\" \")","v":0},{"$f":"IF(('ED272 Students YTD by Squadron'!$A233)<>0,'ED272 Students YTD by Squadron'!E233,\" \")","v":0},{"$f":"IF(('ED272 Students YTD by Squadron'!$A233)<>0,'ED272 Students YTD by Squadron'!F233,\" \")","v":0},{"$f":"IF(('ED272 Students YTD by Squadron'!$A233)<>0,'ED272 Students YTD by Squadron'!G233,\" \")","v":0},{"$f":"IF(('ED272 Students YTD by Squadron'!$A233)<>0,'ED272 Students YTD by Squadron'!H233,\" \")","v":0},{"$f":"IF(('ED272 Students YTD by Squadron'!$A233)<>0,'ED272 Students YTD by Squadron'!I233,\" \")","v":0},{"$f":"IF(('ED272 Students YTD by Squadron'!$A233)<>0,'ED272A Classes YTD by Squadron'!D233,\" \")","v":0},{"$f":"IF(('ED272 Students YTD by Squadron'!$A233)<>0,'ED272A Classes YTD by Squadron'!E233,\" \")","v":0}]
[{"$f":"IF(('ED272 Students YTD by Squadron'!$A234)<>0,'ED272 Students YTD by Squadron'!A234,\" \")","v":19},{"$f":"IF(('ED272 Students YTD by Squadron'!$A234)<>0,'ED272 Students YTD by Squadron'!B234,\" \")","v":2580},{"$f":"IF(('ED272 Students YTD by Squadron'!$A234)<>0,'ED272 Students YTD by Squadron'!C234,\" \")","v":"Kennebec River Sail &    "},{"$f":"IF(('ED272 Students YTD by Squadron'!$A234)<>0,'ED272 Students YTD by Squadron'!D234,\" \")","v":14},{"$f":"IF(('ED272 Students YTD by Squadron'!$A234)<>0,'ED272 Students YTD by Squadron'!E234,\" \")","v":0},{"$f":"IF(('ED272 Students YTD by Squadron'!$A234)<>0,'ED272 Students YTD by Squadron'!F234,\" \")","v":14},{"$f":"IF(('ED272 Students YTD by Squadron'!$A234)<>0,'ED272 Students YTD by Squadron'!G234,\" \")","v":0},{"$f":"IF(('ED272 Students YTD by Squadron'!$A234)<>0,'ED272 Students YTD by Squadron'!H234,\" \")","v":14},{"$f":"IF(('ED272 Students YTD by Squadron'!$A234)<>0,'ED272 Students YTD by Squadron'!I234,\" \")","v":0},{"$f":"IF(('ED272 Students YTD by Squadron'!$A234)<>0,'ED272A Classes YTD by Squadron'!D234,\" \")","v":1},{"$f":"IF(('ED272 Students YTD by Squadron'!$A234)<>0,'ED272A Classes YTD by Squadron'!E234,\" \")","v":0}]
[{"$f":"IF(('ED272 Students YTD by Squadron'!$A235)<>0,'ED272 Students YTD by Squadron'!A235,\" \")","v":19},{"$f":"IF(('ED272 Students YTD by Squadron'!$A235)<>0,'ED272 Students YTD by Squadron'!B235,\" \")","v":2794},{"$f":"IF(('ED272 Students YTD by Squadron'!$A235)<>0,'ED272 Students YTD by Squadron'!C235,\" \")","v":"Lakes Region Sail & Power"},{"$f":"IF(('ED272 Students YTD by Squadron'!$A235)<>0,'ED272 Students YTD by Squadron'!D235,\" \")","v":55},{"$f":"IF(('ED272 Students YTD by Squadron'!$A235)<>0,'ED272 Students YTD by Squadron'!E235,\" \")","v":38},{"$f":"IF(('ED272 Students YTD by Squadron'!$A235)<>0,'ED272 Students YTD by Squadron'!F235,\" \")","v":55},{"$f":"IF(('ED272 Students YTD by Squadron'!$A235)<>0,'ED272 Students YTD by Squadron'!G235,\" \")","v":38},{"$f":"IF(('ED272 Students YTD by Squadron'!$A235)<>0,'ED272 Students YTD by Squadron'!H235,\" \")","v":55},{"$f":"IF(('ED272 Students YTD by Squadron'!$A235)<>0,'ED272 Students YTD by Squadron'!I235,\" \")","v":37},{"$f":"IF(('ED272 Students YTD by Squadron'!$A235)<>0,'ED272A Classes YTD by Squadron'!D235,\" \")","v":4},{"$f":"IF(('ED272 Students YTD by Squadron'!$A235)<>0,'ED272A Classes YTD by Squadron'!E235,\" \")","v":3}]
[{"$f":"IF(('ED272 Students YTD by Squadron'!$A236)<>0,'ED272 Students YTD by Squadron'!A236,\" \")","v":19},{"$f":"IF(('ED272 Students YTD by Squadron'!$A236)<>0,'ED272 Students YTD by Squadron'!B236,\" \")","v":3225},{"$f":"IF(('ED272 Students YTD by Squadron'!$A236)<>0,'ED272 Students YTD by Squadron'!C236,\" \")","v":"Merrimac River Sail &    "},{"$f":"IF(('ED272 Students YTD by Squadron'!$A236)<>0,'ED272 Students YTD by Squadron'!D236,\" \")","v":14},{"$f":"IF(('ED272 Students YTD by Squadron'!$A236)<>0,'ED272 Students YTD by Squadron'!E236,\" \")","v":0},{"$f":"IF(('ED272 Students YTD by Squadron'!$A236)<>0,'ED272 Students YTD by Squadron'!F236,\" \")","v":13},{"$f":"IF(('ED272 Students YTD by Squadron'!$A236)<>0,'ED272 Students YTD by Squadron'!G236,\" \")","v":0},{"$f":"IF(('ED272 Students YTD by Squadron'!$A236)<>0,'ED272 Students YTD by Squadron'!H236,\" \")","v":13},{"$f":"IF(('ED272 Students YTD by Squadron'!$A236)<>0,'ED272 Students YTD by Squadron'!I236,\" \")","v":0},{"$f":"IF(('ED272 Students YTD by Squadron'!$A236)<>0,'ED272A Classes YTD by Squadron'!D236,\" \")","v":1},{"$f":"IF(('ED272 Students YTD by Squadron'!$A236)<>0,'ED272A Classes YTD by Squadron'!E236,\" \")","v":0}]
[{"$f":"IF(('ED272 Students YTD by Squadron'!$A237)<>0,'ED272 Students YTD by Squadron'!A237,\" \")","v":19},{"$f":"IF(('ED272 Students YTD by Squadron'!$A237)<>0,'ED272 Students YTD by Squadron'!B237,\" \")","v":3305},{"$f":"IF(('ED272 Students YTD by Squadron'!$A237)<>0,'ED272 Students YTD by Squadron'!C237,\" \")","v":"Mid-Coast Sail & Power Sq"},{"$f":"IF(('ED272 Students YTD by Squadron'!$A237)<>0,'ED272 Students YTD by Squadron'!D237,\" \")","v":0},{"$f":"IF(('ED272 Students YTD by Squadron'!$A237)<>0,'ED272 Students YTD by Squadron'!E237,\" \")","v":0},{"$f":"IF(('ED272 Students YTD by Squadron'!$A237)<>0,'ED272 Students YTD by Squadron'!F237,\" \")","v":0},{"$f":"IF(('ED272 Students YTD by Squadron'!$A237)<>0,'ED272 Students YTD by Squadron'!G237,\" \")","v":0},{"$f":"IF(('ED272 Students YTD by Squadron'!$A237)<>0,'ED272 Students YTD by Squadron'!H237,\" \")","v":0},{"$f":"IF(('ED272 Students YTD by Squadron'!$A237)<>0,'ED272 Students YTD by Squadron'!I237,\" \")","v":0},{"$f":"IF(('ED272 Students YTD by Squadron'!$A237)<>0,'ED272A Classes YTD by Squadron'!D237,\" \")","v":0},{"$f":"IF(('ED272 Students YTD by Squadron'!$A237)<>0,'ED272A Classes YTD by Squadron'!E237,\" \")","v":0}]
[{"$f":"IF(('ED272 Students YTD by Squadron'!$A238)<>0,'ED272 Students YTD by Squadron'!A238,\" \")","v":19},{"$f":"IF(('ED272 Students YTD by Squadron'!$A238)<>0,'ED272 Students YTD by Squadron'!B238,\" \")","v":4305},{"$f":"IF(('ED272 Students YTD by Squadron'!$A238)<>0,'ED272 Students YTD by Squadron'!C238,\" \")","v":"Penobscot Bay Sail &     "},{"$f":"IF(('ED272 Students YTD by Squadron'!$A238)<>0,'ED272 Students YTD by Squadron'!D238,\" \")","v":13},{"$f":"IF(('ED272 Students YTD by Squadron'!$A238)<>0,'ED272 Students YTD by Squadron'!E238,\" \")","v":14},{"$f":"IF(('ED272 Students YTD by Squadron'!$A238)<>0,'ED272 Students YTD by Squadron'!F238,\" \")","v":12},{"$f":"IF(('ED272 Students YTD by Squadron'!$A238)<>0,'ED272 Students YTD by Squadron'!G238,\" \")","v":14},{"$f":"IF(('ED272 Students YTD by Squadron'!$A238)<>0,'ED272 Students YTD by Squadron'!H238,\" \")","v":10},{"$f":"IF(('ED272 Students YTD by Squadron'!$A238)<>0,'ED272 Students YTD by Squadron'!I238,\" \")","v":13},{"$f":"IF(('ED272 Students YTD by Squadron'!$A238)<>0,'ED272A Classes YTD by Squadron'!D238,\" \")","v":2},{"$f":"IF(('ED272 Students YTD by Squadron'!$A238)<>0,'ED272A Classes YTD by Squadron'!E238,\" \")","v":2}]
[{"$f":"IF(('ED272 Students YTD by Squadron'!$A239)<>0,'ED272 Students YTD by Squadron'!A239,\" \")","v":19},{"$f":"IF(('ED272 Students YTD by Squadron'!$A239)<>0,'ED272 Students YTD by Squadron'!B239,\" \")","v":4505},{"$f":"IF(('ED272 Students YTD by Squadron'!$A239)<>0,'ED272 Students YTD by Squadron'!C239,\" \")","v":"Portland Head Sail &     "},{"$f":"IF(('ED272 Students YTD by Squadron'!$A239)<>0,'ED272 Students YTD by Squadron'!D239,\" \")","v":0},{"$f":"IF(('ED272 Students YTD by Squadron'!$A239)<>0,'ED272 Students YTD by Squadron'!E239,\" \")","v":5},{"$f":"IF(('ED272 Students YTD by Squadron'!$A239)<>0,'ED272 Students YTD by Squadron'!F239,\" \")","v":0},{"$f":"IF(('ED272 Students YTD by Squadron'!$A239)<>0,'ED272 Students YTD by Squadron'!G239,\" \")","v":2},{"$f":"IF(('ED272 Students YTD by Squadron'!$A239)<>0,'ED272 Students YTD by Squadron'!H239,\" \")","v":0},{"$f":"IF(('ED272 Students YTD by Squadron'!$A239)<>0,'ED272 Students YTD by Squadron'!I239,\" \")","v":2},{"$f":"IF(('ED272 Students YTD by Squadron'!$A239)<>0,'ED272A Classes YTD by Squadron'!D239,\" \")","v":0},{"$f":"IF(('ED272 Students YTD by Squadron'!$A239)<>0,'ED272A Classes YTD by Squadron'!E239,\" \")","v":1}]
[{"$f":"IF(('ED272 Students YTD by Squadron'!$A240)<>0,'ED272 Students YTD by Squadron'!A240,\" \")","v":19},{"$f":"IF(('ED272 Students YTD by Squadron'!$A240)<>0,'ED272 Students YTD by Squadron'!B240,\" \")","v":4515},{"$f":"IF(('ED272 Students YTD by Squadron'!$A240)<>0,'ED272 Students YTD by Squadron'!C240,\" \")","v":"Portsmouth Power Squadron"},{"$f":"IF(('ED272 Students YTD by Squadron'!$A240)<>0,'ED272 Students YTD by Squadron'!D240,\" \")","v":9},{"$f":"IF(('ED272 Students YTD by Squadron'!$A240)<>0,'ED272 Students YTD by Squadron'!E240,\" \")","v":0},{"$f":"IF(('ED272 Students YTD by Squadron'!$A240)<>0,'ED272 Students YTD by Squadron'!F240,\" \")","v":8},{"$f":"IF(('ED272 Students YTD by Squadron'!$A240)<>0,'ED272 Students YTD by Squadron'!G240,\" \")","v":0},{"$f":"IF(('ED272 Students YTD by Squadron'!$A240)<>0,'ED272 Students YTD by Squadron'!H240,\" \")","v":8},{"$f":"IF(('ED272 Students YTD by Squadron'!$A240)<>0,'ED272 Students YTD by Squadron'!I240,\" \")","v":0},{"$f":"IF(('ED272 Students YTD by Squadron'!$A240)<>0,'ED272A Classes YTD by Squadron'!D240,\" \")","v":1},{"$f":"IF(('ED272 Students YTD by Squadron'!$A240)<>0,'ED272A Classes YTD by Squadron'!E240,\" \")","v":0}]
[{"$f":"IF(('ED272 Students YTD by Squadron'!$A241)<>0,'ED272 Students YTD by Squadron'!A241,\" \")","v":19},{"$f":"IF(('ED272 Students YTD by Squadron'!$A241)<>0,'ED272 Students YTD by Squadron'!B241,\" \")","v":6210},{"$f":"IF(('ED272 Students YTD by Squadron'!$A241)<>0,'ED272 Students YTD by Squadron'!C241,\" \")","v":"Wawenock Sail & Power Sqd"},{"$f":"IF(('ED272 Students YTD by Squadron'!$A241)<>0,'ED272 Students YTD by Squadron'!D241,\" \")","v":37},{"$f":"IF(('ED272 Students YTD by Squadron'!$A241)<>0,'ED272 Students YTD by Squadron'!E241,\" \")","v":74},{"$f":"IF(('ED272 Students YTD by Squadron'!$A241)<>0,'ED272 Students YTD by Squadron'!F241,\" \")","v":29},{"$f":"IF(('ED272 Students YTD by Squadron'!$A241)<>0,'ED272 Students YTD by Squadron'!G241,\" \")","v":71},{"$f":"IF(('ED272 Students YTD by Squadron'!$A241)<>0,'ED272 Students YTD by Squadron'!H241,\" \")","v":29},{"$f":"IF(('ED272 Students YTD by Squadron'!$A241)<>0,'ED272 Students YTD by Squadron'!I241,\" \")","v":70},{"$f":"IF(('ED272 Students YTD by Squadron'!$A241)<>0,'ED272A Classes YTD by Squadron'!D241,\" \")","v":5},{"$f":"IF(('ED272 Students YTD by Squadron'!$A241)<>0,'ED272A Classes YTD by Squadron'!E241,\" \")","v":7}]
[{"$f":"IF(('ED272 Students YTD by Squadron'!$A242)<>0,'ED272 Students YTD by Squadron'!A242,\" \")","v":20},{"$f":"IF(('ED272 Students YTD by Squadron'!$A242)<>0,'ED272 Students YTD by Squadron'!B242,\" \")","v":975},{"$f":"IF(('ED272 Students YTD by Squadron'!$A242)<>0,'ED272 Students YTD by Squadron'!C242,\" \")","v":"Chain-O-Lakes Sail &     "},{"$f":"IF(('ED272 Students YTD by Squadron'!$A242)<>0,'ED272 Students YTD by Squadron'!D242,\" \")","v":5},{"$f":"IF(('ED272 Students YTD by Squadron'!$A242)<>0,'ED272 Students YTD by Squadron'!E242,\" \")","v":2},{"$f":"IF(('ED272 Students YTD by Squadron'!$A242)<>0,'ED272 Students YTD by Squadron'!F242,\" \")","v":3},{"$f":"IF(('ED272 Students YTD by Squadron'!$A242)<>0,'ED272 Students YTD by Squadron'!G242,\" \")","v":2},{"$f":"IF(('ED272 Students YTD by Squadron'!$A242)<>0,'ED272 Students YTD by Squadron'!H242,\" \")","v":3},{"$f":"IF(('ED272 Students YTD by Squadron'!$A242)<>0,'ED272 Students YTD by Squadron'!I242,\" \")","v":2},{"$f":"IF(('ED272 Students YTD by Squadron'!$A242)<>0,'ED272A Classes YTD by Squadron'!D242,\" \")","v":1},{"$f":"IF(('ED272 Students YTD by Squadron'!$A242)<>0,'ED272A Classes YTD by Squadron'!E242,\" \")","v":1}]
[{"$f":"IF(('ED272 Students YTD by Squadron'!$A243)<>0,'ED272 Students YTD by Squadron'!A243,\" \")","v":20},{"$f":"IF(('ED272 Students YTD by Squadron'!$A243)<>0,'ED272 Students YTD by Squadron'!B243,\" \")","v":1080},{"$f":"IF(('ED272 Students YTD by Squadron'!$A243)<>0,'ED272 Students YTD by Squadron'!C243,\" \")","v":"Chicago Power Squadron   "},{"$f":"IF(('ED272 Students YTD by Squadron'!$A243)<>0,'ED272 Students YTD by Squadron'!D243,\" \")","v":30},{"$f":"IF(('ED272 Students YTD by Squadron'!$A243)<>0,'ED272 Students YTD by Squadron'!E243,\" \")","v":10},{"$f":"IF(('ED272 Students YTD by Squadron'!$A243)<>0,'ED272 Students YTD by Squadron'!F243,\" \")","v":18},{"$f":"IF(('ED272 Students YTD by Squadron'!$A243)<>0,'ED272 Students YTD by Squadron'!G243,\" \")","v":8},{"$f":"IF(('ED272 Students YTD by Squadron'!$A243)<>0,'ED272 Students YTD by Squadron'!H243,\" \")","v":18},{"$f":"IF(('ED272 Students YTD by Squadron'!$A243)<>0,'ED272 Students YTD by Squadron'!I243,\" \")","v":8},{"$f":"IF(('ED272 Students YTD by Squadron'!$A243)<>0,'ED272A Classes YTD by Squadron'!D243,\" \")","v":4},{"$f":"IF(('ED272 Students YTD by Squadron'!$A243)<>0,'ED272A Classes YTD by Squadron'!E243,\" \")","v":3}]
[{"$f":"IF(('ED272 Students YTD by Squadron'!$A244)<>0,'ED272 Students YTD by Squadron'!A244,\" \")","v":20},{"$f":"IF(('ED272 Students YTD by Squadron'!$A244)<>0,'ED272 Students YTD by Squadron'!B244,\" \")","v":1425},{"$f":"IF(('ED272 Students YTD by Squadron'!$A244)<>0,'ED272 Students YTD by Squadron'!C244,\" \")","v":"Decatur Power Squadron   "},{"$f":"IF(('ED272 Students YTD by Squadron'!$A244)<>0,'ED272 Students YTD by Squadron'!D244,\" \")","v":0},{"$f":"IF(('ED272 Students YTD by Squadron'!$A244)<>0,'ED272 Students YTD by Squadron'!E244,\" \")","v":0},{"$f":"IF(('ED272 Students YTD by Squadron'!$A244)<>0,'ED272 Students YTD by Squadron'!F244,\" \")","v":0},{"$f":"IF(('ED272 Students YTD by Squadron'!$A244)<>0,'ED272 Students YTD by Squadron'!G244,\" \")","v":0},{"$f":"IF(('ED272 Students YTD by Squadron'!$A244)<>0,'ED272 Students YTD by Squadron'!H244,\" \")","v":0},{"$f":"IF(('ED272 Students YTD by Squadron'!$A244)<>0,'ED272 Students YTD by Squadron'!I244,\" \")","v":0},{"$f":"IF(('ED272 Students YTD by Squadron'!$A244)<>0,'ED272A Classes YTD by Squadron'!D244,\" \")","v":0},{"$f":"IF(('ED272 Students YTD by Squadron'!$A244)<>0,'ED272A Classes YTD by Squadron'!E244,\" \")","v":0}]
[{"$f":"IF(('ED272 Students YTD by Squadron'!$A245)<>0,'ED272 Students YTD by Squadron'!A245,\" \")","v":20},{"$f":"IF(('ED272 Students YTD by Squadron'!$A245)<>0,'ED272 Students YTD by Squadron'!B245,\" \")","v":1575},{"$f":"IF(('ED272 Students YTD by Squadron'!$A245)<>0,'ED272 Students YTD by Squadron'!C245,\" \")","v":"DuPage Sail & Power Squad"},{"$f":"IF(('ED272 Students YTD by Squadron'!$A245)<>0,'ED272 Students YTD by Squadron'!D245,\" \")","v":0},{"$f":"IF(('ED272 Students YTD by Squadron'!$A245)<>0,'ED272 Students YTD by Squadron'!E245,\" \")","v":0},{"$f":"IF(('ED272 Students YTD by Squadron'!$A245)<>0,'ED272 Students YTD by Squadron'!F245,\" \")","v":0},{"$f":"IF(('ED272 Students YTD by Squadron'!$A245)<>0,'ED272 Students YTD by Squadron'!G245,\" \")","v":0},{"$f":"IF(('ED272 Students YTD by Squadron'!$A245)<>0,'ED272 Students YTD by Squadron'!H245,\" \")","v":0},{"$f":"IF(('ED272 Students YTD by Squadron'!$A245)<>0,'ED272 Students YTD by Squadron'!I245,\" \")","v":0},{"$f":"IF(('ED272 Students YTD by Squadron'!$A245)<>0,'ED272A Classes YTD by Squadron'!D245,\" \")","v":0},{"$f":"IF(('ED272 Students YTD by Squadron'!$A245)<>0,'ED272A Classes YTD by Squadron'!E245,\" \")","v":0}]
[{"$f":"IF(('ED272 Students YTD by Squadron'!$A246)<>0,'ED272 Students YTD by Squadron'!A246,\" \")","v":20},{"$f":"IF(('ED272 Students YTD by Squadron'!$A246)<>0,'ED272 Students YTD by Squadron'!B246,\" \")","v":1935},{"$f":"IF(('ED272 Students YTD by Squadron'!$A246)<>0,'ED272 Students YTD by Squadron'!C246,\" \")","v":"Fox Valley Power Squadron"},{"$f":"IF(('ED272 Students YTD by Squadron'!$A246)<>0,'ED272 Students YTD by Squadron'!D246,\" \")","v":20},{"$f":"IF(('ED272 Students YTD by Squadron'!$A246)<>0,'ED272 Students YTD by Squadron'!E246,\" \")","v":4},{"$f":"IF(('ED272 Students YTD by Squadron'!$A246)<>0,'ED272 Students YTD by Squadron'!F246,\" \")","v":11},{"$f":"IF(('ED272 Students YTD by Squadron'!$A246)<>0,'ED272 Students YTD by Squadron'!G246,\" \")","v":0},{"$f":"IF(('ED272 Students YTD by Squadron'!$A246)<>0,'ED272 Students YTD by Squadron'!H246,\" \")","v":11},{"$f":"IF(('ED272 Students YTD by Squadron'!$A246)<>0,'ED272 Students YTD by Squadron'!I246,\" \")","v":0},{"$f":"IF(('ED272 Students YTD by Squadron'!$A246)<>0,'ED272A Classes YTD by Squadron'!D246,\" \")","v":6},{"$f":"IF(('ED272 Students YTD by Squadron'!$A246)<>0,'ED272A Classes YTD by Squadron'!E246,\" \")","v":5}]
[{"$f":"IF(('ED272 Students YTD by Squadron'!$A247)<>0,'ED272 Students YTD by Squadron'!A247,\" \")","v":20},{"$f":"IF(('ED272 Students YTD by Squadron'!$A247)<>0,'ED272 Students YTD by Squadron'!B247,\" \")","v":2430},{"$f":"IF(('ED272 Students YTD by Squadron'!$A247)<>0,'ED272 Students YTD by Squadron'!C247,\" \")","v":"Illinois Valley Power Sqd"},{"$f":"IF(('ED272 Students YTD by Squadron'!$A247)<>0,'ED272 Students YTD by Squadron'!D247,\" \")","v":4},{"$f":"IF(('ED272 Students YTD by Squadron'!$A247)<>0,'ED272 Students YTD by Squadron'!E247,\" \")","v":8},{"$f":"IF(('ED272 Students YTD by Squadron'!$A247)<>0,'ED272 Students YTD by Squadron'!F247,\" \")","v":4},{"$f":"IF(('ED272 Students YTD by Squadron'!$A247)<>0,'ED272 Students YTD by Squadron'!G247,\" \")","v":8},{"$f":"IF(('ED272 Students YTD by Squadron'!$A247)<>0,'ED272 Students YTD by Squadron'!H247,\" \")","v":4},{"$f":"IF(('ED272 Students YTD by Squadron'!$A247)<>0,'ED272 Students YTD by Squadron'!I247,\" \")","v":8},{"$f":"IF(('ED272 Students YTD by Squadron'!$A247)<>0,'ED272A Classes YTD by Squadron'!D247,\" \")","v":2},{"$f":"IF(('ED272 Students YTD by Squadron'!$A247)<>0,'ED272A Classes YTD by Squadron'!E247,\" \")","v":2}]
[{"$f":"IF(('ED272 Students YTD by Squadron'!$A248)<>0,'ED272 Students YTD by Squadron'!A248,\" \")","v":20},{"$f":"IF(('ED272 Students YTD by Squadron'!$A248)<>0,'ED272 Students YTD by Squadron'!B248,\" \")","v":2560},{"$f":"IF(('ED272 Students YTD by Squadron'!$A248)<>0,'ED272 Students YTD by Squadron'!C248,\" \")","v":"Kankakee Valley Sail &   "},{"$f":"IF(('ED272 Students YTD by Squadron'!$A248)<>0,'ED272 Students YTD by Squadron'!D248,\" \")","v":0},{"$f":"IF(('ED272 Students YTD by Squadron'!$A248)<>0,'ED272 Students YTD by Squadron'!E248,\" \")","v":7},{"$f":"IF(('ED272 Students YTD by Squadron'!$A248)<>0,'ED272 Students YTD by Squadron'!F248,\" \")","v":0},{"$f":"IF(('ED272 Students YTD by Squadron'!$A248)<>0,'ED272 Students YTD by Squadron'!G248,\" \")","v":7},{"$f":"IF(('ED272 Students YTD by Squadron'!$A248)<>0,'ED272 Students YTD by Squadron'!H248,\" \")","v":0},{"$f":"IF(('ED272 Students YTD by Squadron'!$A248)<>0,'ED272 Students YTD by Squadron'!I248,\" \")","v":7},{"$f":"IF(('ED272 Students YTD by Squadron'!$A248)<>0,'ED272A Classes YTD by Squadron'!D248,\" \")","v":1},{"$f":"IF(('ED272 Students YTD by Squadron'!$A248)<>0,'ED272A Classes YTD by Squadron'!E248,\" \")","v":1}]
[{"$f":"IF(('ED272 Students YTD by Squadron'!$A249)<>0,'ED272 Students YTD by Squadron'!A249,\" \")","v":20},{"$f":"IF(('ED272 Students YTD by Squadron'!$A249)<>0,'ED272 Students YTD by Squadron'!B249,\" \")","v":2805},{"$f":"IF(('ED272 Students YTD by Squadron'!$A249)<>0,'ED272 Students YTD by Squadron'!C249,\" \")","v":"Land of Lincoln Power Sqd"},{"$f":"IF(('ED272 Students YTD by Squadron'!$A249)<>0,'ED272 Students YTD by Squadron'!D249,\" \")","v":8},{"$f":"IF(('ED272 Students YTD by Squadron'!$A249)<>0,'ED272 Students YTD by Squadron'!E249,\" \")","v":22},{"$f":"IF(('ED272 Students YTD by Squadron'!$A249)<>0,'ED272 Students YTD by Squadron'!F249,\" \")","v":7},{"$f":"IF(('ED272 Students YTD by Squadron'!$A249)<>0,'ED272 Students YTD by Squadron'!G249,\" \")","v":21},{"$f":"IF(('ED272 Students YTD by Squadron'!$A249)<>0,'ED272 Students YTD by Squadron'!H249,\" \")","v":7},{"$f":"IF(('ED272 Students YTD by Squadron'!$A249)<>0,'ED272 Students YTD by Squadron'!I249,\" \")","v":21},{"$f":"IF(('ED272 Students YTD by Squadron'!$A249)<>0,'ED272A Classes YTD by Squadron'!D249,\" \")","v":2},{"$f":"IF(('ED272 Students YTD by Squadron'!$A249)<>0,'ED272A Classes YTD by Squadron'!E249,\" \")","v":4}]
[{"$f":"IF(('ED272 Students YTD by Squadron'!$A250)<>0,'ED272 Students YTD by Squadron'!A250,\" \")","v":20},{"$f":"IF(('ED272 Students YTD by Squadron'!$A250)<>0,'ED272 Students YTD by Squadron'!B250,\" \")","v":3285},{"$f":"IF(('ED272 Students YTD by Squadron'!$A250)<>0,'ED272 Students YTD by Squadron'!C250,\" \")","v":"Michigan City Power Squad"},{"$f":"IF(('ED272 Students YTD by Squadron'!$A250)<>0,'ED272 Students YTD by Squadron'!D250,\" \")","v":7},{"$f":"IF(('ED272 Students YTD by Squadron'!$A250)<>0,'ED272 Students YTD by Squadron'!E250,\" \")","v":12},{"$f":"IF(('ED272 Students YTD by Squadron'!$A250)<>0,'ED272 Students YTD by Squadron'!F250,\" \")","v":7},{"$f":"IF(('ED272 Students YTD by Squadron'!$A250)<>0,'ED272 Students YTD by Squadron'!G250,\" \")","v":12},{"$f":"IF(('ED272 Students YTD by Squadron'!$A250)<>0,'ED272 Students YTD by Squadron'!H250,\" \")","v":7},{"$f":"IF(('ED272 Students YTD by Squadron'!$A250)<>0,'ED272 Students YTD by Squadron'!I250,\" \")","v":12},{"$f":"IF(('ED272 Students YTD by Squadron'!$A250)<>0,'ED272A Classes YTD by Squadron'!D250,\" \")","v":1},{"$f":"IF(('ED272 Students YTD by Squadron'!$A250)<>0,'ED272A Classes YTD by Squadron'!E250,\" \")","v":2}]
[{"$f":"IF(('ED272 Students YTD by Squadron'!$A251)<>0,'ED272 Students YTD by Squadron'!A251,\" \")","v":20},{"$f":"IF(('ED272 Students YTD by Squadron'!$A251)<>0,'ED272 Students YTD by Squadron'!B251,\" \")","v":3316},{"$f":"IF(('ED272 Students YTD by Squadron'!$A251)<>0,'ED272 Students YTD by Squadron'!C251,\" \")","v":"Mid Illini Power Squadron"},{"$f":"IF(('ED272 Students YTD by Squadron'!$A251)<>0,'ED272 Students YTD by Squadron'!D251,\" \")","v":0},{"$f":"IF(('ED272 Students YTD by Squadron'!$A251)<>0,'ED272 Students YTD by Squadron'!E251,\" \")","v":15},{"$f":"IF(('ED272 Students YTD by Squadron'!$A251)<>0,'ED272 Students YTD by Squadron'!F251,\" \")","v":0},{"$f":"IF(('ED272 Students YTD by Squadron'!$A251)<>0,'ED272 Students YTD by Squadron'!G251,\" \")","v":15},{"$f":"IF(('ED272 Students YTD by Squadron'!$A251)<>0,'ED272 Students YTD by Squadron'!H251,\" \")","v":0},{"$f":"IF(('ED272 Students YTD by Squadron'!$A251)<>0,'ED272 Students YTD by Squadron'!I251,\" \")","v":15},{"$f":"IF(('ED272 Students YTD by Squadron'!$A251)<>0,'ED272A Classes YTD by Squadron'!D251,\" \")","v":1},{"$f":"IF(('ED272 Students YTD by Squadron'!$A251)<>0,'ED272A Classes YTD by Squadron'!E251,\" \")","v":3}]
[{"$f":"IF(('ED272 Students YTD by Squadron'!$A252)<>0,'ED272 Students YTD by Squadron'!A252,\" \")","v":20},{"$f":"IF(('ED272 Students YTD by Squadron'!$A252)<>0,'ED272 Students YTD by Squadron'!B252,\" \")","v":4635},{"$f":"IF(('ED272 Students YTD by Squadron'!$A252)<>0,'ED272 Students YTD by Squadron'!C252,\" \")","v":"Racine Sail & Power Squad"},{"$f":"IF(('ED272 Students YTD by Squadron'!$A252)<>0,'ED272 Students YTD by Squadron'!D252,\" \")","v":0},{"$f":"IF(('ED272 Students YTD by Squadron'!$A252)<>0,'ED272 Students YTD by Squadron'!E252,\" \")","v":0},{"$f":"IF(('ED272 Students YTD by Squadron'!$A252)<>0,'ED272 Students YTD by Squadron'!F252,\" \")","v":0},{"$f":"IF(('ED272 Students YTD by Squadron'!$A252)<>0,'ED272 Students YTD by Squadron'!G252,\" \")","v":0},{"$f":"IF(('ED272 Students YTD by Squadron'!$A252)<>0,'ED272 Students YTD by Squadron'!H252,\" \")","v":0},{"$f":"IF(('ED272 Students YTD by Squadron'!$A252)<>0,'ED272 Students YTD by Squadron'!I252,\" \")","v":0},{"$f":"IF(('ED272 Students YTD by Squadron'!$A252)<>0,'ED272A Classes YTD by Squadron'!D252,\" \")","v":0},{"$f":"IF(('ED272 Students YTD by Squadron'!$A252)<>0,'ED272A Classes YTD by Squadron'!E252,\" \")","v":0}]
[{"$f":"IF(('ED272 Students YTD by Squadron'!$A253)<>0,'ED272 Students YTD by Squadron'!A253,\" \")","v":20},{"$f":"IF(('ED272 Students YTD by Squadron'!$A253)<>0,'ED272 Students YTD by Squadron'!B253,\" \")","v":4770},{"$f":"IF(('ED272 Students YTD by Squadron'!$A253)<>0,'ED272 Students YTD by Squadron'!C253,\" \")","v":"Rockford Power Squadron  "},{"$f":"IF(('ED272 Students YTD by Squadron'!$A253)<>0,'ED272 Students YTD by Squadron'!D253,\" \")","v":7},{"$f":"IF(('ED272 Students YTD by Squadron'!$A253)<>0,'ED272 Students YTD by Squadron'!E253,\" \")","v":10},{"$f":"IF(('ED272 Students YTD by Squadron'!$A253)<>0,'ED272 Students YTD by Squadron'!F253,\" \")","v":7},{"$f":"IF(('ED272 Students YTD by Squadron'!$A253)<>0,'ED272 Students YTD by Squadron'!G253,\" \")","v":10},{"$f":"IF(('ED272 Students YTD by Squadron'!$A253)<>0,'ED272 Students YTD by Squadron'!H253,\" \")","v":7},{"$f":"IF(('ED272 Students YTD by Squadron'!$A253)<>0,'ED272 Students YTD by Squadron'!I253,\" \")","v":9},{"$f":"IF(('ED272 Students YTD by Squadron'!$A253)<>0,'ED272A Classes YTD by Squadron'!D253,\" \")","v":1},{"$f":"IF(('ED272 Students YTD by Squadron'!$A253)<>0,'ED272A Classes YTD by Squadron'!E253,\" \")","v":1}]
[{"$f":"IF(('ED272 Students YTD by Squadron'!$A254)<>0,'ED272 Students YTD by Squadron'!A254,\" \")","v":20},{"$f":"IF(('ED272 Students YTD by Squadron'!$A254)<>0,'ED272 Students YTD by Squadron'!B254,\" \")","v":5505},{"$f":"IF(('ED272 Students YTD by Squadron'!$A254)<>0,'ED272 Students YTD by Squadron'!C254,\" \")","v":"Skokie Valley Power Squad"},{"$f":"IF(('ED272 Students YTD by Squadron'!$A254)<>0,'ED272 Students YTD by Squadron'!D254,\" \")","v":21},{"$f":"IF(('ED272 Students YTD by Squadron'!$A254)<>0,'ED272 Students YTD by Squadron'!E254,\" \")","v":1},{"$f":"IF(('ED272 Students YTD by Squadron'!$A254)<>0,'ED272 Students YTD by Squadron'!F254,\" \")","v":18},{"$f":"IF(('ED272 Students YTD by Squadron'!$A254)<>0,'ED272 Students YTD by Squadron'!G254,\" \")","v":0},{"$f":"IF(('ED272 Students YTD by Squadron'!$A254)<>0,'ED272 Students YTD by Squadron'!H254,\" \")","v":18},{"$f":"IF(('ED272 Students YTD by Squadron'!$A254)<>0,'ED272 Students YTD by Squadron'!I254,\" \")","v":0},{"$f":"IF(('ED272 Students YTD by Squadron'!$A254)<>0,'ED272A Classes YTD by Squadron'!D254,\" \")","v":4},{"$f":"IF(('ED272 Students YTD by Squadron'!$A254)<>0,'ED272A Classes YTD by Squadron'!E254,\" \")","v":2}]
[{"$f":"IF(('ED272 Students YTD by Squadron'!$A255)<>0,'ED272 Students YTD by Squadron'!A255,\" \")","v":20},{"$f":"IF(('ED272 Students YTD by Squadron'!$A255)<>0,'ED272 Students YTD by Squadron'!B255,\" \")","v":1140},{"$f":"IF(('ED272 Students YTD by Squadron'!$A255)<>0,'ED272 Students YTD by Squadron'!C255,\" \")","v":"Two Rivers Power Squadron"},{"$f":"IF(('ED272 Students YTD by Squadron'!$A255)<>0,'ED272 Students YTD by Squadron'!D255,\" \")","v":0},{"$f":"IF(('ED272 Students YTD by Squadron'!$A255)<>0,'ED272 Students YTD by Squadron'!E255,\" \")","v":0},{"$f":"IF(('ED272 Students YTD by Squadron'!$A255)<>0,'ED272 Students YTD by Squadron'!F255,\" \")","v":0},{"$f":"IF(('ED272 Students YTD by Squadron'!$A255)<>0,'ED272 Students YTD by Squadron'!G255,\" \")","v":0},{"$f":"IF(('ED272 Students YTD by Squadron'!$A255)<>0,'ED272 Students YTD by Squadron'!H255,\" \")","v":0},{"$f":"IF(('ED272 Students YTD by Squadron'!$A255)<>0,'ED272 Students YTD by Squadron'!I255,\" \")","v":0},{"$f":"IF(('ED272 Students YTD by Squadron'!$A255)<>0,'ED272A Classes YTD by Squadron'!D255,\" \")","v":0},{"$f":"IF(('ED272 Students YTD by Squadron'!$A255)<>0,'ED272A Classes YTD by Squadron'!E255,\" \")","v":0}]
[{"$f":"IF(('ED272 Students YTD by Squadron'!$A256)<>0,'ED272 Students YTD by Squadron'!A256,\" \")","v":20},{"$f":"IF(('ED272 Students YTD by Squadron'!$A256)<>0,'ED272 Students YTD by Squadron'!B256,\" \")","v":6195},{"$f":"IF(('ED272 Students YTD by Squadron'!$A256)<>0,'ED272 Students YTD by Squadron'!C256,\" \")","v":"Waukegan Sail & Power Sqd"},{"$f":"IF(('ED272 Students YTD by Squadron'!$A256)<>0,'ED272 Students YTD by Squadron'!D256,\" \")","v":12},{"$f":"IF(('ED272 Students YTD by Squadron'!$A256)<>0,'ED272 Students YTD by Squadron'!E256,\" \")","v":0},{"$f":"IF(('ED272 Students YTD by Squadron'!$A256)<>0,'ED272 Students YTD by Squadron'!F256,\" \")","v":11},{"$f":"IF(('ED272 Students YTD by Squadron'!$A256)<>0,'ED272 Students YTD by Squadron'!G256,\" \")","v":0},{"$f":"IF(('ED272 Students YTD by Squadron'!$A256)<>0,'ED272 Students YTD by Squadron'!H256,\" \")","v":11},{"$f":"IF(('ED272 Students YTD by Squadron'!$A256)<>0,'ED272 Students YTD by Squadron'!I256,\" \")","v":0},{"$f":"IF(('ED272 Students YTD by Squadron'!$A256)<>0,'ED272A Classes YTD by Squadron'!D256,\" \")","v":2},{"$f":"IF(('ED272 Students YTD by Squadron'!$A256)<>0,'ED272A Classes YTD by Squadron'!E256,\" \")","v":0}]
[{"$f":"IF(('ED272 Students YTD by Squadron'!$A257)<>0,'ED272 Students YTD by Squadron'!A257,\" \")","v":21},{"$f":"IF(('ED272 Students YTD by Squadron'!$A257)<>0,'ED272 Students YTD by Squadron'!B257,\" \")","v":285},{"$f":"IF(('ED272 Students YTD by Squadron'!$A257)<>0,'ED272 Students YTD by Squadron'!C257,\" \")","v":"Austin Power Squadron    "},{"$f":"IF(('ED272 Students YTD by Squadron'!$A257)<>0,'ED272 Students YTD by Squadron'!D257,\" \")","v":13},{"$f":"IF(('ED272 Students YTD by Squadron'!$A257)<>0,'ED272 Students YTD by Squadron'!E257,\" \")","v":14},{"$f":"IF(('ED272 Students YTD by Squadron'!$A257)<>0,'ED272 Students YTD by Squadron'!F257,\" \")","v":12},{"$f":"IF(('ED272 Students YTD by Squadron'!$A257)<>0,'ED272 Students YTD by Squadron'!G257,\" \")","v":14},{"$f":"IF(('ED272 Students YTD by Squadron'!$A257)<>0,'ED272 Students YTD by Squadron'!H257,\" \")","v":12},{"$f":"IF(('ED272 Students YTD by Squadron'!$A257)<>0,'ED272 Students YTD by Squadron'!I257,\" \")","v":14},{"$f":"IF(('ED272 Students YTD by Squadron'!$A257)<>0,'ED272A Classes YTD by Squadron'!D257,\" \")","v":1},{"$f":"IF(('ED272 Students YTD by Squadron'!$A257)<>0,'ED272A Classes YTD by Squadron'!E257,\" \")","v":1}]
[{"$f":"IF(('ED272 Students YTD by Squadron'!$A258)<>0,'ED272 Students YTD by Squadron'!A258,\" \")","v":21},{"$f":"IF(('ED272 Students YTD by Squadron'!$A258)<>0,'ED272 Students YTD by Squadron'!B258,\" \")","v":1335},{"$f":"IF(('ED272 Students YTD by Squadron'!$A258)<>0,'ED272 Students YTD by Squadron'!C258,\" \")","v":"Dallas Sail & Power Squad"},{"$f":"IF(('ED272 Students YTD by Squadron'!$A258)<>0,'ED272 Students YTD by Squadron'!D258,\" \")","v":3},{"$f":"IF(('ED272 Students YTD by Squadron'!$A258)<>0,'ED272 Students YTD by Squadron'!E258,\" \")","v":15},{"$f":"IF(('ED272 Students YTD by Squadron'!$A258)<>0,'ED272 Students YTD by Squadron'!F258,\" \")","v":1},{"$f":"IF(('ED272 Students YTD by Squadron'!$A258)<>0,'ED272 Students YTD by Squadron'!G258,\" \")","v":13},{"$f":"IF(('ED272 Students YTD by Squadron'!$A258)<>0,'ED272 Students YTD by Squadron'!H258,\" \")","v":1},{"$f":"IF(('ED272 Students YTD by Squadron'!$A258)<>0,'ED272 Students YTD by Squadron'!I258,\" \")","v":10},{"$f":"IF(('ED272 Students YTD by Squadron'!$A258)<>0,'ED272A Classes YTD by Squadron'!D258,\" \")","v":2},{"$f":"IF(('ED272 Students YTD by Squadron'!$A258)<>0,'ED272A Classes YTD by Squadron'!E258,\" \")","v":4}]
[{"$f":"IF(('ED272 Students YTD by Squadron'!$A259)<>0,'ED272 Students YTD by Squadron'!A259,\" \")","v":21},{"$f":"IF(('ED272 Students YTD by Squadron'!$A259)<>0,'ED272 Students YTD by Squadron'!B259,\" \")","v":1890},{"$f":"IF(('ED272 Students YTD by Squadron'!$A259)<>0,'ED272 Students YTD by Squadron'!C259,\" \")","v":"Ft. Worth Power Squadron "},{"$f":"IF(('ED272 Students YTD by Squadron'!$A259)<>0,'ED272 Students YTD by Squadron'!D259,\" \")","v":4},{"$f":"IF(('ED272 Students YTD by Squadron'!$A259)<>0,'ED272 Students YTD by Squadron'!E259,\" \")","v":0},{"$f":"IF(('ED272 Students YTD by Squadron'!$A259)<>0,'ED272 Students YTD by Squadron'!F259,\" \")","v":4},{"$f":"IF(('ED272 Students YTD by Squadron'!$A259)<>0,'ED272 Students YTD by Squadron'!G259,\" \")","v":0},{"$f":"IF(('ED272 Students YTD by Squadron'!$A259)<>0,'ED272 Students YTD by Squadron'!H259,\" \")","v":4},{"$f":"IF(('ED272 Students YTD by Squadron'!$A259)<>0,'ED272 Students YTD by Squadron'!I259,\" \")","v":0},{"$f":"IF(('ED272 Students YTD by Squadron'!$A259)<>0,'ED272A Classes YTD by Squadron'!D259,\" \")","v":2},{"$f":"IF(('ED272 Students YTD by Squadron'!$A259)<>0,'ED272A Classes YTD by Squadron'!E259,\" \")","v":2}]
[{"$f":"IF(('ED272 Students YTD by Squadron'!$A260)<>0,'ED272 Students YTD by Squadron'!A260,\" \")","v":21},{"$f":"IF(('ED272 Students YTD by Squadron'!$A260)<>0,'ED272 Students YTD by Squadron'!B260,\" \")","v":1980},{"$f":"IF(('ED272 Students YTD by Squadron'!$A260)<>0,'ED272 Students YTD by Squadron'!C260,\" \")","v":"Galveston Bay Power Squad"},{"$f":"IF(('ED272 Students YTD by Squadron'!$A260)<>0,'ED272 Students YTD by Squadron'!D260,\" \")","v":25},{"$f":"IF(('ED272 Students YTD by Squadron'!$A260)<>0,'ED272 Students YTD by Squadron'!E260,\" \")","v":18},{"$f":"IF(('ED272 Students YTD by Squadron'!$A260)<>0,'ED272 Students YTD by Squadron'!F260,\" \")","v":15},{"$f":"IF(('ED272 Students YTD by Squadron'!$A260)<>0,'ED272 Students YTD by Squadron'!G260,\" \")","v":17},{"$f":"IF(('ED272 Students YTD by Squadron'!$A260)<>0,'ED272 Students YTD by Squadron'!H260,\" \")","v":15},{"$f":"IF(('ED272 Students YTD by Squadron'!$A260)<>0,'ED272 Students YTD by Squadron'!I260,\" \")","v":17},{"$f":"IF(('ED272 Students YTD by Squadron'!$A260)<>0,'ED272A Classes YTD by Squadron'!D260,\" \")","v":8},{"$f":"IF(('ED272 Students YTD by Squadron'!$A260)<>0,'ED272A Classes YTD by Squadron'!E260,\" \")","v":5}]
[{"$f":"IF(('ED272 Students YTD by Squadron'!$A261)<>0,'ED272 Students YTD by Squadron'!A261,\" \")","v":21},{"$f":"IF(('ED272 Students YTD by Squadron'!$A261)<>0,'ED272 Students YTD by Squadron'!B261,\" \")","v":2370},{"$f":"IF(('ED272 Students YTD by Squadron'!$A261)<>0,'ED272 Students YTD by Squadron'!C261,\" \")","v":"Houston Sail & Power Sqd "},{"$f":"IF(('ED272 Students YTD by Squadron'!$A261)<>0,'ED272 Students YTD by Squadron'!D261,\" \")","v":116},{"$f":"IF(('ED272 Students YTD by Squadron'!$A261)<>0,'ED272 Students YTD by Squadron'!E261,\" \")","v":87},{"$f":"IF(('ED272 Students YTD by Squadron'!$A261)<>0,'ED272 Students YTD by Squadron'!F261,\" \")","v":116},{"$f":"IF(('ED272 Students YTD by Squadron'!$A261)<>0,'ED272 Students YTD by Squadron'!G261,\" \")","v":87},{"$f":"IF(('ED272 Students YTD by Squadron'!$A261)<>0,'ED272 Students YTD by Squadron'!H261,\" \")","v":116},{"$f":"IF(('ED272 Students YTD by Squadron'!$A261)<>0,'ED272 Students YTD by Squadron'!I261,\" \")","v":86},{"$f":"IF(('ED272 Students YTD by Squadron'!$A261)<>0,'ED272A Classes YTD by Squadron'!D261,\" \")","v":18},{"$f":"IF(('ED272 Students YTD by Squadron'!$A261)<>0,'ED272A Classes YTD by Squadron'!E261,\" \")","v":18}]
[{"$f":"IF(('ED272 Students YTD by Squadron'!$A262)<>0,'ED272 Students YTD by Squadron'!A262,\" \")","v":21},{"$f":"IF(('ED272 Students YTD by Squadron'!$A262)<>0,'ED272 Students YTD by Squadron'!B262,\" \")","v":2745},{"$f":"IF(('ED272 Students YTD by Squadron'!$A262)<>0,'ED272 Students YTD by Squadron'!C262,\" \")","v":"Lake Charles Sail &      "},{"$f":"IF(('ED272 Students YTD by Squadron'!$A262)<>0,'ED272 Students YTD by Squadron'!D262,\" \")","v":4},{"$f":"IF(('ED272 Students YTD by Squadron'!$A262)<>0,'ED272 Students YTD by Squadron'!E262,\" \")","v":36},{"$f":"IF(('ED272 Students YTD by Squadron'!$A262)<>0,'ED272 Students YTD by Squadron'!F262,\" \")","v":4},{"$f":"IF(('ED272 Students YTD by Squadron'!$A262)<>0,'ED272 Students YTD by Squadron'!G262,\" \")","v":36},{"$f":"IF(('ED272 Students YTD by Squadron'!$A262)<>0,'ED272 Students YTD by Squadron'!H262,\" \")","v":4},{"$f":"IF(('ED272 Students YTD by Squadron'!$A262)<>0,'ED272 Students YTD by Squadron'!I262,\" \")","v":36},{"$f":"IF(('ED272 Students YTD by Squadron'!$A262)<>0,'ED272A Classes YTD by Squadron'!D262,\" \")","v":1},{"$f":"IF(('ED272 Students YTD by Squadron'!$A262)<>0,'ED272A Classes YTD by Squadron'!E262,\" \")","v":3}]
[{"$f":"IF(('ED272 Students YTD by Squadron'!$A263)<>0,'ED272 Students YTD by Squadron'!A263,\" \")","v":21},{"$f":"IF(('ED272 Students YTD by Squadron'!$A263)<>0,'ED272 Students YTD by Squadron'!B263,\" \")","v":3005},{"$f":"IF(('ED272 Students YTD by Squadron'!$A263)<>0,'ED272 Students YTD by Squadron'!C263,\" \")","v":"Lower Rio Grande Valley  "},{"$f":"IF(('ED272 Students YTD by Squadron'!$A263)<>0,'ED272 Students YTD by Squadron'!D263,\" \")","v":4},{"$f":"IF(('ED272 Students YTD by Squadron'!$A263)<>0,'ED272 Students YTD by Squadron'!E263,\" \")","v":0},{"$f":"IF(('ED272 Students YTD by Squadron'!$A263)<>0,'ED272 Students YTD by Squadron'!F263,\" \")","v":4},{"$f":"IF(('ED272 Students YTD by Squadron'!$A263)<>0,'ED272 Students YTD by Squadron'!G263,\" \")","v":0},{"$f":"IF(('ED272 Students YTD by Squadron'!$A263)<>0,'ED272 Students YTD by Squadron'!H263,\" \")","v":2},{"$f":"IF(('ED272 Students YTD by Squadron'!$A263)<>0,'ED272 Students YTD by Squadron'!I263,\" \")","v":0},{"$f":"IF(('ED272 Students YTD by Squadron'!$A263)<>0,'ED272A Classes YTD by Squadron'!D263,\" \")","v":1},{"$f":"IF(('ED272 Students YTD by Squadron'!$A263)<>0,'ED272A Classes YTD by Squadron'!E263,\" \")","v":0}]
[{"$f":"IF(('ED272 Students YTD by Squadron'!$A264)<>0,'ED272 Students YTD by Squadron'!A264,\" \")","v":21},{"$f":"IF(('ED272 Students YTD by Squadron'!$A264)<>0,'ED272 Students YTD by Squadron'!B264,\" \")","v":4005},{"$f":"IF(('ED272 Students YTD by Squadron'!$A264)<>0,'ED272 Students YTD by Squadron'!C264,\" \")","v":"Oklahoma City Sail &     "},{"$f":"IF(('ED272 Students YTD by Squadron'!$A264)<>0,'ED272 Students YTD by Squadron'!D264,\" \")","v":0},{"$f":"IF(('ED272 Students YTD by Squadron'!$A264)<>0,'ED272 Students YTD by Squadron'!E264,\" \")","v":6},{"$f":"IF(('ED272 Students YTD by Squadron'!$A264)<>0,'ED272 Students YTD by Squadron'!F264,\" \")","v":0},{"$f":"IF(('ED272 Students YTD by Squadron'!$A264)<>0,'ED272 Students YTD by Squadron'!G264,\" \")","v":2},{"$f":"IF(('ED272 Students YTD by Squadron'!$A264)<>0,'ED272 Students YTD by Squadron'!H264,\" \")","v":0},{"$f":"IF(('ED272 Students YTD by Squadron'!$A264)<>0,'ED272 Students YTD by Squadron'!I264,\" \")","v":2},{"$f":"IF(('ED272 Students YTD by Squadron'!$A264)<>0,'ED272A Classes YTD by Squadron'!D264,\" \")","v":0},{"$f":"IF(('ED272 Students YTD by Squadron'!$A264)<>0,'ED272A Classes YTD by Squadron'!E264,\" \")","v":1}]
[{"$f":"IF(('ED272 Students YTD by Squadron'!$A265)<>0,'ED272 Students YTD by Squadron'!A265,\" \")","v":21},{"$f":"IF(('ED272 Students YTD by Squadron'!$A265)<>0,'ED272 Students YTD by Squadron'!B265,\" \")","v":4110},{"$f":"IF(('ED272 Students YTD by Squadron'!$A265)<>0,'ED272 Students YTD by Squadron'!C265,\" \")","v":"Ouachita Power Squadron  "},{"$f":"IF(('ED272 Students YTD by Squadron'!$A265)<>0,'ED272 Students YTD by Squadron'!D265,\" \")","v":4},{"$f":"IF(('ED272 Students YTD by Squadron'!$A265)<>0,'ED272 Students YTD by Squadron'!E265,\" \")","v":7},{"$f":"IF(('ED272 Students YTD by Squadron'!$A265)<>0,'ED272 Students YTD by Squadron'!F265,\" \")","v":4},{"$f":"IF(('ED272 Students YTD by Squadron'!$A265)<>0,'ED272 Students YTD by Squadron'!G265,\" \")","v":7},{"$f":"IF(('ED272 Students YTD by Squadron'!$A265)<>0,'ED272 Students YTD by Squadron'!H265,\" \")","v":4},{"$f":"IF(('ED272 Students YTD by Squadron'!$A265)<>0,'ED272 Students YTD by Squadron'!I265,\" \")","v":7},{"$f":"IF(('ED272 Students YTD by Squadron'!$A265)<>0,'ED272A Classes YTD by Squadron'!D265,\" \")","v":1},{"$f":"IF(('ED272 Students YTD by Squadron'!$A265)<>0,'ED272A Classes YTD by Squadron'!E265,\" \")","v":1}]
[{"$f":"IF(('ED272 Students YTD by Squadron'!$A266)<>0,'ED272 Students YTD by Squadron'!A266,\" \")","v":21},{"$f":"IF(('ED272 Students YTD by Squadron'!$A266)<>0,'ED272 Students YTD by Squadron'!B266,\" \")","v":4850},{"$f":"IF(('ED272 Students YTD by Squadron'!$A266)<>0,'ED272 Students YTD by Squadron'!C266,\" \")","v":"Sabine Sail &            "},{"$f":"IF(('ED272 Students YTD by Squadron'!$A266)<>0,'ED272 Students YTD by Squadron'!D266,\" \")","v":0},{"$f":"IF(('ED272 Students YTD by Squadron'!$A266)<>0,'ED272 Students YTD by Squadron'!E266,\" \")","v":0},{"$f":"IF(('ED272 Students YTD by Squadron'!$A266)<>0,'ED272 Students YTD by Squadron'!F266,\" \")","v":0},{"$f":"IF(('ED272 Students YTD by Squadron'!$A266)<>0,'ED272 Students YTD by Squadron'!G266,\" \")","v":0},{"$f":"IF(('ED272 Students YTD by Squadron'!$A266)<>0,'ED272 Students YTD by Squadron'!H266,\" \")","v":0},{"$f":"IF(('ED272 Students YTD by Squadron'!$A266)<>0,'ED272 Students YTD by Squadron'!I266,\" \")","v":0},{"$f":"IF(('ED272 Students YTD by Squadron'!$A266)<>0,'ED272A Classes YTD by Squadron'!D266,\" \")","v":0},{"$f":"IF(('ED272 Students YTD by Squadron'!$A266)<>0,'ED272A Classes YTD by Squadron'!E266,\" \")","v":0}]
[{"$f":"IF(('ED272 Students YTD by Squadron'!$A267)<>0,'ED272 Students YTD by Squadron'!A267,\" \")","v":21},{"$f":"IF(('ED272 Students YTD by Squadron'!$A267)<>0,'ED272 Students YTD by Squadron'!B267,\" \")","v":5085},{"$f":"IF(('ED272 Students YTD by Squadron'!$A267)<>0,'ED272 Students YTD by Squadron'!C267,\" \")","v":"San Antonio Sail & Power "},{"$f":"IF(('ED272 Students YTD by Squadron'!$A267)<>0,'ED272 Students YTD by Squadron'!D267,\" \")","v":0},{"$f":"IF(('ED272 Students YTD by Squadron'!$A267)<>0,'ED272 Students YTD by Squadron'!E267,\" \")","v":0},{"$f":"IF(('ED272 Students YTD by Squadron'!$A267)<>0,'ED272 Students YTD by Squadron'!F267,\" \")","v":0},{"$f":"IF(('ED272 Students YTD by Squadron'!$A267)<>0,'ED272 Students YTD by Squadron'!G267,\" \")","v":0},{"$f":"IF(('ED272 Students YTD by Squadron'!$A267)<>0,'ED272 Students YTD by Squadron'!H267,\" \")","v":0},{"$f":"IF(('ED272 Students YTD by Squadron'!$A267)<>0,'ED272 Students YTD by Squadron'!I267,\" \")","v":0},{"$f":"IF(('ED272 Students YTD by Squadron'!$A267)<>0,'ED272A Classes YTD by Squadron'!D267,\" \")","v":1},{"$f":"IF(('ED272 Students YTD by Squadron'!$A267)<>0,'ED272A Classes YTD by Squadron'!E267,\" \")","v":0}]
[{"$f":"IF(('ED272 Students YTD by Squadron'!$A268)<>0,'ED272 Students YTD by Squadron'!A268,\" \")","v":21},{"$f":"IF(('ED272 Students YTD by Squadron'!$A268)<>0,'ED272 Students YTD by Squadron'!B268,\" \")","v":5460},{"$f":"IF(('ED272 Students YTD by Squadron'!$A268)<>0,'ED272 Students YTD by Squadron'!C268,\" \")","v":"Shreveport Power Squadron"},{"$f":"IF(('ED272 Students YTD by Squadron'!$A268)<>0,'ED272 Students YTD by Squadron'!D268,\" \")","v":5},{"$f":"IF(('ED272 Students YTD by Squadron'!$A268)<>0,'ED272 Students YTD by Squadron'!E268,\" \")","v":11},{"$f":"IF(('ED272 Students YTD by Squadron'!$A268)<>0,'ED272 Students YTD by Squadron'!F268,\" \")","v":5},{"$f":"IF(('ED272 Students YTD by Squadron'!$A268)<>0,'ED272 Students YTD by Squadron'!G268,\" \")","v":11},{"$f":"IF(('ED272 Students YTD by Squadron'!$A268)<>0,'ED272 Students YTD by Squadron'!H268,\" \")","v":5},{"$f":"IF(('ED272 Students YTD by Squadron'!$A268)<>0,'ED272 Students YTD by Squadron'!I268,\" \")","v":11},{"$f":"IF(('ED272 Students YTD by Squadron'!$A268)<>0,'ED272A Classes YTD by Squadron'!D268,\" \")","v":1},{"$f":"IF(('ED272 Students YTD by Squadron'!$A268)<>0,'ED272A Classes YTD by Squadron'!E268,\" \")","v":4}]
[{"$f":"IF(('ED272 Students YTD by Squadron'!$A269)<>0,'ED272 Students YTD by Squadron'!A269,\" \")","v":22},{"$f":"IF(('ED272 Students YTD by Squadron'!$A269)<>0,'ED272 Students YTD by Squadron'!B269,\" \")","v":150},{"$f":"IF(('ED272 Students YTD by Squadron'!$A269)<>0,'ED272 Students YTD by Squadron'!C269,\" \")","v":"Anna Maria Island Power  "},{"$f":"IF(('ED272 Students YTD by Squadron'!$A269)<>0,'ED272 Students YTD by Squadron'!D269,\" \")","v":27},{"$f":"IF(('ED272 Students YTD by Squadron'!$A269)<>0,'ED272 Students YTD by Squadron'!E269,\" \")","v":51},{"$f":"IF(('ED272 Students YTD by Squadron'!$A269)<>0,'ED272 Students YTD by Squadron'!F269,\" \")","v":25},{"$f":"IF(('ED272 Students YTD by Squadron'!$A269)<>0,'ED272 Students YTD by Squadron'!G269,\" \")","v":45},{"$f":"IF(('ED272 Students YTD by Squadron'!$A269)<>0,'ED272 Students YTD by Squadron'!H269,\" \")","v":24},{"$f":"IF(('ED272 Students YTD by Squadron'!$A269)<>0,'ED272 Students YTD by Squadron'!I269,\" \")","v":45},{"$f":"IF(('ED272 Students YTD by Squadron'!$A269)<>0,'ED272A Classes YTD by Squadron'!D269,\" \")","v":3},{"$f":"IF(('ED272 Students YTD by Squadron'!$A269)<>0,'ED272A Classes YTD by Squadron'!E269,\" \")","v":4}]
[{"$f":"IF(('ED272 Students YTD by Squadron'!$A270)<>0,'ED272 Students YTD by Squadron'!A270,\" \")","v":22},{"$f":"IF(('ED272 Students YTD by Squadron'!$A270)<>0,'ED272 Students YTD by Squadron'!B270,\" \")","v":585},{"$f":"IF(('ED272 Students YTD by Squadron'!$A270)<>0,'ED272 Students YTD by Squadron'!C270,\" \")","v":"Boca Ciega Sail & Power  "},{"$f":"IF(('ED272 Students YTD by Squadron'!$A270)<>0,'ED272 Students YTD by Squadron'!D270,\" \")","v":8},{"$f":"IF(('ED272 Students YTD by Squadron'!$A270)<>0,'ED272 Students YTD by Squadron'!E270,\" \")","v":17},{"$f":"IF(('ED272 Students YTD by Squadron'!$A270)<>0,'ED272 Students YTD by Squadron'!F270,\" \")","v":8},{"$f":"IF(('ED272 Students YTD by Squadron'!$A270)<>0,'ED272 Students YTD by Squadron'!G270,\" \")","v":15},{"$f":"IF(('ED272 Students YTD by Squadron'!$A270)<>0,'ED272 Students YTD by Squadron'!H270,\" \")","v":8},{"$f":"IF(('ED272 Students YTD by Squadron'!$A270)<>0,'ED272 Students YTD by Squadron'!I270,\" \")","v":15},{"$f":"IF(('ED272 Students YTD by Squadron'!$A270)<>0,'ED272A Classes YTD by Squadron'!D270,\" \")","v":1},{"$f":"IF(('ED272 Students YTD by Squadron'!$A270)<>0,'ED272A Classes YTD by Squadron'!E270,\" \")","v":2}]
[{"$f":"IF(('ED272 Students YTD by Squadron'!$A271)<>0,'ED272 Students YTD by Squadron'!A271,\" \")","v":22},{"$f":"IF(('ED272 Students YTD by Squadron'!$A271)<>0,'ED272 Students YTD by Squadron'!B271,\" \")","v":840},{"$f":"IF(('ED272 Students YTD by Squadron'!$A271)<>0,'ED272 Students YTD by Squadron'!C271,\" \")","v":"Cape Coral Power Squadron"},{"$f":"IF(('ED272 Students YTD by Squadron'!$A271)<>0,'ED272 Students YTD by Squadron'!D271,\" \")","v":333},{"$f":"IF(('ED272 Students YTD by Squadron'!$A271)<>0,'ED272 Students YTD by Squadron'!E271,\" \")","v":374},{"$f":"IF(('ED272 Students YTD by Squadron'!$A271)<>0,'ED272 Students YTD by Squadron'!F271,\" \")","v":318},{"$f":"IF(('ED272 Students YTD by Squadron'!$A271)<>0,'ED272 Students YTD by Squadron'!G271,\" \")","v":352},{"$f":"IF(('ED272 Students YTD by Squadron'!$A271)<>0,'ED272 Students YTD by Squadron'!H271,\" \")","v":317},{"$f":"IF(('ED272 Students YTD by Squadron'!$A271)<>0,'ED272 Students YTD by Squadron'!I271,\" \")","v":352},{"$f":"IF(('ED272 Students YTD by Squadron'!$A271)<>0,'ED272A Classes YTD by Squadron'!D271,\" \")","v":8},{"$f":"IF(('ED272 Students YTD by Squadron'!$A271)<>0,'ED272A Classes YTD by Squadron'!E271,\" \")","v":9}]
[{"$f":"IF(('ED272 Students YTD by Squadron'!$A272)<>0,'ED272 Students YTD by Squadron'!A272,\" \")","v":22},{"$f":"IF(('ED272 Students YTD by Squadron'!$A272)<>0,'ED272 Students YTD by Squadron'!B272,\" \")","v":1110},{"$f":"IF(('ED272 Students YTD by Squadron'!$A272)<>0,'ED272 Students YTD by Squadron'!C272,\" \")","v":"Clearwater Sail & Power  "},{"$f":"IF(('ED272 Students YTD by Squadron'!$A272)<>0,'ED272 Students YTD by Squadron'!D272,\" \")","v":43},{"$f":"IF(('ED272 Students YTD by Squadron'!$A272)<>0,'ED272 Students YTD by Squadron'!E272,\" \")","v":4},{"$f":"IF(('ED272 Students YTD by Squadron'!$A272)<>0,'ED272 Students YTD by Squadron'!F272,\" \")","v":25},{"$f":"IF(('ED272 Students YTD by Squadron'!$A272)<>0,'ED272 Students YTD by Squadron'!G272,\" \")","v":4},{"$f":"IF(('ED272 Students YTD by Squadron'!$A272)<>0,'ED272 Students YTD by Squadron'!H272,\" \")","v":25},{"$f":"IF(('ED272 Students YTD by Squadron'!$A272)<>0,'ED272 Students YTD by Squadron'!I272,\" \")","v":4},{"$f":"IF(('ED272 Students YTD by Squadron'!$A272)<>0,'ED272A Classes YTD by Squadron'!D272,\" \")","v":9},{"$f":"IF(('ED272 Students YTD by Squadron'!$A272)<>0,'ED272A Classes YTD by Squadron'!E272,\" \")","v":3}]
[{"$f":"IF(('ED272 Students YTD by Squadron'!$A273)<>0,'ED272 Students YTD by Squadron'!A273,\" \")","v":22},{"$f":"IF(('ED272 Students YTD by Squadron'!$A273)<>0,'ED272 Students YTD by Squadron'!B273,\" \")","v":1305},{"$f":"IF(('ED272 Students YTD by Squadron'!$A273)<>0,'ED272 Students YTD by Squadron'!C273,\" \")","v":"Crystal River Power Squad"},{"$f":"IF(('ED272 Students YTD by Squadron'!$A273)<>0,'ED272 Students YTD by Squadron'!D273,\" \")","v":15},{"$f":"IF(('ED272 Students YTD by Squadron'!$A273)<>0,'ED272 Students YTD by Squadron'!E273,\" \")","v":14},{"$f":"IF(('ED272 Students YTD by Squadron'!$A273)<>0,'ED272 Students YTD by Squadron'!F273,\" \")","v":12},{"$f":"IF(('ED272 Students YTD by Squadron'!$A273)<>0,'ED272 Students YTD by Squadron'!G273,\" \")","v":11},{"$f":"IF(('ED272 Students YTD by Squadron'!$A273)<>0,'ED272 Students YTD by Squadron'!H273,\" \")","v":12},{"$f":"IF(('ED272 Students YTD by Squadron'!$A273)<>0,'ED272 Students YTD by Squadron'!I273,\" \")","v":11},{"$f":"IF(('ED272 Students YTD by Squadron'!$A273)<>0,'ED272A Classes YTD by Squadron'!D273,\" \")","v":3},{"$f":"IF(('ED272 Students YTD by Squadron'!$A273)<>0,'ED272A Classes YTD by Squadron'!E273,\" \")","v":3}]
[{"$f":"IF(('ED272 Students YTD by Squadron'!$A274)<>0,'ED272 Students YTD by Squadron'!A274,\" \")","v":22},{"$f":"IF(('ED272 Students YTD by Squadron'!$A274)<>0,'ED272 Students YTD by Squadron'!B274,\" \")","v":1815},{"$f":"IF(('ED272 Students YTD by Squadron'!$A274)<>0,'ED272 Students YTD by Squadron'!C274,\" \")","v":"Ft. Myers Power Squadron "},{"$f":"IF(('ED272 Students YTD by Squadron'!$A274)<>0,'ED272 Students YTD by Squadron'!D274,\" \")","v":31},{"$f":"IF(('ED272 Students YTD by Squadron'!$A274)<>0,'ED272 Students YTD by Squadron'!E274,\" \")","v":19},{"$f":"IF(('ED272 Students YTD by Squadron'!$A274)<>0,'ED272 Students YTD by Squadron'!F274,\" \")","v":23},{"$f":"IF(('ED272 Students YTD by Squadron'!$A274)<>0,'ED272 Students YTD by Squadron'!G274,\" \")","v":16},{"$f":"IF(('ED272 Students YTD by Squadron'!$A274)<>0,'ED272 Students YTD by Squadron'!H274,\" \")","v":23},{"$f":"IF(('ED272 Students YTD by Squadron'!$A274)<>0,'ED272 Students YTD by Squadron'!I274,\" \")","v":16},{"$f":"IF(('ED272 Students YTD by Squadron'!$A274)<>0,'ED272A Classes YTD by Squadron'!D274,\" \")","v":2},{"$f":"IF(('ED272 Students YTD by Squadron'!$A274)<>0,'ED272A Classes YTD by Squadron'!E274,\" \")","v":2}]
[{"$f":"IF(('ED272 Students YTD by Squadron'!$A275)<>0,'ED272 Students YTD by Squadron'!A275,\" \")","v":22},{"$f":"IF(('ED272 Students YTD by Squadron'!$A275)<>0,'ED272 Students YTD by Squadron'!B275,\" \")","v":2775},{"$f":"IF(('ED272 Students YTD by Squadron'!$A275)<>0,'ED272 Students YTD by Squadron'!C275,\" \")","v":"Lakeland Sail & Power Sqd"},{"$f":"IF(('ED272 Students YTD by Squadron'!$A275)<>0,'ED272 Students YTD by Squadron'!D275,\" \")","v":44},{"$f":"IF(('ED272 Students YTD by Squadron'!$A275)<>0,'ED272 Students YTD by Squadron'!E275,\" \")","v":23},{"$f":"IF(('ED272 Students YTD by Squadron'!$A275)<>0,'ED272 Students YTD by Squadron'!F275,\" \")","v":36},{"$f":"IF(('ED272 Students YTD by Squadron'!$A275)<>0,'ED272 Students YTD by Squadron'!G275,\" \")","v":18},{"$f":"IF(('ED272 Students YTD by Squadron'!$A275)<>0,'ED272 Students YTD by Squadron'!H275,\" \")","v":36},{"$f":"IF(('ED272 Students YTD by Squadron'!$A275)<>0,'ED272 Students YTD by Squadron'!I275,\" \")","v":18},{"$f":"IF(('ED272 Students YTD by Squadron'!$A275)<>0,'ED272A Classes YTD by Squadron'!D275,\" \")","v":4},{"$f":"IF(('ED272 Students YTD by Squadron'!$A275)<>0,'ED272A Classes YTD by Squadron'!E275,\" \")","v":3}]
[{"$f":"IF(('ED272 Students YTD by Squadron'!$A276)<>0,'ED272 Students YTD by Squadron'!A276,\" \")","v":22},{"$f":"IF(('ED272 Students YTD by Squadron'!$A276)<>0,'ED272 Students YTD by Squadron'!B276,\" \")","v":3055},{"$f":"IF(('ED272 Students YTD by Squadron'!$A276)<>0,'ED272 Students YTD by Squadron'!C276,\" \")","v":"Manatee Sail & Power Sqd "},{"$f":"IF(('ED272 Students YTD by Squadron'!$A276)<>0,'ED272 Students YTD by Squadron'!D276,\" \")","v":89},{"$f":"IF(('ED272 Students YTD by Squadron'!$A276)<>0,'ED272 Students YTD by Squadron'!E276,\" \")","v":51},{"$f":"IF(('ED272 Students YTD by Squadron'!$A276)<>0,'ED272 Students YTD by Squadron'!F276,\" \")","v":88},{"$f":"IF(('ED272 Students YTD by Squadron'!$A276)<>0,'ED272 Students YTD by Squadron'!G276,\" \")","v":51},{"$f":"IF(('ED272 Students YTD by Squadron'!$A276)<>0,'ED272 Students YTD by Squadron'!H276,\" \")","v":88},{"$f":"IF(('ED272 Students YTD by Squadron'!$A276)<>0,'ED272 Students YTD by Squadron'!I276,\" \")","v":51},{"$f":"IF(('ED272 Students YTD by Squadron'!$A276)<>0,'ED272A Classes YTD by Squadron'!D276,\" \")","v":3},{"$f":"IF(('ED272 Students YTD by Squadron'!$A276)<>0,'ED272A Classes YTD by Squadron'!E276,\" \")","v":2}]
[{"$f":"IF(('ED272 Students YTD by Squadron'!$A277)<>0,'ED272 Students YTD by Squadron'!A277,\" \")","v":22},{"$f":"IF(('ED272 Students YTD by Squadron'!$A277)<>0,'ED272 Students YTD by Squadron'!B277,\" \")","v":3125},{"$f":"IF(('ED272 Students YTD by Squadron'!$A277)<>0,'ED272 Students YTD by Squadron'!C277,\" \")","v":"Marco Island Sail & Power"},{"$f":"IF(('ED272 Students YTD by Squadron'!$A277)<>0,'ED272 Students YTD by Squadron'!D277,\" \")","v":39},{"$f":"IF(('ED272 Students YTD by Squadron'!$A277)<>0,'ED272 Students YTD by Squadron'!E277,\" \")","v":36},{"$f":"IF(('ED272 Students YTD by Squadron'!$A277)<>0,'ED272 Students YTD by Squadron'!F277,\" \")","v":37},{"$f":"IF(('ED272 Students YTD by Squadron'!$A277)<>0,'ED272 Students YTD by Squadron'!G277,\" \")","v":32},{"$f":"IF(('ED272 Students YTD by Squadron'!$A277)<>0,'ED272 Students YTD by Squadron'!H277,\" \")","v":36},{"$f":"IF(('ED272 Students YTD by Squadron'!$A277)<>0,'ED272 Students YTD by Squadron'!I277,\" \")","v":32},{"$f":"IF(('ED272 Students YTD by Squadron'!$A277)<>0,'ED272A Classes YTD by Squadron'!D277,\" \")","v":4},{"$f":"IF(('ED272 Students YTD by Squadron'!$A277)<>0,'ED272A Classes YTD by Squadron'!E277,\" \")","v":4}]
[{"$f":"IF(('ED272 Students YTD by Squadron'!$A278)<>0,'ED272 Students YTD by Squadron'!A278,\" \")","v":22},{"$f":"IF(('ED272 Students YTD by Squadron'!$A278)<>0,'ED272 Students YTD by Squadron'!B278,\" \")","v":3615},{"$f":"IF(('ED272 Students YTD by Squadron'!$A278)<>0,'ED272 Students YTD by Squadron'!C278,\" \")","v":"Naples Sail & Power Squad"},{"$f":"IF(('ED272 Students YTD by Squadron'!$A278)<>0,'ED272 Students YTD by Squadron'!D278,\" \")","v":6},{"$f":"IF(('ED272 Students YTD by Squadron'!$A278)<>0,'ED272 Students YTD by Squadron'!E278,\" \")","v":25},{"$f":"IF(('ED272 Students YTD by Squadron'!$A278)<>0,'ED272 Students YTD by Squadron'!F278,\" \")","v":5},{"$f":"IF(('ED272 Students YTD by Squadron'!$A278)<>0,'ED272 Students YTD by Squadron'!G278,\" \")","v":21},{"$f":"IF(('ED272 Students YTD by Squadron'!$A278)<>0,'ED272 Students YTD by Squadron'!H278,\" \")","v":5},{"$f":"IF(('ED272 Students YTD by Squadron'!$A278)<>0,'ED272 Students YTD by Squadron'!I278,\" \")","v":21},{"$f":"IF(('ED272 Students YTD by Squadron'!$A278)<>0,'ED272A Classes YTD by Squadron'!D278,\" \")","v":1},{"$f":"IF(('ED272 Students YTD by Squadron'!$A278)<>0,'ED272A Classes YTD by Squadron'!E278,\" \")","v":1}]
[{"$f":"IF(('ED272 Students YTD by Squadron'!$A279)<>0,'ED272 Students YTD by Squadron'!A279,\" \")","v":22},{"$f":"IF(('ED272 Students YTD by Squadron'!$A279)<>0,'ED272 Students YTD by Squadron'!B279,\" \")","v":4245},{"$f":"IF(('ED272 Students YTD by Squadron'!$A279)<>0,'ED272 Students YTD by Squadron'!C279,\" \")","v":"Peace River Sail & Power "},{"$f":"IF(('ED272 Students YTD by Squadron'!$A279)<>0,'ED272 Students YTD by Squadron'!D279,\" \")","v":98},{"$f":"IF(('ED272 Students YTD by Squadron'!$A279)<>0,'ED272 Students YTD by Squadron'!E279,\" \")","v":85},{"$f":"IF(('ED272 Students YTD by Squadron'!$A279)<>0,'ED272 Students YTD by Squadron'!F279,\" \")","v":86},{"$f":"IF(('ED272 Students YTD by Squadron'!$A279)<>0,'ED272 Students YTD by Squadron'!G279,\" \")","v":75},{"$f":"IF(('ED272 Students YTD by Squadron'!$A279)<>0,'ED272 Students YTD by Squadron'!H279,\" \")","v":86},{"$f":"IF(('ED272 Students YTD by Squadron'!$A279)<>0,'ED272 Students YTD by Squadron'!I279,\" \")","v":75},{"$f":"IF(('ED272 Students YTD by Squadron'!$A279)<>0,'ED272A Classes YTD by Squadron'!D279,\" \")","v":10},{"$f":"IF(('ED272 Students YTD by Squadron'!$A279)<>0,'ED272A Classes YTD by Squadron'!E279,\" \")","v":11}]
[{"$f":"IF(('ED272 Students YTD by Squadron'!$A280)<>0,'ED272 Students YTD by Squadron'!A280,\" \")","v":22},{"$f":"IF(('ED272 Students YTD by Squadron'!$A280)<>0,'ED272 Students YTD by Squadron'!B280,\" \")","v":5100},{"$f":"IF(('ED272 Students YTD by Squadron'!$A280)<>0,'ED272 Students YTD by Squadron'!C280,\" \")","v":"San Carlos Bay Sail &    "},{"$f":"IF(('ED272 Students YTD by Squadron'!$A280)<>0,'ED272 Students YTD by Squadron'!D280,\" \")","v":74},{"$f":"IF(('ED272 Students YTD by Squadron'!$A280)<>0,'ED272 Students YTD by Squadron'!E280,\" \")","v":75},{"$f":"IF(('ED272 Students YTD by Squadron'!$A280)<>0,'ED272 Students YTD by Squadron'!F280,\" \")","v":72},{"$f":"IF(('ED272 Students YTD by Squadron'!$A280)<>0,'ED272 Students YTD by Squadron'!G280,\" \")","v":64},{"$f":"IF(('ED272 Students YTD by Squadron'!$A280)<>0,'ED272 Students YTD by Squadron'!H280,\" \")","v":72},{"$f":"IF(('ED272 Students YTD by Squadron'!$A280)<>0,'ED272 Students YTD by Squadron'!I280,\" \")","v":64},{"$f":"IF(('ED272 Students YTD by Squadron'!$A280)<>0,'ED272A Classes YTD by Squadron'!D280,\" \")","v":6},{"$f":"IF(('ED272 Students YTD by Squadron'!$A280)<>0,'ED272A Classes YTD by Squadron'!E280,\" \")","v":5}]
[{"$f":"IF(('ED272 Students YTD by Squadron'!$A281)<>0,'ED272 Students YTD by Squadron'!A281,\" \")","v":22},{"$f":"IF(('ED272 Students YTD by Squadron'!$A281)<>0,'ED272 Students YTD by Squadron'!B281,\" \")","v":5071},{"$f":"IF(('ED272 Students YTD by Squadron'!$A281)<>0,'ED272 Students YTD by Squadron'!C281,\" \")","v":"Sanibel Captiva Sail &   "},{"$f":"IF(('ED272 Students YTD by Squadron'!$A281)<>0,'ED272 Students YTD by Squadron'!D281,\" \")","v":41},{"$f":"IF(('ED272 Students YTD by Squadron'!$A281)<>0,'ED272 Students YTD by Squadron'!E281,\" \")","v":64},{"$f":"IF(('ED272 Students YTD by Squadron'!$A281)<>0,'ED272 Students YTD by Squadron'!F281,\" \")","v":37},{"$f":"IF(('ED272 Students YTD by Squadron'!$A281)<>0,'ED272 Students YTD by Squadron'!G281,\" \")","v":60},{"$f":"IF(('ED272 Students YTD by Squadron'!$A281)<>0,'ED272 Students YTD by Squadron'!H281,\" \")","v":37},{"$f":"IF(('ED272 Students YTD by Squadron'!$A281)<>0,'ED272 Students YTD by Squadron'!I281,\" \")","v":59},{"$f":"IF(('ED272 Students YTD by Squadron'!$A281)<>0,'ED272A Classes YTD by Squadron'!D281,\" \")","v":4},{"$f":"IF(('ED272 Students YTD by Squadron'!$A281)<>0,'ED272A Classes YTD by Squadron'!E281,\" \")","v":4}]
[{"$f":"IF(('ED272 Students YTD by Squadron'!$A282)<>0,'ED272 Students YTD by Squadron'!A282,\" \")","v":22},{"$f":"IF(('ED272 Students YTD by Squadron'!$A282)<>0,'ED272 Students YTD by Squadron'!B282,\" \")","v":5295},{"$f":"IF(('ED272 Students YTD by Squadron'!$A282)<>0,'ED272 Students YTD by Squadron'!C282,\" \")","v":"Sarasota Power Squadron  "},{"$f":"IF(('ED272 Students YTD by Squadron'!$A282)<>0,'ED272 Students YTD by Squadron'!D282,\" \")","v":122},{"$f":"IF(('ED272 Students YTD by Squadron'!$A282)<>0,'ED272 Students YTD by Squadron'!E282,\" \")","v":90},{"$f":"IF(('ED272 Students YTD by Squadron'!$A282)<>0,'ED272 Students YTD by Squadron'!F282,\" \")","v":114},{"$f":"IF(('ED272 Students YTD by Squadron'!$A282)<>0,'ED272 Students YTD by Squadron'!G282,\" \")","v":87},{"$f":"IF(('ED272 Students YTD by Squadron'!$A282)<>0,'ED272 Students YTD by Squadron'!H282,\" \")","v":114},{"$f":"IF(('ED272 Students YTD by Squadron'!$A282)<>0,'ED272 Students YTD by Squadron'!I282,\" \")","v":87},{"$f":"IF(('ED272 Students YTD by Squadron'!$A282)<>0,'ED272A Classes YTD by Squadron'!D282,\" \")","v":8},{"$f":"IF(('ED272 Students YTD by Squadron'!$A282)<>0,'ED272A Classes YTD by Squadron'!E282,\" \")","v":10}]
[{"$f":"IF(('ED272 Students YTD by Squadron'!$A283)<>0,'ED272 Students YTD by Squadron'!A283,\" \")","v":22},{"$f":"IF(('ED272 Students YTD by Squadron'!$A283)<>0,'ED272 Students YTD by Squadron'!B283,\" \")","v":5040},{"$f":"IF(('ED272 Students YTD by Squadron'!$A283)<>0,'ED272 Students YTD by Squadron'!C283,\" \")","v":"St. Petersburg Sail &    "},{"$f":"IF(('ED272 Students YTD by Squadron'!$A283)<>0,'ED272 Students YTD by Squadron'!D283,\" \")","v":61},{"$f":"IF(('ED272 Students YTD by Squadron'!$A283)<>0,'ED272 Students YTD by Squadron'!E283,\" \")","v":77},{"$f":"IF(('ED272 Students YTD by Squadron'!$A283)<>0,'ED272 Students YTD by Squadron'!F283,\" \")","v":49},{"$f":"IF(('ED272 Students YTD by Squadron'!$A283)<>0,'ED272 Students YTD by Squadron'!G283,\" \")","v":31},{"$f":"IF(('ED272 Students YTD by Squadron'!$A283)<>0,'ED272 Students YTD by Squadron'!H283,\" \")","v":49},{"$f":"IF(('ED272 Students YTD by Squadron'!$A283)<>0,'ED272 Students YTD by Squadron'!I283,\" \")","v":31},{"$f":"IF(('ED272 Students YTD by Squadron'!$A283)<>0,'ED272A Classes YTD by Squadron'!D283,\" \")","v":3},{"$f":"IF(('ED272 Students YTD by Squadron'!$A283)<>0,'ED272A Classes YTD by Squadron'!E283,\" \")","v":4}]
[{"$f":"IF(('ED272 Students YTD by Squadron'!$A284)<>0,'ED272 Students YTD by Squadron'!A284,\" \")","v":22},{"$f":"IF(('ED272 Students YTD by Squadron'!$A284)<>0,'ED272 Students YTD by Squadron'!B284,\" \")","v":5835},{"$f":"IF(('ED272 Students YTD by Squadron'!$A284)<>0,'ED272 Students YTD by Squadron'!C284,\" \")","v":"Tampa Power Squadron     "},{"$f":"IF(('ED272 Students YTD by Squadron'!$A284)<>0,'ED272 Students YTD by Squadron'!D284,\" \")","v":10},{"$f":"IF(('ED272 Students YTD by Squadron'!$A284)<>0,'ED272 Students YTD by Squadron'!E284,\" \")","v":20},{"$f":"IF(('ED272 Students YTD by Squadron'!$A284)<>0,'ED272 Students YTD by Squadron'!F284,\" \")","v":8},{"$f":"IF(('ED272 Students YTD by Squadron'!$A284)<>0,'ED272 Students YTD by Squadron'!G284,\" \")","v":17},{"$f":"IF(('ED272 Students YTD by Squadron'!$A284)<>0,'ED272 Students YTD by Squadron'!H284,\" \")","v":8},{"$f":"IF(('ED272 Students YTD by Squadron'!$A284)<>0,'ED272 Students YTD by Squadron'!I284,\" \")","v":17},{"$f":"IF(('ED272 Students YTD by Squadron'!$A284)<>0,'ED272A Classes YTD by Squadron'!D284,\" \")","v":1},{"$f":"IF(('ED272 Students YTD by Squadron'!$A284)<>0,'ED272A Classes YTD by Squadron'!E284,\" \")","v":4}]
[{"$f":"IF(('ED272 Students YTD by Squadron'!$A285)<>0,'ED272 Students YTD by Squadron'!A285,\" \")","v":22},{"$f":"IF(('ED272 Students YTD by Squadron'!$A285)<>0,'ED272 Students YTD by Squadron'!B285,\" \")","v":6030},{"$f":"IF(('ED272 Students YTD by Squadron'!$A285)<>0,'ED272 Students YTD by Squadron'!C285,\" \")","v":"Venice Sail & Power Squad"},{"$f":"IF(('ED272 Students YTD by Squadron'!$A285)<>0,'ED272 Students YTD by Squadron'!D285,\" \")","v":29},{"$f":"IF(('ED272 Students YTD by Squadron'!$A285)<>0,'ED272 Students YTD by Squadron'!E285,\" \")","v":34},{"$f":"IF(('ED272 Students YTD by Squadron'!$A285)<>0,'ED272 Students YTD by Squadron'!F285,\" \")","v":27},{"$f":"IF(('ED272 Students YTD by Squadron'!$A285)<>0,'ED272 Students YTD by Squadron'!G285,\" \")","v":34},{"$f":"IF(('ED272 Students YTD by Squadron'!$A285)<>0,'ED272 Students YTD by Squadron'!H285,\" \")","v":27},{"$f":"IF(('ED272 Students YTD by Squadron'!$A285)<>0,'ED272 Students YTD by Squadron'!I285,\" \")","v":34},{"$f":"IF(('ED272 Students YTD by Squadron'!$A285)<>0,'ED272A Classes YTD by Squadron'!D285,\" \")","v":4},{"$f":"IF(('ED272 Students YTD by Squadron'!$A285)<>0,'ED272A Classes YTD by Squadron'!E285,\" \")","v":5}]
[{"$f":"IF(('ED272 Students YTD by Squadron'!$A286)<>0,'ED272 Students YTD by Squadron'!A286,\" \")","v":23},{"$f":"IF(('ED272 Students YTD by Squadron'!$A286)<>0,'ED272 Students YTD by Squadron'!B286,\" \")","v":330},{"$f":"IF(('ED272 Students YTD by Squadron'!$A286)<>0,'ED272 Students YTD by Squadron'!C286,\" \")","v":"Banana River Sail & Power"},{"$f":"IF(('ED272 Students YTD by Squadron'!$A286)<>0,'ED272 Students YTD by Squadron'!D286,\" \")","v":21},{"$f":"IF(('ED272 Students YTD by Squadron'!$A286)<>0,'ED272 Students YTD by Squadron'!E286,\" \")","v":23},{"$f":"IF(('ED272 Students YTD by Squadron'!$A286)<>0,'ED272 Students YTD by Squadron'!F286,\" \")","v":16},{"$f":"IF(('ED272 Students YTD by Squadron'!$A286)<>0,'ED272 Students YTD by Squadron'!G286,\" \")","v":23},{"$f":"IF(('ED272 Students YTD by Squadron'!$A286)<>0,'ED272 Students YTD by Squadron'!H286,\" \")","v":16},{"$f":"IF(('ED272 Students YTD by Squadron'!$A286)<>0,'ED272 Students YTD by Squadron'!I286,\" \")","v":23},{"$f":"IF(('ED272 Students YTD by Squadron'!$A286)<>0,'ED272A Classes YTD by Squadron'!D286,\" \")","v":3},{"$f":"IF(('ED272 Students YTD by Squadron'!$A286)<>0,'ED272A Classes YTD by Squadron'!E286,\" \")","v":3}]
[{"$f":"IF(('ED272 Students YTD by Squadron'!$A287)<>0,'ED272 Students YTD by Squadron'!A287,\" \")","v":23},{"$f":"IF(('ED272 Students YTD by Squadron'!$A287)<>0,'ED272 Students YTD by Squadron'!B287,\" \")","v":935},{"$f":"IF(('ED272 Students YTD by Squadron'!$A287)<>0,'ED272 Students YTD by Squadron'!C287,\" \")","v":"Central Florida Sail &   "},{"$f":"IF(('ED272 Students YTD by Squadron'!$A287)<>0,'ED272 Students YTD by Squadron'!D287,\" \")","v":34},{"$f":"IF(('ED272 Students YTD by Squadron'!$A287)<>0,'ED272 Students YTD by Squadron'!E287,\" \")","v":49},{"$f":"IF(('ED272 Students YTD by Squadron'!$A287)<>0,'ED272 Students YTD by Squadron'!F287,\" \")","v":28},{"$f":"IF(('ED272 Students YTD by Squadron'!$A287)<>0,'ED272 Students YTD by Squadron'!G287,\" \")","v":35},{"$f":"IF(('ED272 Students YTD by Squadron'!$A287)<>0,'ED272 Students YTD by Squadron'!H287,\" \")","v":26},{"$f":"IF(('ED272 Students YTD by Squadron'!$A287)<>0,'ED272 Students YTD by Squadron'!I287,\" \")","v":34},{"$f":"IF(('ED272 Students YTD by Squadron'!$A287)<>0,'ED272A Classes YTD by Squadron'!D287,\" \")","v":3},{"$f":"IF(('ED272 Students YTD by Squadron'!$A287)<>0,'ED272A Classes YTD by Squadron'!E287,\" \")","v":2}]
[{"$f":"IF(('ED272 Students YTD by Squadron'!$A288)<>0,'ED272 Students YTD by Squadron'!A288,\" \")","v":23},{"$f":"IF(('ED272 Students YTD by Squadron'!$A288)<>0,'ED272 Students YTD by Squadron'!B288,\" \")","v":1155},{"$f":"IF(('ED272 Students YTD by Squadron'!$A288)<>0,'ED272 Students YTD by Squadron'!C288,\" \")","v":"Cocoa Beach Power Squad  "},{"$f":"IF(('ED272 Students YTD by Squadron'!$A288)<>0,'ED272 Students YTD by Squadron'!D288,\" \")","v":50},{"$f":"IF(('ED272 Students YTD by Squadron'!$A288)<>0,'ED272 Students YTD by Squadron'!E288,\" \")","v":27},{"$f":"IF(('ED272 Students YTD by Squadron'!$A288)<>0,'ED272 Students YTD by Squadron'!F288,\" \")","v":48},{"$f":"IF(('ED272 Students YTD by Squadron'!$A288)<>0,'ED272 Students YTD by Squadron'!G288,\" \")","v":24},{"$f":"IF(('ED272 Students YTD by Squadron'!$A288)<>0,'ED272 Students YTD by Squadron'!H288,\" \")","v":46},{"$f":"IF(('ED272 Students YTD by Squadron'!$A288)<>0,'ED272 Students YTD by Squadron'!I288,\" \")","v":24},{"$f":"IF(('ED272 Students YTD by Squadron'!$A288)<>0,'ED272A Classes YTD by Squadron'!D288,\" \")","v":5},{"$f":"IF(('ED272 Students YTD by Squadron'!$A288)<>0,'ED272A Classes YTD by Squadron'!E288,\" \")","v":5}]
[{"$f":"IF(('ED272 Students YTD by Squadron'!$A289)<>0,'ED272 Students YTD by Squadron'!A289,\" \")","v":23},{"$f":"IF(('ED272 Students YTD by Squadron'!$A289)<>0,'ED272 Students YTD by Squadron'!B289,\" \")","v":1395},{"$f":"IF(('ED272 Students YTD by Squadron'!$A289)<>0,'ED272 Students YTD by Squadron'!C289,\" \")","v":"Daytona Beach Power Squad"},{"$f":"IF(('ED272 Students YTD by Squadron'!$A289)<>0,'ED272 Students YTD by Squadron'!D289,\" \")","v":0},{"$f":"IF(('ED272 Students YTD by Squadron'!$A289)<>0,'ED272 Students YTD by Squadron'!E289,\" \")","v":0},{"$f":"IF(('ED272 Students YTD by Squadron'!$A289)<>0,'ED272 Students YTD by Squadron'!F289,\" \")","v":0},{"$f":"IF(('ED272 Students YTD by Squadron'!$A289)<>0,'ED272 Students YTD by Squadron'!G289,\" \")","v":0},{"$f":"IF(('ED272 Students YTD by Squadron'!$A289)<>0,'ED272 Students YTD by Squadron'!H289,\" \")","v":0},{"$f":"IF(('ED272 Students YTD by Squadron'!$A289)<>0,'ED272 Students YTD by Squadron'!I289,\" \")","v":0},{"$f":"IF(('ED272 Students YTD by Squadron'!$A289)<>0,'ED272A Classes YTD by Squadron'!D289,\" \")","v":0},{"$f":"IF(('ED272 Students YTD by Squadron'!$A289)<>0,'ED272A Classes YTD by Squadron'!E289,\" \")","v":0}]
[{"$f":"IF(('ED272 Students YTD by Squadron'!$A290)<>0,'ED272 Students YTD by Squadron'!A290,\" \")","v":23},{"$f":"IF(('ED272 Students YTD by Squadron'!$A290)<>0,'ED272 Students YTD by Squadron'!B290,\" \")","v":1965},{"$f":"IF(('ED272 Students YTD by Squadron'!$A290)<>0,'ED272 Students YTD by Squadron'!C290,\" \")","v":"Gainesville Sail & Power "},{"$f":"IF(('ED272 Students YTD by Squadron'!$A290)<>0,'ED272 Students YTD by Squadron'!D290,\" \")","v":0},{"$f":"IF(('ED272 Students YTD by Squadron'!$A290)<>0,'ED272 Students YTD by Squadron'!E290,\" \")","v":0},{"$f":"IF(('ED272 Students YTD by Squadron'!$A290)<>0,'ED272 Students YTD by Squadron'!F290,\" \")","v":0},{"$f":"IF(('ED272 Students YTD by Squadron'!$A290)<>0,'ED272 Students YTD by Squadron'!G290,\" \")","v":0},{"$f":"IF(('ED272 Students YTD by Squadron'!$A290)<>0,'ED272 Students YTD by Squadron'!H290,\" \")","v":0},{"$f":"IF(('ED272 Students YTD by Squadron'!$A290)<>0,'ED272 Students YTD by Squadron'!I290,\" \")","v":0},{"$f":"IF(('ED272 Students YTD by Squadron'!$A290)<>0,'ED272A Classes YTD by Squadron'!D290,\" \")","v":0},{"$f":"IF(('ED272 Students YTD by Squadron'!$A290)<>0,'ED272A Classes YTD by Squadron'!E290,\" \")","v":0}]
[{"$f":"IF(('ED272 Students YTD by Squadron'!$A291)<>0,'ED272 Students YTD by Squadron'!A291,\" \")","v":23},{"$f":"IF(('ED272 Students YTD by Squadron'!$A291)<>0,'ED272 Students YTD by Squadron'!B291,\" \")","v":2210},{"$f":"IF(('ED272 Students YTD by Squadron'!$A291)<>0,'ED272 Students YTD by Squadron'!C291,\" \")","v":"Harris Chain Sail & Power"},{"$f":"IF(('ED272 Students YTD by Squadron'!$A291)<>0,'ED272 Students YTD by Squadron'!D291,\" \")","v":67},{"$f":"IF(('ED272 Students YTD by Squadron'!$A291)<>0,'ED272 Students YTD by Squadron'!E291,\" \")","v":60},{"$f":"IF(('ED272 Students YTD by Squadron'!$A291)<>0,'ED272 Students YTD by Squadron'!F291,\" \")","v":56},{"$f":"IF(('ED272 Students YTD by Squadron'!$A291)<>0,'ED272 Students YTD by Squadron'!G291,\" \")","v":37},{"$f":"IF(('ED272 Students YTD by Squadron'!$A291)<>0,'ED272 Students YTD by Squadron'!H291,\" \")","v":56},{"$f":"IF(('ED272 Students YTD by Squadron'!$A291)<>0,'ED272 Students YTD by Squadron'!I291,\" \")","v":37},{"$f":"IF(('ED272 Students YTD by Squadron'!$A291)<>0,'ED272A Classes YTD by Squadron'!D291,\" \")","v":4},{"$f":"IF(('ED272 Students YTD by Squadron'!$A291)<>0,'ED272A Classes YTD by Squadron'!E291,\" \")","v":5}]
[{"$f":"IF(('ED272 Students YTD by Squadron'!$A292)<>0,'ED272 Students YTD by Squadron'!A292,\" \")","v":23},{"$f":"IF(('ED272 Students YTD by Squadron'!$A292)<>0,'ED272 Students YTD by Squadron'!B292,\" \")","v":2490},{"$f":"IF(('ED272 Students YTD by Squadron'!$A292)<>0,'ED272 Students YTD by Squadron'!C292,\" \")","v":"Jacksonville Sail & Power"},{"$f":"IF(('ED272 Students YTD by Squadron'!$A292)<>0,'ED272 Students YTD by Squadron'!D292,\" \")","v":49},{"$f":"IF(('ED272 Students YTD by Squadron'!$A292)<>0,'ED272 Students YTD by Squadron'!E292,\" \")","v":27},{"$f":"IF(('ED272 Students YTD by Squadron'!$A292)<>0,'ED272 Students YTD by Squadron'!F292,\" \")","v":45},{"$f":"IF(('ED272 Students YTD by Squadron'!$A292)<>0,'ED272 Students YTD by Squadron'!G292,\" \")","v":27},{"$f":"IF(('ED272 Students YTD by Squadron'!$A292)<>0,'ED272 Students YTD by Squadron'!H292,\" \")","v":45},{"$f":"IF(('ED272 Students YTD by Squadron'!$A292)<>0,'ED272 Students YTD by Squadron'!I292,\" \")","v":27},{"$f":"IF(('ED272 Students YTD by Squadron'!$A292)<>0,'ED272A Classes YTD by Squadron'!D292,\" \")","v":7},{"$f":"IF(('ED272 Students YTD by Squadron'!$A292)<>0,'ED272A Classes YTD by Squadron'!E292,\" \")","v":4}]
[{"$f":"IF(('ED272 Students YTD by Squadron'!$A293)<>0,'ED272 Students YTD by Squadron'!A293,\" \")","v":23},{"$f":"IF(('ED272 Students YTD by Squadron'!$A293)<>0,'ED272 Students YTD by Squadron'!B293,\" \")","v":5905},{"$f":"IF(('ED272 Students YTD by Squadron'!$A293)<>0,'ED272 Students YTD by Squadron'!C293,\" \")","v":"Titusville Sail & Power  "},{"$f":"IF(('ED272 Students YTD by Squadron'!$A293)<>0,'ED272 Students YTD by Squadron'!D293,\" \")","v":0},{"$f":"IF(('ED272 Students YTD by Squadron'!$A293)<>0,'ED272 Students YTD by Squadron'!E293,\" \")","v":2},{"$f":"IF(('ED272 Students YTD by Squadron'!$A293)<>0,'ED272 Students YTD by Squadron'!F293,\" \")","v":0},{"$f":"IF(('ED272 Students YTD by Squadron'!$A293)<>0,'ED272 Students YTD by Squadron'!G293,\" \")","v":2},{"$f":"IF(('ED272 Students YTD by Squadron'!$A293)<>0,'ED272 Students YTD by Squadron'!H293,\" \")","v":0},{"$f":"IF(('ED272 Students YTD by Squadron'!$A293)<>0,'ED272 Students YTD by Squadron'!I293,\" \")","v":2},{"$f":"IF(('ED272 Students YTD by Squadron'!$A293)<>0,'ED272A Classes YTD by Squadron'!D293,\" \")","v":0},{"$f":"IF(('ED272 Students YTD by Squadron'!$A293)<>0,'ED272A Classes YTD by Squadron'!E293,\" \")","v":1}]
[{"$f":"IF(('ED272 Students YTD by Squadron'!$A294)<>0,'ED272 Students YTD by Squadron'!A294,\" \")","v":24},{"$f":"IF(('ED272 Students YTD by Squadron'!$A294)<>0,'ED272 Students YTD by Squadron'!B294,\" \")","v":570},{"$f":"IF(('ED272 Students YTD by Squadron'!$A294)<>0,'ED272 Students YTD by Squadron'!C294,\" \")","v":"Bluegrass Power Squadron "},{"$f":"IF(('ED272 Students YTD by Squadron'!$A294)<>0,'ED272 Students YTD by Squadron'!D294,\" \")","v":5},{"$f":"IF(('ED272 Students YTD by Squadron'!$A294)<>0,'ED272 Students YTD by Squadron'!E294,\" \")","v":7},{"$f":"IF(('ED272 Students YTD by Squadron'!$A294)<>0,'ED272 Students YTD by Squadron'!F294,\" \")","v":5},{"$f":"IF(('ED272 Students YTD by Squadron'!$A294)<>0,'ED272 Students YTD by Squadron'!G294,\" \")","v":3},{"$f":"IF(('ED272 Students YTD by Squadron'!$A294)<>0,'ED272 Students YTD by Squadron'!H294,\" \")","v":5},{"$f":"IF(('ED272 Students YTD by Squadron'!$A294)<>0,'ED272 Students YTD by Squadron'!I294,\" \")","v":3},{"$f":"IF(('ED272 Students YTD by Squadron'!$A294)<>0,'ED272A Classes YTD by Squadron'!D294,\" \")","v":2},{"$f":"IF(('ED272 Students YTD by Squadron'!$A294)<>0,'ED272A Classes YTD by Squadron'!E294,\" \")","v":1}]
[{"$f":"IF(('ED272 Students YTD by Squadron'!$A295)<>0,'ED272 Students YTD by Squadron'!A295,\" \")","v":24},{"$f":"IF(('ED272 Students YTD by Squadron'!$A295)<>0,'ED272 Students YTD by Squadron'!B295,\" \")","v":1095},{"$f":"IF(('ED272 Students YTD by Squadron'!$A295)<>0,'ED272 Students YTD by Squadron'!C295,\" \")","v":"Cincinnati Sail & Power  "},{"$f":"IF(('ED272 Students YTD by Squadron'!$A295)<>0,'ED272 Students YTD by Squadron'!D295,\" \")","v":7},{"$f":"IF(('ED272 Students YTD by Squadron'!$A295)<>0,'ED272 Students YTD by Squadron'!E295,\" \")","v":3},{"$f":"IF(('ED272 Students YTD by Squadron'!$A295)<>0,'ED272 Students YTD by Squadron'!F295,\" \")","v":7},{"$f":"IF(('ED272 Students YTD by Squadron'!$A295)<>0,'ED272 Students YTD by Squadron'!G295,\" \")","v":3},{"$f":"IF(('ED272 Students YTD by Squadron'!$A295)<>0,'ED272 Students YTD by Squadron'!H295,\" \")","v":7},{"$f":"IF(('ED272 Students YTD by Squadron'!$A295)<>0,'ED272 Students YTD by Squadron'!I295,\" \")","v":3},{"$f":"IF(('ED272 Students YTD by Squadron'!$A295)<>0,'ED272A Classes YTD by Squadron'!D295,\" \")","v":3},{"$f":"IF(('ED272 Students YTD by Squadron'!$A295)<>0,'ED272A Classes YTD by Squadron'!E295,\" \")","v":3}]
[{"$f":"IF(('ED272 Students YTD by Squadron'!$A296)<>0,'ED272 Students YTD by Squadron'!A296,\" \")","v":24},{"$f":"IF(('ED272 Students YTD by Squadron'!$A296)<>0,'ED272 Students YTD by Squadron'!B296,\" \")","v":1380},{"$f":"IF(('ED272 Students YTD by Squadron'!$A296)<>0,'ED272 Students YTD by Squadron'!C296,\" \")","v":"Dayton Sail & Power Squad"},{"$f":"IF(('ED272 Students YTD by Squadron'!$A296)<>0,'ED272 Students YTD by Squadron'!D296,\" \")","v":0},{"$f":"IF(('ED272 Students YTD by Squadron'!$A296)<>0,'ED272 Students YTD by Squadron'!E296,\" \")","v":15},{"$f":"IF(('ED272 Students YTD by Squadron'!$A296)<>0,'ED272 Students YTD by Squadron'!F296,\" \")","v":0},{"$f":"IF(('ED272 Students YTD by Squadron'!$A296)<>0,'ED272 Students YTD by Squadron'!G296,\" \")","v":13},{"$f":"IF(('ED272 Students YTD by Squadron'!$A296)<>0,'ED272 Students YTD by Squadron'!H296,\" \")","v":0},{"$f":"IF(('ED272 Students YTD by Squadron'!$A296)<>0,'ED272 Students YTD by Squadron'!I296,\" \")","v":12},{"$f":"IF(('ED272 Students YTD by Squadron'!$A296)<>0,'ED272A Classes YTD by Squadron'!D296,\" \")","v":0},{"$f":"IF(('ED272 Students YTD by Squadron'!$A296)<>0,'ED272A Classes YTD by Squadron'!E296,\" \")","v":2}]
[{"$f":"IF(('ED272 Students YTD by Squadron'!$A297)<>0,'ED272 Students YTD by Squadron'!A297,\" \")","v":24},{"$f":"IF(('ED272 Students YTD by Squadron'!$A297)<>0,'ED272 Students YTD by Squadron'!B297,\" \")","v":1670},{"$f":"IF(('ED272 Students YTD by Squadron'!$A297)<>0,'ED272 Students YTD by Squadron'!C297,\" \")","v":"Evansville Bend Power Sqd"},{"$f":"IF(('ED272 Students YTD by Squadron'!$A297)<>0,'ED272 Students YTD by Squadron'!D297,\" \")","v":2},{"$f":"IF(('ED272 Students YTD by Squadron'!$A297)<>0,'ED272 Students YTD by Squadron'!E297,\" \")","v":0},{"$f":"IF(('ED272 Students YTD by Squadron'!$A297)<>0,'ED272 Students YTD by Squadron'!F297,\" \")","v":2},{"$f":"IF(('ED272 Students YTD by Squadron'!$A297)<>0,'ED272 Students YTD by Squadron'!G297,\" \")","v":0},{"$f":"IF(('ED272 Students YTD by Squadron'!$A297)<>0,'ED272 Students YTD by Squadron'!H297,\" \")","v":2},{"$f":"IF(('ED272 Students YTD by Squadron'!$A297)<>0,'ED272 Students YTD by Squadron'!I297,\" \")","v":0},{"$f":"IF(('ED272 Students YTD by Squadron'!$A297)<>0,'ED272A Classes YTD by Squadron'!D297,\" \")","v":2},{"$f":"IF(('ED272 Students YTD by Squadron'!$A297)<>0,'ED272A Classes YTD by Squadron'!E297,\" \")","v":1}]
[{"$f":"IF(('ED272 Students YTD by Squadron'!$A298)<>0,'ED272 Students YTD by Squadron'!A298,\" \")","v":24},{"$f":"IF(('ED272 Students YTD by Squadron'!$A298)<>0,'ED272 Students YTD by Squadron'!B298,\" \")","v":2325},{"$f":"IF(('ED272 Students YTD by Squadron'!$A298)<>0,'ED272 Students YTD by Squadron'!C298,\" \")","v":"Hoosier Sail & Power Sqd "},{"$f":"IF(('ED272 Students YTD by Squadron'!$A298)<>0,'ED272 Students YTD by Squadron'!D298,\" \")","v":0},{"$f":"IF(('ED272 Students YTD by Squadron'!$A298)<>0,'ED272 Students YTD by Squadron'!E298,\" \")","v":0},{"$f":"IF(('ED272 Students YTD by Squadron'!$A298)<>0,'ED272 Students YTD by Squadron'!F298,\" \")","v":0},{"$f":"IF(('ED272 Students YTD by Squadron'!$A298)<>0,'ED272 Students YTD by Squadron'!G298,\" \")","v":0},{"$f":"IF(('ED272 Students YTD by Squadron'!$A298)<>0,'ED272 Students YTD by Squadron'!H298,\" \")","v":0},{"$f":"IF(('ED272 Students YTD by Squadron'!$A298)<>0,'ED272 Students YTD by Squadron'!I298,\" \")","v":0},{"$f":"IF(('ED272 Students YTD by Squadron'!$A298)<>0,'ED272A Classes YTD by Squadron'!D298,\" \")","v":0},{"$f":"IF(('ED272 Students YTD by Squadron'!$A298)<>0,'ED272A Classes YTD by Squadron'!E298,\" \")","v":0}]
[{"$f":"IF(('ED272 Students YTD by Squadron'!$A299)<>0,'ED272 Students YTD by Squadron'!A299,\" \")","v":24},{"$f":"IF(('ED272 Students YTD by Squadron'!$A299)<>0,'ED272 Students YTD by Squadron'!B299,\" \")","v":2970},{"$f":"IF(('ED272 Students YTD by Squadron'!$A299)<>0,'ED272 Students YTD by Squadron'!C299,\" \")","v":"Louisville Sail & Power  "},{"$f":"IF(('ED272 Students YTD by Squadron'!$A299)<>0,'ED272 Students YTD by Squadron'!D299,\" \")","v":17},{"$f":"IF(('ED272 Students YTD by Squadron'!$A299)<>0,'ED272 Students YTD by Squadron'!E299,\" \")","v":44},{"$f":"IF(('ED272 Students YTD by Squadron'!$A299)<>0,'ED272 Students YTD by Squadron'!F299,\" \")","v":16},{"$f":"IF(('ED272 Students YTD by Squadron'!$A299)<>0,'ED272 Students YTD by Squadron'!G299,\" \")","v":37},{"$f":"IF(('ED272 Students YTD by Squadron'!$A299)<>0,'ED272 Students YTD by Squadron'!H299,\" \")","v":16},{"$f":"IF(('ED272 Students YTD by Squadron'!$A299)<>0,'ED272 Students YTD by Squadron'!I299,\" \")","v":37},{"$f":"IF(('ED272 Students YTD by Squadron'!$A299)<>0,'ED272A Classes YTD by Squadron'!D299,\" \")","v":2},{"$f":"IF(('ED272 Students YTD by Squadron'!$A299)<>0,'ED272A Classes YTD by Squadron'!E299,\" \")","v":4}]
[{"$f":"IF(('ED272 Students YTD by Squadron'!$A300)<>0,'ED272 Students YTD by Squadron'!A300,\" \")","v":24},{"$f":"IF(('ED272 Students YTD by Squadron'!$A300)<>0,'ED272 Students YTD by Squadron'!B300,\" \")","v":6120},{"$f":"IF(('ED272 Students YTD by Squadron'!$A300)<>0,'ED272 Students YTD by Squadron'!C300,\" \")","v":"Wabash Valley Power Squad"},{"$f":"IF(('ED272 Students YTD by Squadron'!$A300)<>0,'ED272 Students YTD by Squadron'!D300,\" \")","v":6},{"$f":"IF(('ED272 Students YTD by Squadron'!$A300)<>0,'ED272 Students YTD by Squadron'!E300,\" \")","v":0},{"$f":"IF(('ED272 Students YTD by Squadron'!$A300)<>0,'ED272 Students YTD by Squadron'!F300,\" \")","v":3},{"$f":"IF(('ED272 Students YTD by Squadron'!$A300)<>0,'ED272 Students YTD by Squadron'!G300,\" \")","v":0},{"$f":"IF(('ED272 Students YTD by Squadron'!$A300)<>0,'ED272 Students YTD by Squadron'!H300,\" \")","v":3},{"$f":"IF(('ED272 Students YTD by Squadron'!$A300)<>0,'ED272 Students YTD by Squadron'!I300,\" \")","v":0},{"$f":"IF(('ED272 Students YTD by Squadron'!$A300)<>0,'ED272A Classes YTD by Squadron'!D300,\" \")","v":3},{"$f":"IF(('ED272 Students YTD by Squadron'!$A300)<>0,'ED272A Classes YTD by Squadron'!E300,\" \")","v":0}]
[{"$f":"IF(('ED272 Students YTD by Squadron'!$A301)<>0,'ED272 Students YTD by Squadron'!A301,\" \")","v":25},{"$f":"IF(('ED272 Students YTD by Squadron'!$A301)<>0,'ED272 Students YTD by Squadron'!B301,\" \")","v":1530},{"$f":"IF(('ED272 Students YTD by Squadron'!$A301)<>0,'ED272 Students YTD by Squadron'!C301,\" \")","v":"Diablo Sail & Power Squad"},{"$f":"IF(('ED272 Students YTD by Squadron'!$A301)<>0,'ED272 Students YTD by Squadron'!D301,\" \")","v":6},{"$f":"IF(('ED272 Students YTD by Squadron'!$A301)<>0,'ED272 Students YTD by Squadron'!E301,\" \")","v":0},{"$f":"IF(('ED272 Students YTD by Squadron'!$A301)<>0,'ED272 Students YTD by Squadron'!F301,\" \")","v":6},{"$f":"IF(('ED272 Students YTD by Squadron'!$A301)<>0,'ED272 Students YTD by Squadron'!G301,\" \")","v":0},{"$f":"IF(('ED272 Students YTD by Squadron'!$A301)<>0,'ED272 Students YTD by Squadron'!H301,\" \")","v":5},{"$f":"IF(('ED272 Students YTD by Squadron'!$A301)<>0,'ED272 Students YTD by Squadron'!I301,\" \")","v":0},{"$f":"IF(('ED272 Students YTD by Squadron'!$A301)<>0,'ED272A Classes YTD by Squadron'!D301,\" \")","v":1},{"$f":"IF(('ED272 Students YTD by Squadron'!$A301)<>0,'ED272A Classes YTD by Squadron'!E301,\" \")","v":0}]
[{"$f":"IF(('ED272 Students YTD by Squadron'!$A302)<>0,'ED272 Students YTD by Squadron'!A302,\" \")","v":25},{"$f":"IF(('ED272 Students YTD by Squadron'!$A302)<>0,'ED272 Students YTD by Squadron'!B302,\" \")","v":3487},{"$f":"IF(('ED272 Students YTD by Squadron'!$A302)<>0,'ED272 Students YTD by Squadron'!C302,\" \")","v":"Monterey Bay Sail & Power"},{"$f":"IF(('ED272 Students YTD by Squadron'!$A302)<>0,'ED272 Students YTD by Squadron'!D302,\" \")","v":0},{"$f":"IF(('ED272 Students YTD by Squadron'!$A302)<>0,'ED272 Students YTD by Squadron'!E302,\" \")","v":0},{"$f":"IF(('ED272 Students YTD by Squadron'!$A302)<>0,'ED272 Students YTD by Squadron'!F302,\" \")","v":0},{"$f":"IF(('ED272 Students YTD by Squadron'!$A302)<>0,'ED272 Students YTD by Squadron'!G302,\" \")","v":0},{"$f":"IF(('ED272 Students YTD by Squadron'!$A302)<>0,'ED272 Students YTD by Squadron'!H302,\" \")","v":0},{"$f":"IF(('ED272 Students YTD by Squadron'!$A302)<>0,'ED272 Students YTD by Squadron'!I302,\" \")","v":0},{"$f":"IF(('ED272 Students YTD by Squadron'!$A302)<>0,'ED272A Classes YTD by Squadron'!D302,\" \")","v":0},{"$f":"IF(('ED272 Students YTD by Squadron'!$A302)<>0,'ED272A Classes YTD by Squadron'!E302,\" \")","v":0}]
[{"$f":"IF(('ED272 Students YTD by Squadron'!$A303)<>0,'ED272 Students YTD by Squadron'!A303,\" \")","v":25},{"$f":"IF(('ED272 Students YTD by Squadron'!$A303)<>0,'ED272 Students YTD by Squadron'!B303,\" \")","v":4350},{"$f":"IF(('ED272 Students YTD by Squadron'!$A303)<>0,'ED272 Students YTD by Squadron'!C303,\" \")","v":"Peralta Sail & Power Sqd "},{"$f":"IF(('ED272 Students YTD by Squadron'!$A303)<>0,'ED272 Students YTD by Squadron'!D303,\" \")","v":18},{"$f":"IF(('ED272 Students YTD by Squadron'!$A303)<>0,'ED272 Students YTD by Squadron'!E303,\" \")","v":33},{"$f":"IF(('ED272 Students YTD by Squadron'!$A303)<>0,'ED272 Students YTD by Squadron'!F303,\" \")","v":12},{"$f":"IF(('ED272 Students YTD by Squadron'!$A303)<>0,'ED272 Students YTD by Squadron'!G303,\" \")","v":29},{"$f":"IF(('ED272 Students YTD by Squadron'!$A303)<>0,'ED272 Students YTD by Squadron'!H303,\" \")","v":12},{"$f":"IF(('ED272 Students YTD by Squadron'!$A303)<>0,'ED272 Students YTD by Squadron'!I303,\" \")","v":28},{"$f":"IF(('ED272 Students YTD by Squadron'!$A303)<>0,'ED272A Classes YTD by Squadron'!D303,\" \")","v":1},{"$f":"IF(('ED272 Students YTD by Squadron'!$A303)<>0,'ED272A Classes YTD by Squadron'!E303,\" \")","v":2}]
[{"$f":"IF(('ED272 Students YTD by Squadron'!$A304)<>0,'ED272 Students YTD by Squadron'!A304,\" \")","v":25},{"$f":"IF(('ED272 Students YTD by Squadron'!$A304)<>0,'ED272 Students YTD by Squadron'!B304,\" \")","v":4700},{"$f":"IF(('ED272 Students YTD by Squadron'!$A304)<>0,'ED272 Students YTD by Squadron'!C304,\" \")","v":"Redwood Power Squadron   "},{"$f":"IF(('ED272 Students YTD by Squadron'!$A304)<>0,'ED272 Students YTD by Squadron'!D304,\" \")","v":0},{"$f":"IF(('ED272 Students YTD by Squadron'!$A304)<>0,'ED272 Students YTD by Squadron'!E304,\" \")","v":0},{"$f":"IF(('ED272 Students YTD by Squadron'!$A304)<>0,'ED272 Students YTD by Squadron'!F304,\" \")","v":0},{"$f":"IF(('ED272 Students YTD by Squadron'!$A304)<>0,'ED272 Students YTD by Squadron'!G304,\" \")","v":0},{"$f":"IF(('ED272 Students YTD by Squadron'!$A304)<>0,'ED272 Students YTD by Squadron'!H304,\" \")","v":0},{"$f":"IF(('ED272 Students YTD by Squadron'!$A304)<>0,'ED272 Students YTD by Squadron'!I304,\" \")","v":0},{"$f":"IF(('ED272 Students YTD by Squadron'!$A304)<>0,'ED272A Classes YTD by Squadron'!D304,\" \")","v":0},{"$f":"IF(('ED272 Students YTD by Squadron'!$A304)<>0,'ED272A Classes YTD by Squadron'!E304,\" \")","v":0}]
[{"$f":"IF(('ED272 Students YTD by Squadron'!$A305)<>0,'ED272 Students YTD by Squadron'!A305,\" \")","v":25},{"$f":"IF(('ED272 Students YTD by Squadron'!$A305)<>0,'ED272 Students YTD by Squadron'!B305,\" \")","v":4890},{"$f":"IF(('ED272 Students YTD by Squadron'!$A305)<>0,'ED272 Students YTD by Squadron'!C305,\" \")","v":"Sacramento Power Squadron"},{"$f":"IF(('ED272 Students YTD by Squadron'!$A305)<>0,'ED272 Students YTD by Squadron'!D305,\" \")","v":11},{"$f":"IF(('ED272 Students YTD by Squadron'!$A305)<>0,'ED272 Students YTD by Squadron'!E305,\" \")","v":1},{"$f":"IF(('ED272 Students YTD by Squadron'!$A305)<>0,'ED272 Students YTD by Squadron'!F305,\" \")","v":10},{"$f":"IF(('ED272 Students YTD by Squadron'!$A305)<>0,'ED272 Students YTD by Squadron'!G305,\" \")","v":1},{"$f":"IF(('ED272 Students YTD by Squadron'!$A305)<>0,'ED272 Students YTD by Squadron'!H305,\" \")","v":7},{"$f":"IF(('ED272 Students YTD by Squadron'!$A305)<>0,'ED272 Students YTD by Squadron'!I305,\" \")","v":1},{"$f":"IF(('ED272 Students YTD by Squadron'!$A305)<>0,'ED272A Classes YTD by Squadron'!D305,\" \")","v":3},{"$f":"IF(('ED272 Students YTD by Squadron'!$A305)<>0,'ED272A Classes YTD by Squadron'!E305,\" \")","v":1}]
[{"$f":"IF(('ED272 Students YTD by Squadron'!$A306)<>0,'ED272 Students YTD by Squadron'!A306,\" \")","v":25},{"$f":"IF(('ED272 Students YTD by Squadron'!$A306)<>0,'ED272 Students YTD by Squadron'!B306,\" \")","v":5190},{"$f":"IF(('ED272 Students YTD by Squadron'!$A306)<>0,'ED272 Students YTD by Squadron'!C306,\" \")","v":"San Joaquin Delta        "},{"$f":"IF(('ED272 Students YTD by Squadron'!$A306)<>0,'ED272 Students YTD by Squadron'!D306,\" \")","v":14},{"$f":"IF(('ED272 Students YTD by Squadron'!$A306)<>0,'ED272 Students YTD by Squadron'!E306,\" \")","v":21},{"$f":"IF(('ED272 Students YTD by Squadron'!$A306)<>0,'ED272 Students YTD by Squadron'!F306,\" \")","v":8},{"$f":"IF(('ED272 Students YTD by Squadron'!$A306)<>0,'ED272 Students YTD by Squadron'!G306,\" \")","v":20},{"$f":"IF(('ED272 Students YTD by Squadron'!$A306)<>0,'ED272 Students YTD by Squadron'!H306,\" \")","v":8},{"$f":"IF(('ED272 Students YTD by Squadron'!$A306)<>0,'ED272 Students YTD by Squadron'!I306,\" \")","v":20},{"$f":"IF(('ED272 Students YTD by Squadron'!$A306)<>0,'ED272A Classes YTD by Squadron'!D306,\" \")","v":2},{"$f":"IF(('ED272 Students YTD by Squadron'!$A306)<>0,'ED272A Classes YTD by Squadron'!E306,\" \")","v":3}]
[{"$f":"IF(('ED272 Students YTD by Squadron'!$A307)<>0,'ED272 Students YTD by Squadron'!A307,\" \")","v":25},{"$f":"IF(('ED272 Students YTD by Squadron'!$A307)<>0,'ED272 Students YTD by Squadron'!B307,\" \")","v":5250},{"$f":"IF(('ED272 Students YTD by Squadron'!$A307)<>0,'ED272 Students YTD by Squadron'!C307,\" \")","v":"Santa Clara Power Squad  "},{"$f":"IF(('ED272 Students YTD by Squadron'!$A307)<>0,'ED272 Students YTD by Squadron'!D307,\" \")","v":18},{"$f":"IF(('ED272 Students YTD by Squadron'!$A307)<>0,'ED272 Students YTD by Squadron'!E307,\" \")","v":28},{"$f":"IF(('ED272 Students YTD by Squadron'!$A307)<>0,'ED272 Students YTD by Squadron'!F307,\" \")","v":11},{"$f":"IF(('ED272 Students YTD by Squadron'!$A307)<>0,'ED272 Students YTD by Squadron'!G307,\" \")","v":23},{"$f":"IF(('ED272 Students YTD by Squadron'!$A307)<>0,'ED272 Students YTD by Squadron'!H307,\" \")","v":11},{"$f":"IF(('ED272 Students YTD by Squadron'!$A307)<>0,'ED272 Students YTD by Squadron'!I307,\" \")","v":23},{"$f":"IF(('ED272 Students YTD by Squadron'!$A307)<>0,'ED272A Classes YTD by Squadron'!D307,\" \")","v":3},{"$f":"IF(('ED272 Students YTD by Squadron'!$A307)<>0,'ED272A Classes YTD by Squadron'!E307,\" \")","v":4}]
[{"$f":"IF(('ED272 Students YTD by Squadron'!$A308)<>0,'ED272 Students YTD by Squadron'!A308,\" \")","v":26},{"$f":"IF(('ED272 Students YTD by Squadron'!$A308)<>0,'ED272 Students YTD by Squadron'!B308,\" \")","v":405},{"$f":"IF(('ED272 Students YTD by Squadron'!$A308)<>0,'ED272 Students YTD by Squadron'!C308,\" \")","v":"Beaufort Sail & Power Sqd"},{"$f":"IF(('ED272 Students YTD by Squadron'!$A308)<>0,'ED272 Students YTD by Squadron'!D308,\" \")","v":48},{"$f":"IF(('ED272 Students YTD by Squadron'!$A308)<>0,'ED272 Students YTD by Squadron'!E308,\" \")","v":23},{"$f":"IF(('ED272 Students YTD by Squadron'!$A308)<>0,'ED272 Students YTD by Squadron'!F308,\" \")","v":44},{"$f":"IF(('ED272 Students YTD by Squadron'!$A308)<>0,'ED272 Students YTD by Squadron'!G308,\" \")","v":21},{"$f":"IF(('ED272 Students YTD by Squadron'!$A308)<>0,'ED272 Students YTD by Squadron'!H308,\" \")","v":44},{"$f":"IF(('ED272 Students YTD by Squadron'!$A308)<>0,'ED272 Students YTD by Squadron'!I308,\" \")","v":21},{"$f":"IF(('ED272 Students YTD by Squadron'!$A308)<>0,'ED272A Classes YTD by Squadron'!D308,\" \")","v":2},{"$f":"IF(('ED272 Students YTD by Squadron'!$A308)<>0,'ED272A Classes YTD by Squadron'!E308,\" \")","v":2}]
[{"$f":"IF(('ED272 Students YTD by Squadron'!$A309)<>0,'ED272 Students YTD by Squadron'!A309,\" \")","v":26},{"$f":"IF(('ED272 Students YTD by Squadron'!$A309)<>0,'ED272 Students YTD by Squadron'!B309,\" \")","v":1020},{"$f":"IF(('ED272 Students YTD by Squadron'!$A309)<>0,'ED272 Students YTD by Squadron'!C309,\" \")","v":"Charleston Sail & Power  "},{"$f":"IF(('ED272 Students YTD by Squadron'!$A309)<>0,'ED272 Students YTD by Squadron'!D309,\" \")","v":53},{"$f":"IF(('ED272 Students YTD by Squadron'!$A309)<>0,'ED272 Students YTD by Squadron'!E309,\" \")","v":61},{"$f":"IF(('ED272 Students YTD by Squadron'!$A309)<>0,'ED272 Students YTD by Squadron'!F309,\" \")","v":45},{"$f":"IF(('ED272 Students YTD by Squadron'!$A309)<>0,'ED272 Students YTD by Squadron'!G309,\" \")","v":48},{"$f":"IF(('ED272 Students YTD by Squadron'!$A309)<>0,'ED272 Students YTD by Squadron'!H309,\" \")","v":45},{"$f":"IF(('ED272 Students YTD by Squadron'!$A309)<>0,'ED272 Students YTD by Squadron'!I309,\" \")","v":47},{"$f":"IF(('ED272 Students YTD by Squadron'!$A309)<>0,'ED272A Classes YTD by Squadron'!D309,\" \")","v":4},{"$f":"IF(('ED272 Students YTD by Squadron'!$A309)<>0,'ED272A Classes YTD by Squadron'!E309,\" \")","v":3}]
[{"$f":"IF(('ED272 Students YTD by Squadron'!$A310)<>0,'ED272 Students YTD by Squadron'!A310,\" \")","v":26},{"$f":"IF(('ED272 Students YTD by Squadron'!$A310)<>0,'ED272 Students YTD by Squadron'!B310,\" \")","v":1540},{"$f":"IF(('ED272 Students YTD by Squadron'!$A310)<>0,'ED272 Students YTD by Squadron'!C310,\" \")","v":"Dreher Shoals Provis     "},{"$f":"IF(('ED272 Students YTD by Squadron'!$A310)<>0,'ED272 Students YTD by Squadron'!D310,\" \")","v":0},{"$f":"IF(('ED272 Students YTD by Squadron'!$A310)<>0,'ED272 Students YTD by Squadron'!E310,\" \")","v":4},{"$f":"IF(('ED272 Students YTD by Squadron'!$A310)<>0,'ED272 Students YTD by Squadron'!F310,\" \")","v":0},{"$f":"IF(('ED272 Students YTD by Squadron'!$A310)<>0,'ED272 Students YTD by Squadron'!G310,\" \")","v":4},{"$f":"IF(('ED272 Students YTD by Squadron'!$A310)<>0,'ED272 Students YTD by Squadron'!H310,\" \")","v":0},{"$f":"IF(('ED272 Students YTD by Squadron'!$A310)<>0,'ED272 Students YTD by Squadron'!I310,\" \")","v":4},{"$f":"IF(('ED272 Students YTD by Squadron'!$A310)<>0,'ED272A Classes YTD by Squadron'!D310,\" \")","v":0},{"$f":"IF(('ED272 Students YTD by Squadron'!$A310)<>0,'ED272A Classes YTD by Squadron'!E310,\" \")","v":1}]
[{"$f":"IF(('ED272 Students YTD by Squadron'!$A311)<>0,'ED272 Students YTD by Squadron'!A311,\" \")","v":26},{"$f":"IF(('ED272 Students YTD by Squadron'!$A311)<>0,'ED272 Students YTD by Squadron'!B311,\" \")","v":5896},{"$f":"IF(('ED272 Students YTD by Squadron'!$A311)<>0,'ED272 Students YTD by Squadron'!C311,\" \")","v":"Golden Corner Lakes Sail "},{"$f":"IF(('ED272 Students YTD by Squadron'!$A311)<>0,'ED272 Students YTD by Squadron'!D311,\" \")","v":27},{"$f":"IF(('ED272 Students YTD by Squadron'!$A311)<>0,'ED272 Students YTD by Squadron'!E311,\" \")","v":44},{"$f":"IF(('ED272 Students YTD by Squadron'!$A311)<>0,'ED272 Students YTD by Squadron'!F311,\" \")","v":24},{"$f":"IF(('ED272 Students YTD by Squadron'!$A311)<>0,'ED272 Students YTD by Squadron'!G311,\" \")","v":34},{"$f":"IF(('ED272 Students YTD by Squadron'!$A311)<>0,'ED272 Students YTD by Squadron'!H311,\" \")","v":24},{"$f":"IF(('ED272 Students YTD by Squadron'!$A311)<>0,'ED272 Students YTD by Squadron'!I311,\" \")","v":34},{"$f":"IF(('ED272 Students YTD by Squadron'!$A311)<>0,'ED272A Classes YTD by Squadron'!D311,\" \")","v":3},{"$f":"IF(('ED272 Students YTD by Squadron'!$A311)<>0,'ED272A Classes YTD by Squadron'!E311,\" \")","v":2}]
[{"$f":"IF(('ED272 Students YTD by Squadron'!$A312)<>0,'ED272 Students YTD by Squadron'!A312,\" \")","v":26},{"$f":"IF(('ED272 Students YTD by Squadron'!$A312)<>0,'ED272 Students YTD by Squadron'!B312,\" \")","v":2000},{"$f":"IF(('ED272 Students YTD by Squadron'!$A312)<>0,'ED272 Students YTD by Squadron'!C312,\" \")","v":"Golden Isles Sail & Power"},{"$f":"IF(('ED272 Students YTD by Squadron'!$A312)<>0,'ED272 Students YTD by Squadron'!D312,\" \")","v":8},{"$f":"IF(('ED272 Students YTD by Squadron'!$A312)<>0,'ED272 Students YTD by Squadron'!E312,\" \")","v":13},{"$f":"IF(('ED272 Students YTD by Squadron'!$A312)<>0,'ED272 Students YTD by Squadron'!F312,\" \")","v":8},{"$f":"IF(('ED272 Students YTD by Squadron'!$A312)<>0,'ED272 Students YTD by Squadron'!G312,\" \")","v":13},{"$f":"IF(('ED272 Students YTD by Squadron'!$A312)<>0,'ED272 Students YTD by Squadron'!H312,\" \")","v":8},{"$f":"IF(('ED272 Students YTD by Squadron'!$A312)<>0,'ED272 Students YTD by Squadron'!I312,\" \")","v":13},{"$f":"IF(('ED272 Students YTD by Squadron'!$A312)<>0,'ED272A Classes YTD by Squadron'!D312,\" \")","v":2},{"$f":"IF(('ED272 Students YTD by Squadron'!$A312)<>0,'ED272A Classes YTD by Squadron'!E312,\" \")","v":3}]
[{"$f":"IF(('ED272 Students YTD by Squadron'!$A313)<>0,'ED272 Students YTD by Squadron'!A313,\" \")","v":26},{"$f":"IF(('ED272 Students YTD by Squadron'!$A313)<>0,'ED272 Students YTD by Squadron'!B313,\" \")","v":2270},{"$f":"IF(('ED272 Students YTD by Squadron'!$A313)<>0,'ED272 Students YTD by Squadron'!C313,\" \")","v":"Hilton Head Sail & Power "},{"$f":"IF(('ED272 Students YTD by Squadron'!$A313)<>0,'ED272 Students YTD by Squadron'!D313,\" \")","v":53},{"$f":"IF(('ED272 Students YTD by Squadron'!$A313)<>0,'ED272 Students YTD by Squadron'!E313,\" \")","v":41},{"$f":"IF(('ED272 Students YTD by Squadron'!$A313)<>0,'ED272 Students YTD by Squadron'!F313,\" \")","v":52},{"$f":"IF(('ED272 Students YTD by Squadron'!$A313)<>0,'ED272 Students YTD by Squadron'!G313,\" \")","v":39},{"$f":"IF(('ED272 Students YTD by Squadron'!$A313)<>0,'ED272 Students YTD by Squadron'!H313,\" \")","v":52},{"$f":"IF(('ED272 Students YTD by Squadron'!$A313)<>0,'ED272 Students YTD by Squadron'!I313,\" \")","v":39},{"$f":"IF(('ED272 Students YTD by Squadron'!$A313)<>0,'ED272A Classes YTD by Squadron'!D313,\" \")","v":2},{"$f":"IF(('ED272 Students YTD by Squadron'!$A313)<>0,'ED272A Classes YTD by Squadron'!E313,\" \")","v":2}]
[{"$f":"IF(('ED272 Students YTD by Squadron'!$A314)<>0,'ED272 Students YTD by Squadron'!A314,\" \")","v":26},{"$f":"IF(('ED272 Students YTD by Squadron'!$A314)<>0,'ED272 Students YTD by Squadron'!B314,\" \")","v":2100},{"$f":"IF(('ED272 Students YTD by Squadron'!$A314)<>0,'ED272 Students YTD by Squadron'!C314,\" \")","v":"Lake Hartwell Sail &     "},{"$f":"IF(('ED272 Students YTD by Squadron'!$A314)<>0,'ED272 Students YTD by Squadron'!D314,\" \")","v":25},{"$f":"IF(('ED272 Students YTD by Squadron'!$A314)<>0,'ED272 Students YTD by Squadron'!E314,\" \")","v":49},{"$f":"IF(('ED272 Students YTD by Squadron'!$A314)<>0,'ED272 Students YTD by Squadron'!F314,\" \")","v":22},{"$f":"IF(('ED272 Students YTD by Squadron'!$A314)<>0,'ED272 Students YTD by Squadron'!G314,\" \")","v":44},{"$f":"IF(('ED272 Students YTD by Squadron'!$A314)<>0,'ED272 Students YTD by Squadron'!H314,\" \")","v":20},{"$f":"IF(('ED272 Students YTD by Squadron'!$A314)<>0,'ED272 Students YTD by Squadron'!I314,\" \")","v":43},{"$f":"IF(('ED272 Students YTD by Squadron'!$A314)<>0,'ED272A Classes YTD by Squadron'!D314,\" \")","v":3},{"$f":"IF(('ED272 Students YTD by Squadron'!$A314)<>0,'ED272A Classes YTD by Squadron'!E314,\" \")","v":3}]
[{"$f":"IF(('ED272 Students YTD by Squadron'!$A315)<>0,'ED272 Students YTD by Squadron'!A315,\" \")","v":26},{"$f":"IF(('ED272 Students YTD by Squadron'!$A315)<>0,'ED272 Students YTD by Squadron'!B315,\" \")","v":2785},{"$f":"IF(('ED272 Students YTD by Squadron'!$A315)<>0,'ED272 Students YTD by Squadron'!C315,\" \")","v":"Lake Murray Power Squad  "},{"$f":"IF(('ED272 Students YTD by Squadron'!$A315)<>0,'ED272 Students YTD by Squadron'!D315,\" \")","v":38},{"$f":"IF(('ED272 Students YTD by Squadron'!$A315)<>0,'ED272 Students YTD by Squadron'!E315,\" \")","v":36},{"$f":"IF(('ED272 Students YTD by Squadron'!$A315)<>0,'ED272 Students YTD by Squadron'!F315,\" \")","v":38},{"$f":"IF(('ED272 Students YTD by Squadron'!$A315)<>0,'ED272 Students YTD by Squadron'!G315,\" \")","v":34},{"$f":"IF(('ED272 Students YTD by Squadron'!$A315)<>0,'ED272 Students YTD by Squadron'!H315,\" \")","v":38},{"$f":"IF(('ED272 Students YTD by Squadron'!$A315)<>0,'ED272 Students YTD by Squadron'!I315,\" \")","v":34},{"$f":"IF(('ED272 Students YTD by Squadron'!$A315)<>0,'ED272A Classes YTD by Squadron'!D315,\" \")","v":3},{"$f":"IF(('ED272 Students YTD by Squadron'!$A315)<>0,'ED272A Classes YTD by Squadron'!E315,\" \")","v":4}]
[{"$f":"IF(('ED272 Students YTD by Squadron'!$A316)<>0,'ED272 Students YTD by Squadron'!A316,\" \")","v":26},{"$f":"IF(('ED272 Students YTD by Squadron'!$A316)<>0,'ED272 Students YTD by Squadron'!B316,\" \")","v":2910},{"$f":"IF(('ED272 Students YTD by Squadron'!$A316)<>0,'ED272 Students YTD by Squadron'!C316,\" \")","v":"Long Bay Power Squadron  "},{"$f":"IF(('ED272 Students YTD by Squadron'!$A316)<>0,'ED272 Students YTD by Squadron'!D316,\" \")","v":14},{"$f":"IF(('ED272 Students YTD by Squadron'!$A316)<>0,'ED272 Students YTD by Squadron'!E316,\" \")","v":16},{"$f":"IF(('ED272 Students YTD by Squadron'!$A316)<>0,'ED272 Students YTD by Squadron'!F316,\" \")","v":14},{"$f":"IF(('ED272 Students YTD by Squadron'!$A316)<>0,'ED272 Students YTD by Squadron'!G316,\" \")","v":16},{"$f":"IF(('ED272 Students YTD by Squadron'!$A316)<>0,'ED272 Students YTD by Squadron'!H316,\" \")","v":14},{"$f":"IF(('ED272 Students YTD by Squadron'!$A316)<>0,'ED272 Students YTD by Squadron'!I316,\" \")","v":16},{"$f":"IF(('ED272 Students YTD by Squadron'!$A316)<>0,'ED272A Classes YTD by Squadron'!D316,\" \")","v":1},{"$f":"IF(('ED272 Students YTD by Squadron'!$A316)<>0,'ED272A Classes YTD by Squadron'!E316,\" \")","v":1}]
[{"$f":"IF(('ED272 Students YTD by Squadron'!$A317)<>0,'ED272 Students YTD by Squadron'!A317,\" \")","v":26},{"$f":"IF(('ED272 Students YTD by Squadron'!$A317)<>0,'ED272 Students YTD by Squadron'!B317,\" \")","v":3890},{"$f":"IF(('ED272 Students YTD by Squadron'!$A317)<>0,'ED272 Students YTD by Squadron'!C317,\" \")","v":"North Strand Sail & Power"},{"$f":"IF(('ED272 Students YTD by Squadron'!$A317)<>0,'ED272 Students YTD by Squadron'!D317,\" \")","v":47},{"$f":"IF(('ED272 Students YTD by Squadron'!$A317)<>0,'ED272 Students YTD by Squadron'!E317,\" \")","v":29},{"$f":"IF(('ED272 Students YTD by Squadron'!$A317)<>0,'ED272 Students YTD by Squadron'!F317,\" \")","v":36},{"$f":"IF(('ED272 Students YTD by Squadron'!$A317)<>0,'ED272 Students YTD by Squadron'!G317,\" \")","v":29},{"$f":"IF(('ED272 Students YTD by Squadron'!$A317)<>0,'ED272 Students YTD by Squadron'!H317,\" \")","v":36},{"$f":"IF(('ED272 Students YTD by Squadron'!$A317)<>0,'ED272 Students YTD by Squadron'!I317,\" \")","v":29},{"$f":"IF(('ED272 Students YTD by Squadron'!$A317)<>0,'ED272A Classes YTD by Squadron'!D317,\" \")","v":2},{"$f":"IF(('ED272 Students YTD by Squadron'!$A317)<>0,'ED272A Classes YTD by Squadron'!E317,\" \")","v":1}]
[{"$f":"IF(('ED272 Students YTD by Squadron'!$A318)<>0,'ED272 Students YTD by Squadron'!A318,\" \")","v":26},{"$f":"IF(('ED272 Students YTD by Squadron'!$A318)<>0,'ED272 Students YTD by Squadron'!B318,\" \")","v":5325},{"$f":"IF(('ED272 Students YTD by Squadron'!$A318)<>0,'ED272 Students YTD by Squadron'!C318,\" \")","v":"Savannah River Sail &    "},{"$f":"IF(('ED272 Students YTD by Squadron'!$A318)<>0,'ED272 Students YTD by Squadron'!D318,\" \")","v":0},{"$f":"IF(('ED272 Students YTD by Squadron'!$A318)<>0,'ED272 Students YTD by Squadron'!E318,\" \")","v":5},{"$f":"IF(('ED272 Students YTD by Squadron'!$A318)<>0,'ED272 Students YTD by Squadron'!F318,\" \")","v":0},{"$f":"IF(('ED272 Students YTD by Squadron'!$A318)<>0,'ED272 Students YTD by Squadron'!G318,\" \")","v":5},{"$f":"IF(('ED272 Students YTD by Squadron'!$A318)<>0,'ED272 Students YTD by Squadron'!H318,\" \")","v":0},{"$f":"IF(('ED272 Students YTD by Squadron'!$A318)<>0,'ED272 Students YTD by Squadron'!I318,\" \")","v":5},{"$f":"IF(('ED272 Students YTD by Squadron'!$A318)<>0,'ED272A Classes YTD by Squadron'!D318,\" \")","v":0},{"$f":"IF(('ED272 Students YTD by Squadron'!$A318)<>0,'ED272A Classes YTD by Squadron'!E318,\" \")","v":1}]
[{"$f":"IF(('ED272 Students YTD by Squadron'!$A319)<>0,'ED272 Students YTD by Squadron'!A319,\" \")","v":26},{"$f":"IF(('ED272 Students YTD by Squadron'!$A319)<>0,'ED272 Students YTD by Squadron'!B319,\" \")","v":5765},{"$f":"IF(('ED272 Students YTD by Squadron'!$A319)<>0,'ED272 Students YTD by Squadron'!C319,\" \")","v":"Swamp Fox Power Squadron "},{"$f":"IF(('ED272 Students YTD by Squadron'!$A319)<>0,'ED272 Students YTD by Squadron'!D319,\" \")","v":0},{"$f":"IF(('ED272 Students YTD by Squadron'!$A319)<>0,'ED272 Students YTD by Squadron'!E319,\" \")","v":0},{"$f":"IF(('ED272 Students YTD by Squadron'!$A319)<>0,'ED272 Students YTD by Squadron'!F319,\" \")","v":0},{"$f":"IF(('ED272 Students YTD by Squadron'!$A319)<>0,'ED272 Students YTD by Squadron'!G319,\" \")","v":0},{"$f":"IF(('ED272 Students YTD by Squadron'!$A319)<>0,'ED272 Students YTD by Squadron'!H319,\" \")","v":0},{"$f":"IF(('ED272 Students YTD by Squadron'!$A319)<>0,'ED272 Students YTD by Squadron'!I319,\" \")","v":0},{"$f":"IF(('ED272 Students YTD by Squadron'!$A319)<>0,'ED272A Classes YTD by Squadron'!D319,\" \")","v":0},{"$f":"IF(('ED272 Students YTD by Squadron'!$A319)<>0,'ED272A Classes YTD by Squadron'!E319,\" \")","v":0}]
[{"$f":"IF(('ED272 Students YTD by Squadron'!$A320)<>0,'ED272 Students YTD by Squadron'!A320,\" \")","v":26},{"$f":"IF(('ED272 Students YTD by Squadron'!$A320)<>0,'ED272 Students YTD by Squadron'!B320,\" \")","v":5897},{"$f":"IF(('ED272 Students YTD by Squadron'!$A320)<>0,'ED272 Students YTD by Squadron'!C320,\" \")","v":"Thurmond Lake Sail &     "},{"$f":"IF(('ED272 Students YTD by Squadron'!$A320)<>0,'ED272 Students YTD by Squadron'!D320,\" \")","v":13},{"$f":"IF(('ED272 Students YTD by Squadron'!$A320)<>0,'ED272 Students YTD by Squadron'!E320,\" \")","v":19},{"$f":"IF(('ED272 Students YTD by Squadron'!$A320)<>0,'ED272 Students YTD by Squadron'!F320,\" \")","v":11},{"$f":"IF(('ED272 Students YTD by Squadron'!$A320)<>0,'ED272 Students YTD by Squadron'!G320,\" \")","v":19},{"$f":"IF(('ED272 Students YTD by Squadron'!$A320)<>0,'ED272 Students YTD by Squadron'!H320,\" \")","v":11},{"$f":"IF(('ED272 Students YTD by Squadron'!$A320)<>0,'ED272 Students YTD by Squadron'!I320,\" \")","v":19},{"$f":"IF(('ED272 Students YTD by Squadron'!$A320)<>0,'ED272A Classes YTD by Squadron'!D320,\" \")","v":1},{"$f":"IF(('ED272 Students YTD by Squadron'!$A320)<>0,'ED272A Classes YTD by Squadron'!E320,\" \")","v":2}]
[{"$f":"IF(('ED272 Students YTD by Squadron'!$A321)<>0,'ED272 Students YTD by Squadron'!A321,\" \")","v":26},{"$f":"IF(('ED272 Students YTD by Squadron'!$A321)<>0,'ED272 Students YTD by Squadron'!B321,\" \")","v":5970},{"$f":"IF(('ED272 Students YTD by Squadron'!$A321)<>0,'ED272 Students YTD by Squadron'!C321,\" \")","v":"Tybee Light Sail & Power "},{"$f":"IF(('ED272 Students YTD by Squadron'!$A321)<>0,'ED272 Students YTD by Squadron'!D321,\" \")","v":36},{"$f":"IF(('ED272 Students YTD by Squadron'!$A321)<>0,'ED272 Students YTD by Squadron'!E321,\" \")","v":31},{"$f":"IF(('ED272 Students YTD by Squadron'!$A321)<>0,'ED272 Students YTD by Squadron'!F321,\" \")","v":35},{"$f":"IF(('ED272 Students YTD by Squadron'!$A321)<>0,'ED272 Students YTD by Squadron'!G321,\" \")","v":30},{"$f":"IF(('ED272 Students YTD by Squadron'!$A321)<>0,'ED272 Students YTD by Squadron'!H321,\" \")","v":35},{"$f":"IF(('ED272 Students YTD by Squadron'!$A321)<>0,'ED272 Students YTD by Squadron'!I321,\" \")","v":30},{"$f":"IF(('ED272 Students YTD by Squadron'!$A321)<>0,'ED272A Classes YTD by Squadron'!D321,\" \")","v":3},{"$f":"IF(('ED272 Students YTD by Squadron'!$A321)<>0,'ED272A Classes YTD by Squadron'!E321,\" \")","v":4}]
[{"$f":"IF(('ED272 Students YTD by Squadron'!$A322)<>0,'ED272 Students YTD by Squadron'!A322,\" \")","v":27},{"$f":"IF(('ED272 Students YTD by Squadron'!$A322)<>0,'ED272 Students YTD by Squadron'!B322,\" \")","v":80},{"$f":"IF(('ED272 Students YTD by Squadron'!$A322)<>0,'ED272 Students YTD by Squadron'!C322,\" \")","v":"Albemarle Sail & Power Sq"},{"$f":"IF(('ED272 Students YTD by Squadron'!$A322)<>0,'ED272 Students YTD by Squadron'!D322,\" \")","v":0},{"$f":"IF(('ED272 Students YTD by Squadron'!$A322)<>0,'ED272 Students YTD by Squadron'!E322,\" \")","v":7},{"$f":"IF(('ED272 Students YTD by Squadron'!$A322)<>0,'ED272 Students YTD by Squadron'!F322,\" \")","v":0},{"$f":"IF(('ED272 Students YTD by Squadron'!$A322)<>0,'ED272 Students YTD by Squadron'!G322,\" \")","v":6},{"$f":"IF(('ED272 Students YTD by Squadron'!$A322)<>0,'ED272 Students YTD by Squadron'!H322,\" \")","v":0},{"$f":"IF(('ED272 Students YTD by Squadron'!$A322)<>0,'ED272 Students YTD by Squadron'!I322,\" \")","v":6},{"$f":"IF(('ED272 Students YTD by Squadron'!$A322)<>0,'ED272A Classes YTD by Squadron'!D322,\" \")","v":0},{"$f":"IF(('ED272 Students YTD by Squadron'!$A322)<>0,'ED272A Classes YTD by Squadron'!E322,\" \")","v":2}]
[{"$f":"IF(('ED272 Students YTD by Squadron'!$A323)<>0,'ED272 Students YTD by Squadron'!A323,\" \")","v":27},{"$f":"IF(('ED272 Students YTD by Squadron'!$A323)<>0,'ED272 Students YTD by Squadron'!B323,\" \")","v":855},{"$f":"IF(('ED272 Students YTD by Squadron'!$A323)<>0,'ED272 Students YTD by Squadron'!C323,\" \")","v":"Cape Fear Sail & Power Sq"},{"$f":"IF(('ED272 Students YTD by Squadron'!$A323)<>0,'ED272 Students YTD by Squadron'!D323,\" \")","v":172},{"$f":"IF(('ED272 Students YTD by Squadron'!$A323)<>0,'ED272 Students YTD by Squadron'!E323,\" \")","v":107},{"$f":"IF(('ED272 Students YTD by Squadron'!$A323)<>0,'ED272 Students YTD by Squadron'!F323,\" \")","v":121},{"$f":"IF(('ED272 Students YTD by Squadron'!$A323)<>0,'ED272 Students YTD by Squadron'!G323,\" \")","v":97},{"$f":"IF(('ED272 Students YTD by Squadron'!$A323)<>0,'ED272 Students YTD by Squadron'!H323,\" \")","v":121},{"$f":"IF(('ED272 Students YTD by Squadron'!$A323)<>0,'ED272 Students YTD by Squadron'!I323,\" \")","v":97},{"$f":"IF(('ED272 Students YTD by Squadron'!$A323)<>0,'ED272A Classes YTD by Squadron'!D323,\" \")","v":3},{"$f":"IF(('ED272 Students YTD by Squadron'!$A323)<>0,'ED272A Classes YTD by Squadron'!E323,\" \")","v":3}]
[{"$f":"IF(('ED272 Students YTD by Squadron'!$A324)<>0,'ED272 Students YTD by Squadron'!A324,\" \")","v":27},{"$f":"IF(('ED272 Students YTD by Squadron'!$A324)<>0,'ED272 Students YTD by Squadron'!B324,\" \")","v":870},{"$f":"IF(('ED272 Students YTD by Squadron'!$A324)<>0,'ED272 Students YTD by Squadron'!C324,\" \")","v":"Cape Lookout Sail & Power"},{"$f":"IF(('ED272 Students YTD by Squadron'!$A324)<>0,'ED272 Students YTD by Squadron'!D324,\" \")","v":8},{"$f":"IF(('ED272 Students YTD by Squadron'!$A324)<>0,'ED272 Students YTD by Squadron'!E324,\" \")","v":16},{"$f":"IF(('ED272 Students YTD by Squadron'!$A324)<>0,'ED272 Students YTD by Squadron'!F324,\" \")","v":8},{"$f":"IF(('ED272 Students YTD by Squadron'!$A324)<>0,'ED272 Students YTD by Squadron'!G324,\" \")","v":14},{"$f":"IF(('ED272 Students YTD by Squadron'!$A324)<>0,'ED272 Students YTD by Squadron'!H324,\" \")","v":8},{"$f":"IF(('ED272 Students YTD by Squadron'!$A324)<>0,'ED272 Students YTD by Squadron'!I324,\" \")","v":14},{"$f":"IF(('ED272 Students YTD by Squadron'!$A324)<>0,'ED272A Classes YTD by Squadron'!D324,\" \")","v":1},{"$f":"IF(('ED272 Students YTD by Squadron'!$A324)<>0,'ED272A Classes YTD by Squadron'!E324,\" \")","v":2}]
[{"$f":"IF(('ED272 Students YTD by Squadron'!$A325)<>0,'ED272 Students YTD by Squadron'!A325,\" \")","v":27},{"$f":"IF(('ED272 Students YTD by Squadron'!$A325)<>0,'ED272 Students YTD by Squadron'!B325,\" \")","v":930},{"$f":"IF(('ED272 Students YTD by Squadron'!$A325)<>0,'ED272 Students YTD by Squadron'!C325,\" \")","v":"Catawba Power Squadron   "},{"$f":"IF(('ED272 Students YTD by Squadron'!$A325)<>0,'ED272 Students YTD by Squadron'!D325,\" \")","v":31},{"$f":"IF(('ED272 Students YTD by Squadron'!$A325)<>0,'ED272 Students YTD by Squadron'!E325,\" \")","v":18},{"$f":"IF(('ED272 Students YTD by Squadron'!$A325)<>0,'ED272 Students YTD by Squadron'!F325,\" \")","v":27},{"$f":"IF(('ED272 Students YTD by Squadron'!$A325)<>0,'ED272 Students YTD by Squadron'!G325,\" \")","v":18},{"$f":"IF(('ED272 Students YTD by Squadron'!$A325)<>0,'ED272 Students YTD by Squadron'!H325,\" \")","v":27},{"$f":"IF(('ED272 Students YTD by Squadron'!$A325)<>0,'ED272 Students YTD by Squadron'!I325,\" \")","v":18},{"$f":"IF(('ED272 Students YTD by Squadron'!$A325)<>0,'ED272A Classes YTD by Squadron'!D325,\" \")","v":3},{"$f":"IF(('ED272 Students YTD by Squadron'!$A325)<>0,'ED272A Classes YTD by Squadron'!E325,\" \")","v":3}]
[{"$f":"IF(('ED272 Students YTD by Squadron'!$A326)<>0,'ED272 Students YTD by Squadron'!A326,\" \")","v":27},{"$f":"IF(('ED272 Students YTD by Squadron'!$A326)<>0,'ED272 Students YTD by Squadron'!B326,\" \")","v":1035},{"$f":"IF(('ED272 Students YTD by Squadron'!$A326)<>0,'ED272 Students YTD by Squadron'!C326,\" \")","v":"Charlotte Power Squadron "},{"$f":"IF(('ED272 Students YTD by Squadron'!$A326)<>0,'ED272 Students YTD by Squadron'!D326,\" \")","v":14},{"$f":"IF(('ED272 Students YTD by Squadron'!$A326)<>0,'ED272 Students YTD by Squadron'!E326,\" \")","v":31},{"$f":"IF(('ED272 Students YTD by Squadron'!$A326)<>0,'ED272 Students YTD by Squadron'!F326,\" \")","v":13},{"$f":"IF(('ED272 Students YTD by Squadron'!$A326)<>0,'ED272 Students YTD by Squadron'!G326,\" \")","v":31},{"$f":"IF(('ED272 Students YTD by Squadron'!$A326)<>0,'ED272 Students YTD by Squadron'!H326,\" \")","v":13},{"$f":"IF(('ED272 Students YTD by Squadron'!$A326)<>0,'ED272 Students YTD by Squadron'!I326,\" \")","v":31},{"$f":"IF(('ED272 Students YTD by Squadron'!$A326)<>0,'ED272A Classes YTD by Squadron'!D326,\" \")","v":3},{"$f":"IF(('ED272 Students YTD by Squadron'!$A326)<>0,'ED272A Classes YTD by Squadron'!E326,\" \")","v":4}]
[{"$f":"IF(('ED272 Students YTD by Squadron'!$A327)<>0,'ED272 Students YTD by Squadron'!A327,\" \")","v":27},{"$f":"IF(('ED272 Students YTD by Squadron'!$A327)<>0,'ED272 Students YTD by Squadron'!B327,\" \")","v":1590},{"$f":"IF(('ED272 Students YTD by Squadron'!$A327)<>0,'ED272 Students YTD by Squadron'!C327,\" \")","v":"Durham Sail & Power Squad"},{"$f":"IF(('ED272 Students YTD by Squadron'!$A327)<>0,'ED272 Students YTD by Squadron'!D327,\" \")","v":8},{"$f":"IF(('ED272 Students YTD by Squadron'!$A327)<>0,'ED272 Students YTD by Squadron'!E327,\" \")","v":8},{"$f":"IF(('ED272 Students YTD by Squadron'!$A327)<>0,'ED272 Students YTD by Squadron'!F327,\" \")","v":7},{"$f":"IF(('ED272 Students YTD by Squadron'!$A327)<>0,'ED272 Students YTD by Squadron'!G327,\" \")","v":8},{"$f":"IF(('ED272 Students YTD by Squadron'!$A327)<>0,'ED272 Students YTD by Squadron'!H327,\" \")","v":7},{"$f":"IF(('ED272 Students YTD by Squadron'!$A327)<>0,'ED272 Students YTD by Squadron'!I327,\" \")","v":8},{"$f":"IF(('ED272 Students YTD by Squadron'!$A327)<>0,'ED272A Classes YTD by Squadron'!D327,\" \")","v":2},{"$f":"IF(('ED272 Students YTD by Squadron'!$A327)<>0,'ED272A Classes YTD by Squadron'!E327,\" \")","v":2}]
[{"$f":"IF(('ED272 Students YTD by Squadron'!$A328)<>0,'ED272 Students YTD by Squadron'!A328,\" \")","v":27},{"$f":"IF(('ED272 Students YTD by Squadron'!$A328)<>0,'ED272 Students YTD by Squadron'!B328,\" \")","v":1740},{"$f":"IF(('ED272 Students YTD by Squadron'!$A328)<>0,'ED272 Students YTD by Squadron'!C328,\" \")","v":"Fayetteville Sail & Power"},{"$f":"IF(('ED272 Students YTD by Squadron'!$A328)<>0,'ED272 Students YTD by Squadron'!D328,\" \")","v":0},{"$f":"IF(('ED272 Students YTD by Squadron'!$A328)<>0,'ED272 Students YTD by Squadron'!E328,\" \")","v":7},{"$f":"IF(('ED272 Students YTD by Squadron'!$A328)<>0,'ED272 Students YTD by Squadron'!F328,\" \")","v":0},{"$f":"IF(('ED272 Students YTD by Squadron'!$A328)<>0,'ED272 Students YTD by Squadron'!G328,\" \")","v":6},{"$f":"IF(('ED272 Students YTD by Squadron'!$A328)<>0,'ED272 Students YTD by Squadron'!H328,\" \")","v":0},{"$f":"IF(('ED272 Students YTD by Squadron'!$A328)<>0,'ED272 Students YTD by Squadron'!I328,\" \")","v":6},{"$f":"IF(('ED272 Students YTD by Squadron'!$A328)<>0,'ED272A Classes YTD by Squadron'!D328,\" \")","v":2},{"$f":"IF(('ED272 Students YTD by Squadron'!$A328)<>0,'ED272A Classes YTD by Squadron'!E328,\" \")","v":1}]
[{"$f":"IF(('ED272 Students YTD by Squadron'!$A329)<>0,'ED272 Students YTD by Squadron'!A329,\" \")","v":27},{"$f":"IF(('ED272 Students YTD by Squadron'!$A329)<>0,'ED272 Students YTD by Squadron'!B329,\" \")","v":1810},{"$f":"IF(('ED272 Students YTD by Squadron'!$A329)<>0,'ED272 Students YTD by Squadron'!C329,\" \")","v":"Fort Macon Sail & Power  "},{"$f":"IF(('ED272 Students YTD by Squadron'!$A329)<>0,'ED272 Students YTD by Squadron'!D329,\" \")","v":33},{"$f":"IF(('ED272 Students YTD by Squadron'!$A329)<>0,'ED272 Students YTD by Squadron'!E329,\" \")","v":14},{"$f":"IF(('ED272 Students YTD by Squadron'!$A329)<>0,'ED272 Students YTD by Squadron'!F329,\" \")","v":25},{"$f":"IF(('ED272 Students YTD by Squadron'!$A329)<>0,'ED272 Students YTD by Squadron'!G329,\" \")","v":8},{"$f":"IF(('ED272 Students YTD by Squadron'!$A329)<>0,'ED272 Students YTD by Squadron'!H329,\" \")","v":25},{"$f":"IF(('ED272 Students YTD by Squadron'!$A329)<>0,'ED272 Students YTD by Squadron'!I329,\" \")","v":6},{"$f":"IF(('ED272 Students YTD by Squadron'!$A329)<>0,'ED272A Classes YTD by Squadron'!D329,\" \")","v":5},{"$f":"IF(('ED272 Students YTD by Squadron'!$A329)<>0,'ED272A Classes YTD by Squadron'!E329,\" \")","v":3}]
[{"$f":"IF(('ED272 Students YTD by Squadron'!$A330)<>0,'ED272 Students YTD by Squadron'!A330,\" \")","v":27},{"$f":"IF(('ED272 Students YTD by Squadron'!$A330)<>0,'ED272 Students YTD by Squadron'!B330,\" \")","v":2005},{"$f":"IF(('ED272 Students YTD by Squadron'!$A330)<>0,'ED272 Students YTD by Squadron'!C330,\" \")","v":"Goldsboro Sail & Power Sq"},{"$f":"IF(('ED272 Students YTD by Squadron'!$A330)<>0,'ED272 Students YTD by Squadron'!D330,\" \")","v":9},{"$f":"IF(('ED272 Students YTD by Squadron'!$A330)<>0,'ED272 Students YTD by Squadron'!E330,\" \")","v":6},{"$f":"IF(('ED272 Students YTD by Squadron'!$A330)<>0,'ED272 Students YTD by Squadron'!F330,\" \")","v":6},{"$f":"IF(('ED272 Students YTD by Squadron'!$A330)<>0,'ED272 Students YTD by Squadron'!G330,\" \")","v":6},{"$f":"IF(('ED272 Students YTD by Squadron'!$A330)<>0,'ED272 Students YTD by Squadron'!H330,\" \")","v":6},{"$f":"IF(('ED272 Students YTD by Squadron'!$A330)<>0,'ED272 Students YTD by Squadron'!I330,\" \")","v":6},{"$f":"IF(('ED272 Students YTD by Squadron'!$A330)<>0,'ED272A Classes YTD by Squadron'!D330,\" \")","v":2},{"$f":"IF(('ED272 Students YTD by Squadron'!$A330)<>0,'ED272A Classes YTD by Squadron'!E330,\" \")","v":1}]
[{"$f":"IF(('ED272 Students YTD by Squadron'!$A331)<>0,'ED272 Students YTD by Squadron'!A331,\" \")","v":27},{"$f":"IF(('ED272 Students YTD by Squadron'!$A331)<>0,'ED272 Students YTD by Squadron'!B331,\" \")","v":2090},{"$f":"IF(('ED272 Students YTD by Squadron'!$A331)<>0,'ED272 Students YTD by Squadron'!C331,\" \")","v":"Greensboro Power Squadron"},{"$f":"IF(('ED272 Students YTD by Squadron'!$A331)<>0,'ED272 Students YTD by Squadron'!D331,\" \")","v":41},{"$f":"IF(('ED272 Students YTD by Squadron'!$A331)<>0,'ED272 Students YTD by Squadron'!E331,\" \")","v":7},{"$f":"IF(('ED272 Students YTD by Squadron'!$A331)<>0,'ED272 Students YTD by Squadron'!F331,\" \")","v":32},{"$f":"IF(('ED272 Students YTD by Squadron'!$A331)<>0,'ED272 Students YTD by Squadron'!G331,\" \")","v":7},{"$f":"IF(('ED272 Students YTD by Squadron'!$A331)<>0,'ED272 Students YTD by Squadron'!H331,\" \")","v":32},{"$f":"IF(('ED272 Students YTD by Squadron'!$A331)<>0,'ED272 Students YTD by Squadron'!I331,\" \")","v":7},{"$f":"IF(('ED272 Students YTD by Squadron'!$A331)<>0,'ED272A Classes YTD by Squadron'!D331,\" \")","v":2},{"$f":"IF(('ED272 Students YTD by Squadron'!$A331)<>0,'ED272A Classes YTD by Squadron'!E331,\" \")","v":1}]
[{"$f":"IF(('ED272 Students YTD by Squadron'!$A332)<>0,'ED272 Students YTD by Squadron'!A332,\" \")","v":27},{"$f":"IF(('ED272 Students YTD by Squadron'!$A332)<>0,'ED272 Students YTD by Squadron'!B332,\" \")","v":2655},{"$f":"IF(('ED272 Students YTD by Squadron'!$A332)<>0,'ED272 Students YTD by Squadron'!C332,\" \")","v":"Kinston Power Squadron   "},{"$f":"IF(('ED272 Students YTD by Squadron'!$A332)<>0,'ED272 Students YTD by Squadron'!D332,\" \")","v":1},{"$f":"IF(('ED272 Students YTD by Squadron'!$A332)<>0,'ED272 Students YTD by Squadron'!E332,\" \")","v":2},{"$f":"IF(('ED272 Students YTD by Squadron'!$A332)<>0,'ED272 Students YTD by Squadron'!F332,\" \")","v":0},{"$f":"IF(('ED272 Students YTD by Squadron'!$A332)<>0,'ED272 Students YTD by Squadron'!G332,\" \")","v":2},{"$f":"IF(('ED272 Students YTD by Squadron'!$A332)<>0,'ED272 Students YTD by Squadron'!H332,\" \")","v":0},{"$f":"IF(('ED272 Students YTD by Squadron'!$A332)<>0,'ED272 Students YTD by Squadron'!I332,\" \")","v":2},{"$f":"IF(('ED272 Students YTD by Squadron'!$A332)<>0,'ED272A Classes YTD by Squadron'!D332,\" \")","v":1},{"$f":"IF(('ED272 Students YTD by Squadron'!$A332)<>0,'ED272A Classes YTD by Squadron'!E332,\" \")","v":2}]
[{"$f":"IF(('ED272 Students YTD by Squadron'!$A333)<>0,'ED272 Students YTD by Squadron'!A333,\" \")","v":27},{"$f":"IF(('ED272 Students YTD by Squadron'!$A333)<>0,'ED272 Students YTD by Squadron'!B333,\" \")","v":2791},{"$f":"IF(('ED272 Students YTD by Squadron'!$A333)<>0,'ED272 Students YTD by Squadron'!C333,\" \")","v":"Lake Norman Sail & Power "},{"$f":"IF(('ED272 Students YTD by Squadron'!$A333)<>0,'ED272 Students YTD by Squadron'!D333,\" \")","v":152},{"$f":"IF(('ED272 Students YTD by Squadron'!$A333)<>0,'ED272 Students YTD by Squadron'!E333,\" \")","v":132},{"$f":"IF(('ED272 Students YTD by Squadron'!$A333)<>0,'ED272 Students YTD by Squadron'!F333,\" \")","v":150},{"$f":"IF(('ED272 Students YTD by Squadron'!$A333)<>0,'ED272 Students YTD by Squadron'!G333,\" \")","v":129},{"$f":"IF(('ED272 Students YTD by Squadron'!$A333)<>0,'ED272 Students YTD by Squadron'!H333,\" \")","v":147},{"$f":"IF(('ED272 Students YTD by Squadron'!$A333)<>0,'ED272 Students YTD by Squadron'!I333,\" \")","v":129},{"$f":"IF(('ED272 Students YTD by Squadron'!$A333)<>0,'ED272A Classes YTD by Squadron'!D333,\" \")","v":4},{"$f":"IF(('ED272 Students YTD by Squadron'!$A333)<>0,'ED272A Classes YTD by Squadron'!E333,\" \")","v":3}]
[{"$f":"IF(('ED272 Students YTD by Squadron'!$A334)<>0,'ED272 Students YTD by Squadron'!A334,\" \")","v":27},{"$f":"IF(('ED272 Students YTD by Squadron'!$A334)<>0,'ED272 Students YTD by Squadron'!B334,\" \")","v":3765},{"$f":"IF(('ED272 Students YTD by Squadron'!$A334)<>0,'ED272 Students YTD by Squadron'!C334,\" \")","v":"New River Sail & Power Sq"},{"$f":"IF(('ED272 Students YTD by Squadron'!$A334)<>0,'ED272 Students YTD by Squadron'!D334,\" \")","v":27},{"$f":"IF(('ED272 Students YTD by Squadron'!$A334)<>0,'ED272 Students YTD by Squadron'!E334,\" \")","v":28},{"$f":"IF(('ED272 Students YTD by Squadron'!$A334)<>0,'ED272 Students YTD by Squadron'!F334,\" \")","v":27},{"$f":"IF(('ED272 Students YTD by Squadron'!$A334)<>0,'ED272 Students YTD by Squadron'!G334,\" \")","v":28},{"$f":"IF(('ED272 Students YTD by Squadron'!$A334)<>0,'ED272 Students YTD by Squadron'!H334,\" \")","v":27},{"$f":"IF(('ED272 Students YTD by Squadron'!$A334)<>0,'ED272 Students YTD by Squadron'!I334,\" \")","v":28},{"$f":"IF(('ED272 Students YTD by Squadron'!$A334)<>0,'ED272A Classes YTD by Squadron'!D334,\" \")","v":4},{"$f":"IF(('ED272 Students YTD by Squadron'!$A334)<>0,'ED272A Classes YTD by Squadron'!E334,\" \")","v":5}]
[{"$f":"IF(('ED272 Students YTD by Squadron'!$A335)<>0,'ED272 Students YTD by Squadron'!A335,\" \")","v":27},{"$f":"IF(('ED272 Students YTD by Squadron'!$A335)<>0,'ED272 Students YTD by Squadron'!B335,\" \")","v":4175},{"$f":"IF(('ED272 Students YTD by Squadron'!$A335)<>0,'ED272 Students YTD by Squadron'!C335,\" \")","v":"Pamlico Sail & Power Sqd "},{"$f":"IF(('ED272 Students YTD by Squadron'!$A335)<>0,'ED272 Students YTD by Squadron'!D335,\" \")","v":18},{"$f":"IF(('ED272 Students YTD by Squadron'!$A335)<>0,'ED272 Students YTD by Squadron'!E335,\" \")","v":18},{"$f":"IF(('ED272 Students YTD by Squadron'!$A335)<>0,'ED272 Students YTD by Squadron'!F335,\" \")","v":15},{"$f":"IF(('ED272 Students YTD by Squadron'!$A335)<>0,'ED272 Students YTD by Squadron'!G335,\" \")","v":15},{"$f":"IF(('ED272 Students YTD by Squadron'!$A335)<>0,'ED272 Students YTD by Squadron'!H335,\" \")","v":15},{"$f":"IF(('ED272 Students YTD by Squadron'!$A335)<>0,'ED272 Students YTD by Squadron'!I335,\" \")","v":15},{"$f":"IF(('ED272 Students YTD by Squadron'!$A335)<>0,'ED272A Classes YTD by Squadron'!D335,\" \")","v":4},{"$f":"IF(('ED272 Students YTD by Squadron'!$A335)<>0,'ED272A Classes YTD by Squadron'!E335,\" \")","v":4}]
[{"$f":"IF(('ED272 Students YTD by Squadron'!$A336)<>0,'ED272 Students YTD by Squadron'!A336,\" \")","v":27},{"$f":"IF(('ED272 Students YTD by Squadron'!$A336)<>0,'ED272 Students YTD by Squadron'!B336,\" \")","v":4665},{"$f":"IF(('ED272 Students YTD by Squadron'!$A336)<>0,'ED272 Students YTD by Squadron'!C336,\" \")","v":"Raleigh Sail & Power Sqd "},{"$f":"IF(('ED272 Students YTD by Squadron'!$A336)<>0,'ED272 Students YTD by Squadron'!D336,\" \")","v":13},{"$f":"IF(('ED272 Students YTD by Squadron'!$A336)<>0,'ED272 Students YTD by Squadron'!E336,\" \")","v":37},{"$f":"IF(('ED272 Students YTD by Squadron'!$A336)<>0,'ED272 Students YTD by Squadron'!F336,\" \")","v":13},{"$f":"IF(('ED272 Students YTD by Squadron'!$A336)<>0,'ED272 Students YTD by Squadron'!G336,\" \")","v":35},{"$f":"IF(('ED272 Students YTD by Squadron'!$A336)<>0,'ED272 Students YTD by Squadron'!H336,\" \")","v":13},{"$f":"IF(('ED272 Students YTD by Squadron'!$A336)<>0,'ED272 Students YTD by Squadron'!I336,\" \")","v":35},{"$f":"IF(('ED272 Students YTD by Squadron'!$A336)<>0,'ED272A Classes YTD by Squadron'!D336,\" \")","v":2},{"$f":"IF(('ED272 Students YTD by Squadron'!$A336)<>0,'ED272A Classes YTD by Squadron'!E336,\" \")","v":3}]
[{"$f":"IF(('ED272 Students YTD by Squadron'!$A337)<>0,'ED272 Students YTD by Squadron'!A337,\" \")","v":27},{"$f":"IF(('ED272 Students YTD by Squadron'!$A337)<>0,'ED272 Students YTD by Squadron'!B337,\" \")","v":4800},{"$f":"IF(('ED272 Students YTD by Squadron'!$A337)<>0,'ED272 Students YTD by Squadron'!C337,\" \")","v":"Rocky Mount Power Squad  "},{"$f":"IF(('ED272 Students YTD by Squadron'!$A337)<>0,'ED272 Students YTD by Squadron'!D337,\" \")","v":3},{"$f":"IF(('ED272 Students YTD by Squadron'!$A337)<>0,'ED272 Students YTD by Squadron'!E337,\" \")","v":2},{"$f":"IF(('ED272 Students YTD by Squadron'!$A337)<>0,'ED272 Students YTD by Squadron'!F337,\" \")","v":3},{"$f":"IF(('ED272 Students YTD by Squadron'!$A337)<>0,'ED272 Students YTD by Squadron'!G337,\" \")","v":2},{"$f":"IF(('ED272 Students YTD by Squadron'!$A337)<>0,'ED272 Students YTD by Squadron'!H337,\" \")","v":3},{"$f":"IF(('ED272 Students YTD by Squadron'!$A337)<>0,'ED272 Students YTD by Squadron'!I337,\" \")","v":2},{"$f":"IF(('ED272 Students YTD by Squadron'!$A337)<>0,'ED272A Classes YTD by Squadron'!D337,\" \")","v":1},{"$f":"IF(('ED272 Students YTD by Squadron'!$A337)<>0,'ED272A Classes YTD by Squadron'!E337,\" \")","v":3}]
[{"$f":"IF(('ED272 Students YTD by Squadron'!$A338)<>0,'ED272 Students YTD by Squadron'!A338,\" \")","v":27},{"$f":"IF(('ED272 Students YTD by Squadron'!$A338)<>0,'ED272 Students YTD by Squadron'!B338,\" \")","v":5435},{"$f":"IF(('ED272 Students YTD by Squadron'!$A338)<>0,'ED272 Students YTD by Squadron'!C338,\" \")","v":"Shallotte River Sail &   "},{"$f":"IF(('ED272 Students YTD by Squadron'!$A338)<>0,'ED272 Students YTD by Squadron'!D338,\" \")","v":5},{"$f":"IF(('ED272 Students YTD by Squadron'!$A338)<>0,'ED272 Students YTD by Squadron'!E338,\" \")","v":9},{"$f":"IF(('ED272 Students YTD by Squadron'!$A338)<>0,'ED272 Students YTD by Squadron'!F338,\" \")","v":4},{"$f":"IF(('ED272 Students YTD by Squadron'!$A338)<>0,'ED272 Students YTD by Squadron'!G338,\" \")","v":9},{"$f":"IF(('ED272 Students YTD by Squadron'!$A338)<>0,'ED272 Students YTD by Squadron'!H338,\" \")","v":4},{"$f":"IF(('ED272 Students YTD by Squadron'!$A338)<>0,'ED272 Students YTD by Squadron'!I338,\" \")","v":9},{"$f":"IF(('ED272 Students YTD by Squadron'!$A338)<>0,'ED272A Classes YTD by Squadron'!D338,\" \")","v":1},{"$f":"IF(('ED272 Students YTD by Squadron'!$A338)<>0,'ED272A Classes YTD by Squadron'!E338,\" \")","v":1}]
[{"$f":"IF(('ED272 Students YTD by Squadron'!$A339)<>0,'ED272 Students YTD by Squadron'!A339,\" \")","v":27},{"$f":"IF(('ED272 Students YTD by Squadron'!$A339)<>0,'ED272 Students YTD by Squadron'!B339,\" \")","v":5630},{"$f":"IF(('ED272 Students YTD by Squadron'!$A339)<>0,'ED272 Students YTD by Squadron'!C339,\" \")","v":"Southport Sail & Power Sq"},{"$f":"IF(('ED272 Students YTD by Squadron'!$A339)<>0,'ED272 Students YTD by Squadron'!D339,\" \")","v":9},{"$f":"IF(('ED272 Students YTD by Squadron'!$A339)<>0,'ED272 Students YTD by Squadron'!E339,\" \")","v":12},{"$f":"IF(('ED272 Students YTD by Squadron'!$A339)<>0,'ED272 Students YTD by Squadron'!F339,\" \")","v":9},{"$f":"IF(('ED272 Students YTD by Squadron'!$A339)<>0,'ED272 Students YTD by Squadron'!G339,\" \")","v":12},{"$f":"IF(('ED272 Students YTD by Squadron'!$A339)<>0,'ED272 Students YTD by Squadron'!H339,\" \")","v":9},{"$f":"IF(('ED272 Students YTD by Squadron'!$A339)<>0,'ED272 Students YTD by Squadron'!I339,\" \")","v":12},{"$f":"IF(('ED272 Students YTD by Squadron'!$A339)<>0,'ED272A Classes YTD by Squadron'!D339,\" \")","v":1},{"$f":"IF(('ED272 Students YTD by Squadron'!$A339)<>0,'ED272A Classes YTD by Squadron'!E339,\" \")","v":1}]
[{"$f":"IF(('ED272 Students YTD by Squadron'!$A340)<>0,'ED272 Students YTD by Squadron'!A340,\" \")","v":27},{"$f":"IF(('ED272 Students YTD by Squadron'!$A340)<>0,'ED272 Students YTD by Squadron'!B340,\" \")","v":5855},{"$f":"IF(('ED272 Students YTD by Squadron'!$A340)<>0,'ED272 Students YTD by Squadron'!C340,\" \")","v":"Tar River Power Squadron "},{"$f":"IF(('ED272 Students YTD by Squadron'!$A340)<>0,'ED272 Students YTD by Squadron'!D340,\" \")","v":11},{"$f":"IF(('ED272 Students YTD by Squadron'!$A340)<>0,'ED272 Students YTD by Squadron'!E340,\" \")","v":20},{"$f":"IF(('ED272 Students YTD by Squadron'!$A340)<>0,'ED272 Students YTD by Squadron'!F340,\" \")","v":11},{"$f":"IF(('ED272 Students YTD by Squadron'!$A340)<>0,'ED272 Students YTD by Squadron'!G340,\" \")","v":18},{"$f":"IF(('ED272 Students YTD by Squadron'!$A340)<>0,'ED272 Students YTD by Squadron'!H340,\" \")","v":11},{"$f":"IF(('ED272 Students YTD by Squadron'!$A340)<>0,'ED272 Students YTD by Squadron'!I340,\" \")","v":18},{"$f":"IF(('ED272 Students YTD by Squadron'!$A340)<>0,'ED272A Classes YTD by Squadron'!D340,\" \")","v":2},{"$f":"IF(('ED272 Students YTD by Squadron'!$A340)<>0,'ED272A Classes YTD by Squadron'!E340,\" \")","v":5}]
[{"$f":"IF(('ED272 Students YTD by Squadron'!$A341)<>0,'ED272 Students YTD by Squadron'!A341,\" \")","v":27},{"$f":"IF(('ED272 Students YTD by Squadron'!$A341)<>0,'ED272 Students YTD by Squadron'!B341,\" \")","v":6320},{"$f":"IF(('ED272 Students YTD by Squadron'!$A341)<>0,'ED272 Students YTD by Squadron'!C341,\" \")","v":"Winston Salem Sail &     "},{"$f":"IF(('ED272 Students YTD by Squadron'!$A341)<>0,'ED272 Students YTD by Squadron'!D341,\" \")","v":7},{"$f":"IF(('ED272 Students YTD by Squadron'!$A341)<>0,'ED272 Students YTD by Squadron'!E341,\" \")","v":2},{"$f":"IF(('ED272 Students YTD by Squadron'!$A341)<>0,'ED272 Students YTD by Squadron'!F341,\" \")","v":7},{"$f":"IF(('ED272 Students YTD by Squadron'!$A341)<>0,'ED272 Students YTD by Squadron'!G341,\" \")","v":2},{"$f":"IF(('ED272 Students YTD by Squadron'!$A341)<>0,'ED272 Students YTD by Squadron'!H341,\" \")","v":7},{"$f":"IF(('ED272 Students YTD by Squadron'!$A341)<>0,'ED272 Students YTD by Squadron'!I341,\" \")","v":2},{"$f":"IF(('ED272 Students YTD by Squadron'!$A341)<>0,'ED272A Classes YTD by Squadron'!D341,\" \")","v":3},{"$f":"IF(('ED272 Students YTD by Squadron'!$A341)<>0,'ED272A Classes YTD by Squadron'!E341,\" \")","v":1}]
[{"$f":"IF(('ED272 Students YTD by Squadron'!$A342)<>0,'ED272 Students YTD by Squadron'!A342,\" \")","v":28},{"$f":"IF(('ED272 Students YTD by Squadron'!$A342)<>0,'ED272 Students YTD by Squadron'!B342,\" \")","v":300},{"$f":"IF(('ED272 Students YTD by Squadron'!$A342)<>0,'ED272 Students YTD by Squadron'!C342,\" \")","v":"Balboa Power Squadron    "},{"$f":"IF(('ED272 Students YTD by Squadron'!$A342)<>0,'ED272 Students YTD by Squadron'!D342,\" \")","v":23},{"$f":"IF(('ED272 Students YTD by Squadron'!$A342)<>0,'ED272 Students YTD by Squadron'!E342,\" \")","v":8},{"$f":"IF(('ED272 Students YTD by Squadron'!$A342)<>0,'ED272 Students YTD by Squadron'!F342,\" \")","v":22},{"$f":"IF(('ED272 Students YTD by Squadron'!$A342)<>0,'ED272 Students YTD by Squadron'!G342,\" \")","v":7},{"$f":"IF(('ED272 Students YTD by Squadron'!$A342)<>0,'ED272 Students YTD by Squadron'!H342,\" \")","v":22},{"$f":"IF(('ED272 Students YTD by Squadron'!$A342)<>0,'ED272 Students YTD by Squadron'!I342,\" \")","v":7},{"$f":"IF(('ED272 Students YTD by Squadron'!$A342)<>0,'ED272A Classes YTD by Squadron'!D342,\" \")","v":3},{"$f":"IF(('ED272 Students YTD by Squadron'!$A342)<>0,'ED272A Classes YTD by Squadron'!E342,\" \")","v":2}]
[{"$f":"IF(('ED272 Students YTD by Squadron'!$A343)<>0,'ED272 Students YTD by Squadron'!A343,\" \")","v":28},{"$f":"IF(('ED272 Students YTD by Squadron'!$A343)<>0,'ED272 Students YTD by Squadron'!B343,\" \")","v":4365},{"$f":"IF(('ED272 Students YTD by Squadron'!$A343)<>0,'ED272 Students YTD by Squadron'!C343,\" \")","v":"Phoenix Sail & Power Sqd "},{"$f":"IF(('ED272 Students YTD by Squadron'!$A343)<>0,'ED272 Students YTD by Squadron'!D343,\" \")","v":12},{"$f":"IF(('ED272 Students YTD by Squadron'!$A343)<>0,'ED272 Students YTD by Squadron'!E343,\" \")","v":8},{"$f":"IF(('ED272 Students YTD by Squadron'!$A343)<>0,'ED272 Students YTD by Squadron'!F343,\" \")","v":12},{"$f":"IF(('ED272 Students YTD by Squadron'!$A343)<>0,'ED272 Students YTD by Squadron'!G343,\" \")","v":8},{"$f":"IF(('ED272 Students YTD by Squadron'!$A343)<>0,'ED272 Students YTD by Squadron'!H343,\" \")","v":12},{"$f":"IF(('ED272 Students YTD by Squadron'!$A343)<>0,'ED272 Students YTD by Squadron'!I343,\" \")","v":8},{"$f":"IF(('ED272 Students YTD by Squadron'!$A343)<>0,'ED272A Classes YTD by Squadron'!D343,\" \")","v":8},{"$f":"IF(('ED272 Students YTD by Squadron'!$A343)<>0,'ED272A Classes YTD by Squadron'!E343,\" \")","v":2}]
[{"$f":"IF(('ED272 Students YTD by Squadron'!$A344)<>0,'ED272 Students YTD by Squadron'!A344,\" \")","v":28},{"$f":"IF(('ED272 Students YTD by Squadron'!$A344)<>0,'ED272 Students YTD by Squadron'!B344,\" \")","v":5115},{"$f":"IF(('ED272 Students YTD by Squadron'!$A344)<>0,'ED272 Students YTD by Squadron'!C344,\" \")","v":"San Diego Sail & Power   "},{"$f":"IF(('ED272 Students YTD by Squadron'!$A344)<>0,'ED272 Students YTD by Squadron'!D344,\" \")","v":14},{"$f":"IF(('ED272 Students YTD by Squadron'!$A344)<>0,'ED272 Students YTD by Squadron'!E344,\" \")","v":7},{"$f":"IF(('ED272 Students YTD by Squadron'!$A344)<>0,'ED272 Students YTD by Squadron'!F344,\" \")","v":14},{"$f":"IF(('ED272 Students YTD by Squadron'!$A344)<>0,'ED272 Students YTD by Squadron'!G344,\" \")","v":7},{"$f":"IF(('ED272 Students YTD by Squadron'!$A344)<>0,'ED272 Students YTD by Squadron'!H344,\" \")","v":14},{"$f":"IF(('ED272 Students YTD by Squadron'!$A344)<>0,'ED272 Students YTD by Squadron'!I344,\" \")","v":7},{"$f":"IF(('ED272 Students YTD by Squadron'!$A344)<>0,'ED272A Classes YTD by Squadron'!D344,\" \")","v":1},{"$f":"IF(('ED272 Students YTD by Squadron'!$A344)<>0,'ED272A Classes YTD by Squadron'!E344,\" \")","v":2}]
[{"$f":"IF(('ED272 Students YTD by Squadron'!$A345)<>0,'ED272 Students YTD by Squadron'!A345,\" \")","v":28},{"$f":"IF(('ED272 Students YTD by Squadron'!$A345)<>0,'ED272 Students YTD by Squadron'!B345,\" \")","v":5220},{"$f":"IF(('ED272 Students YTD by Squadron'!$A345)<>0,'ED272 Students YTD by Squadron'!C345,\" \")","v":"San Luis Rey             "},{"$f":"IF(('ED272 Students YTD by Squadron'!$A345)<>0,'ED272 Students YTD by Squadron'!D345,\" \")","v":22},{"$f":"IF(('ED272 Students YTD by Squadron'!$A345)<>0,'ED272 Students YTD by Squadron'!E345,\" \")","v":25},{"$f":"IF(('ED272 Students YTD by Squadron'!$A345)<>0,'ED272 Students YTD by Squadron'!F345,\" \")","v":16},{"$f":"IF(('ED272 Students YTD by Squadron'!$A345)<>0,'ED272 Students YTD by Squadron'!G345,\" \")","v":23},{"$f":"IF(('ED272 Students YTD by Squadron'!$A345)<>0,'ED272 Students YTD by Squadron'!H345,\" \")","v":16},{"$f":"IF(('ED272 Students YTD by Squadron'!$A345)<>0,'ED272 Students YTD by Squadron'!I345,\" \")","v":23},{"$f":"IF(('ED272 Students YTD by Squadron'!$A345)<>0,'ED272A Classes YTD by Squadron'!D345,\" \")","v":1},{"$f":"IF(('ED272 Students YTD by Squadron'!$A345)<>0,'ED272A Classes YTD by Squadron'!E345,\" \")","v":2}]
[{"$f":"IF(('ED272 Students YTD by Squadron'!$A346)<>0,'ED272 Students YTD by Squadron'!A346,\" \")","v":29},{"$f":"IF(('ED272 Students YTD by Squadron'!$A346)<>0,'ED272 Students YTD by Squadron'!B346,\" \")","v":1185},{"$f":"IF(('ED272 Students YTD by Squadron'!$A346)<>0,'ED272 Students YTD by Squadron'!C346,\" \")","v":"Columbus Sail & Power    "},{"$f":"IF(('ED272 Students YTD by Squadron'!$A346)<>0,'ED272 Students YTD by Squadron'!D346,\" \")","v":28},{"$f":"IF(('ED272 Students YTD by Squadron'!$A346)<>0,'ED272 Students YTD by Squadron'!E346,\" \")","v":49},{"$f":"IF(('ED272 Students YTD by Squadron'!$A346)<>0,'ED272 Students YTD by Squadron'!F346,\" \")","v":26},{"$f":"IF(('ED272 Students YTD by Squadron'!$A346)<>0,'ED272 Students YTD by Squadron'!G346,\" \")","v":47},{"$f":"IF(('ED272 Students YTD by Squadron'!$A346)<>0,'ED272 Students YTD by Squadron'!H346,\" \")","v":26},{"$f":"IF(('ED272 Students YTD by Squadron'!$A346)<>0,'ED272 Students YTD by Squadron'!I346,\" \")","v":47},{"$f":"IF(('ED272 Students YTD by Squadron'!$A346)<>0,'ED272A Classes YTD by Squadron'!D346,\" \")","v":1},{"$f":"IF(('ED272 Students YTD by Squadron'!$A346)<>0,'ED272A Classes YTD by Squadron'!E346,\" \")","v":2}]
[{"$f":"IF(('ED272 Students YTD by Squadron'!$A347)<>0,'ED272 Students YTD by Squadron'!A347,\" \")","v":29},{"$f":"IF(('ED272 Students YTD by Squadron'!$A347)<>0,'ED272 Students YTD by Squadron'!B347,\" \")","v":1905},{"$f":"IF(('ED272 Students YTD by Squadron'!$A347)<>0,'ED272 Students YTD by Squadron'!C347,\" \")","v":"Findlay Sail & Power Sqd "},{"$f":"IF(('ED272 Students YTD by Squadron'!$A347)<>0,'ED272 Students YTD by Squadron'!D347,\" \")","v":9},{"$f":"IF(('ED272 Students YTD by Squadron'!$A347)<>0,'ED272 Students YTD by Squadron'!E347,\" \")","v":13},{"$f":"IF(('ED272 Students YTD by Squadron'!$A347)<>0,'ED272 Students YTD by Squadron'!F347,\" \")","v":7},{"$f":"IF(('ED272 Students YTD by Squadron'!$A347)<>0,'ED272 Students YTD by Squadron'!G347,\" \")","v":13},{"$f":"IF(('ED272 Students YTD by Squadron'!$A347)<>0,'ED272 Students YTD by Squadron'!H347,\" \")","v":7},{"$f":"IF(('ED272 Students YTD by Squadron'!$A347)<>0,'ED272 Students YTD by Squadron'!I347,\" \")","v":13},{"$f":"IF(('ED272 Students YTD by Squadron'!$A347)<>0,'ED272A Classes YTD by Squadron'!D347,\" \")","v":2},{"$f":"IF(('ED272 Students YTD by Squadron'!$A347)<>0,'ED272A Classes YTD by Squadron'!E347,\" \")","v":1}]
[{"$f":"IF(('ED272 Students YTD by Squadron'!$A348)<>0,'ED272 Students YTD by Squadron'!A348,\" \")","v":29},{"$f":"IF(('ED272 Students YTD by Squadron'!$A348)<>0,'ED272 Students YTD by Squadron'!B348,\" \")","v":1875},{"$f":"IF(('ED272 Students YTD by Squadron'!$A348)<>0,'ED272 Students YTD by Squadron'!C348,\" \")","v":"Ft. Wayne Sail & Power Sq"},{"$f":"IF(('ED272 Students YTD by Squadron'!$A348)<>0,'ED272 Students YTD by Squadron'!D348,\" \")","v":0},{"$f":"IF(('ED272 Students YTD by Squadron'!$A348)<>0,'ED272 Students YTD by Squadron'!E348,\" \")","v":0},{"$f":"IF(('ED272 Students YTD by Squadron'!$A348)<>0,'ED272 Students YTD by Squadron'!F348,\" \")","v":0},{"$f":"IF(('ED272 Students YTD by Squadron'!$A348)<>0,'ED272 Students YTD by Squadron'!G348,\" \")","v":0},{"$f":"IF(('ED272 Students YTD by Squadron'!$A348)<>0,'ED272 Students YTD by Squadron'!H348,\" \")","v":0},{"$f":"IF(('ED272 Students YTD by Squadron'!$A348)<>0,'ED272 Students YTD by Squadron'!I348,\" \")","v":0},{"$f":"IF(('ED272 Students YTD by Squadron'!$A348)<>0,'ED272A Classes YTD by Squadron'!D348,\" \")","v":0},{"$f":"IF(('ED272 Students YTD by Squadron'!$A348)<>0,'ED272A Classes YTD by Squadron'!E348,\" \")","v":0}]
[{"$f":"IF(('ED272 Students YTD by Squadron'!$A349)<>0,'ED272 Students YTD by Squadron'!A349,\" \")","v":29},{"$f":"IF(('ED272 Students YTD by Squadron'!$A349)<>0,'ED272 Students YTD by Squadron'!B349,\" \")","v":2850},{"$f":"IF(('ED272 Students YTD by Squadron'!$A349)<>0,'ED272 Students YTD by Squadron'!C349,\" \")","v":"Lima Power Squadron      "},{"$f":"IF(('ED272 Students YTD by Squadron'!$A349)<>0,'ED272 Students YTD by Squadron'!D349,\" \")","v":8},{"$f":"IF(('ED272 Students YTD by Squadron'!$A349)<>0,'ED272 Students YTD by Squadron'!E349,\" \")","v":18},{"$f":"IF(('ED272 Students YTD by Squadron'!$A349)<>0,'ED272 Students YTD by Squadron'!F349,\" \")","v":5},{"$f":"IF(('ED272 Students YTD by Squadron'!$A349)<>0,'ED272 Students YTD by Squadron'!G349,\" \")","v":18},{"$f":"IF(('ED272 Students YTD by Squadron'!$A349)<>0,'ED272 Students YTD by Squadron'!H349,\" \")","v":5},{"$f":"IF(('ED272 Students YTD by Squadron'!$A349)<>0,'ED272 Students YTD by Squadron'!I349,\" \")","v":18},{"$f":"IF(('ED272 Students YTD by Squadron'!$A349)<>0,'ED272A Classes YTD by Squadron'!D349,\" \")","v":1},{"$f":"IF(('ED272 Students YTD by Squadron'!$A349)<>0,'ED272A Classes YTD by Squadron'!E349,\" \")","v":2}]
[{"$f":"IF(('ED272 Students YTD by Squadron'!$A350)<>0,'ED272 Students YTD by Squadron'!A350,\" \")","v":29},{"$f":"IF(('ED272 Students YTD by Squadron'!$A350)<>0,'ED272 Students YTD by Squadron'!B350,\" \")","v":4470},{"$f":"IF(('ED272 Students YTD by Squadron'!$A350)<>0,'ED272 Students YTD by Squadron'!C350,\" \")","v":"Port Clinton Power Squad "},{"$f":"IF(('ED272 Students YTD by Squadron'!$A350)<>0,'ED272 Students YTD by Squadron'!D350,\" \")","v":11},{"$f":"IF(('ED272 Students YTD by Squadron'!$A350)<>0,'ED272 Students YTD by Squadron'!E350,\" \")","v":14},{"$f":"IF(('ED272 Students YTD by Squadron'!$A350)<>0,'ED272 Students YTD by Squadron'!F350,\" \")","v":11},{"$f":"IF(('ED272 Students YTD by Squadron'!$A350)<>0,'ED272 Students YTD by Squadron'!G350,\" \")","v":11},{"$f":"IF(('ED272 Students YTD by Squadron'!$A350)<>0,'ED272 Students YTD by Squadron'!H350,\" \")","v":8},{"$f":"IF(('ED272 Students YTD by Squadron'!$A350)<>0,'ED272 Students YTD by Squadron'!I350,\" \")","v":11},{"$f":"IF(('ED272 Students YTD by Squadron'!$A350)<>0,'ED272A Classes YTD by Squadron'!D350,\" \")","v":1},{"$f":"IF(('ED272 Students YTD by Squadron'!$A350)<>0,'ED272A Classes YTD by Squadron'!E350,\" \")","v":1}]
[{"$f":"IF(('ED272 Students YTD by Squadron'!$A351)<>0,'ED272 Students YTD by Squadron'!A351,\" \")","v":29},{"$f":"IF(('ED272 Students YTD by Squadron'!$A351)<>0,'ED272 Students YTD by Squadron'!B351,\" \")","v":5130},{"$f":"IF(('ED272 Students YTD by Squadron'!$A351)<>0,'ED272 Students YTD by Squadron'!C351,\" \")","v":"Sandusky Power Squadron  "},{"$f":"IF(('ED272 Students YTD by Squadron'!$A351)<>0,'ED272 Students YTD by Squadron'!D351,\" \")","v":17},{"$f":"IF(('ED272 Students YTD by Squadron'!$A351)<>0,'ED272 Students YTD by Squadron'!E351,\" \")","v":15},{"$f":"IF(('ED272 Students YTD by Squadron'!$A351)<>0,'ED272 Students YTD by Squadron'!F351,\" \")","v":11},{"$f":"IF(('ED272 Students YTD by Squadron'!$A351)<>0,'ED272 Students YTD by Squadron'!G351,\" \")","v":14},{"$f":"IF(('ED272 Students YTD by Squadron'!$A351)<>0,'ED272 Students YTD by Squadron'!H351,\" \")","v":11},{"$f":"IF(('ED272 Students YTD by Squadron'!$A351)<>0,'ED272 Students YTD by Squadron'!I351,\" \")","v":14},{"$f":"IF(('ED272 Students YTD by Squadron'!$A351)<>0,'ED272A Classes YTD by Squadron'!D351,\" \")","v":3},{"$f":"IF(('ED272 Students YTD by Squadron'!$A351)<>0,'ED272A Classes YTD by Squadron'!E351,\" \")","v":3}]
[{"$f":"IF(('ED272 Students YTD by Squadron'!$A352)<>0,'ED272 Students YTD by Squadron'!A352,\" \")","v":29},{"$f":"IF(('ED272 Students YTD by Squadron'!$A352)<>0,'ED272 Students YTD by Squadron'!B352,\" \")","v":5910},{"$f":"IF(('ED272 Students YTD by Squadron'!$A352)<>0,'ED272 Students YTD by Squadron'!C352,\" \")","v":"Toledo Power Squadron    "},{"$f":"IF(('ED272 Students YTD by Squadron'!$A352)<>0,'ED272 Students YTD by Squadron'!D352,\" \")","v":30},{"$f":"IF(('ED272 Students YTD by Squadron'!$A352)<>0,'ED272 Students YTD by Squadron'!E352,\" \")","v":58},{"$f":"IF(('ED272 Students YTD by Squadron'!$A352)<>0,'ED272 Students YTD by Squadron'!F352,\" \")","v":29},{"$f":"IF(('ED272 Students YTD by Squadron'!$A352)<>0,'ED272 Students YTD by Squadron'!G352,\" \")","v":55},{"$f":"IF(('ED272 Students YTD by Squadron'!$A352)<>0,'ED272 Students YTD by Squadron'!H352,\" \")","v":29},{"$f":"IF(('ED272 Students YTD by Squadron'!$A352)<>0,'ED272 Students YTD by Squadron'!I352,\" \")","v":55},{"$f":"IF(('ED272 Students YTD by Squadron'!$A352)<>0,'ED272A Classes YTD by Squadron'!D352,\" \")","v":3},{"$f":"IF(('ED272 Students YTD by Squadron'!$A352)<>0,'ED272A Classes YTD by Squadron'!E352,\" \")","v":3}]
[{"$f":"IF(('ED272 Students YTD by Squadron'!$A353)<>0,'ED272 Students YTD by Squadron'!A353,\" \")","v":30},{"$f":"IF(('ED272 Students YTD by Squadron'!$A353)<>0,'ED272 Students YTD by Squadron'!B353,\" \")","v":620},{"$f":"IF(('ED272 Students YTD by Squadron'!$A353)<>0,'ED272 Students YTD by Squadron'!C353,\" \")","v":"Boulder Valley Sail &    "},{"$f":"IF(('ED272 Students YTD by Squadron'!$A353)<>0,'ED272 Students YTD by Squadron'!D353,\" \")","v":0},{"$f":"IF(('ED272 Students YTD by Squadron'!$A353)<>0,'ED272 Students YTD by Squadron'!E353,\" \")","v":0},{"$f":"IF(('ED272 Students YTD by Squadron'!$A353)<>0,'ED272 Students YTD by Squadron'!F353,\" \")","v":0},{"$f":"IF(('ED272 Students YTD by Squadron'!$A353)<>0,'ED272 Students YTD by Squadron'!G353,\" \")","v":0},{"$f":"IF(('ED272 Students YTD by Squadron'!$A353)<>0,'ED272 Students YTD by Squadron'!H353,\" \")","v":0},{"$f":"IF(('ED272 Students YTD by Squadron'!$A353)<>0,'ED272 Students YTD by Squadron'!I353,\" \")","v":0},{"$f":"IF(('ED272 Students YTD by Squadron'!$A353)<>0,'ED272A Classes YTD by Squadron'!D353,\" \")","v":2},{"$f":"IF(('ED272 Students YTD by Squadron'!$A353)<>0,'ED272A Classes YTD by Squadron'!E353,\" \")","v":0}]
[{"$f":"IF(('ED272 Students YTD by Squadron'!$A354)<>0,'ED272 Students YTD by Squadron'!A354,\" \")","v":30},{"$f":"IF(('ED272 Students YTD by Squadron'!$A354)<>0,'ED272 Students YTD by Squadron'!B354,\" \")","v":1500},{"$f":"IF(('ED272 Students YTD by Squadron'!$A354)<>0,'ED272 Students YTD by Squadron'!C354,\" \")","v":"Des Moines Power Squadron"},{"$f":"IF(('ED272 Students YTD by Squadron'!$A354)<>0,'ED272 Students YTD by Squadron'!D354,\" \")","v":16},{"$f":"IF(('ED272 Students YTD by Squadron'!$A354)<>0,'ED272 Students YTD by Squadron'!E354,\" \")","v":4},{"$f":"IF(('ED272 Students YTD by Squadron'!$A354)<>0,'ED272 Students YTD by Squadron'!F354,\" \")","v":11},{"$f":"IF(('ED272 Students YTD by Squadron'!$A354)<>0,'ED272 Students YTD by Squadron'!G354,\" \")","v":4},{"$f":"IF(('ED272 Students YTD by Squadron'!$A354)<>0,'ED272 Students YTD by Squadron'!H354,\" \")","v":11},{"$f":"IF(('ED272 Students YTD by Squadron'!$A354)<>0,'ED272 Students YTD by Squadron'!I354,\" \")","v":4},{"$f":"IF(('ED272 Students YTD by Squadron'!$A354)<>0,'ED272A Classes YTD by Squadron'!D354,\" \")","v":2},{"$f":"IF(('ED272 Students YTD by Squadron'!$A354)<>0,'ED272A Classes YTD by Squadron'!E354,\" \")","v":1}]
[{"$f":"IF(('ED272 Students YTD by Squadron'!$A355)<>0,'ED272 Students YTD by Squadron'!A355,\" \")","v":30},{"$f":"IF(('ED272 Students YTD by Squadron'!$A355)<>0,'ED272 Students YTD by Squadron'!B355,\" \")","v":945},{"$f":"IF(('ED272 Students YTD by Squadron'!$A355)<>0,'ED272 Students YTD by Squadron'!C355,\" \")","v":"Four Rivers Power Squad  "},{"$f":"IF(('ED272 Students YTD by Squadron'!$A355)<>0,'ED272 Students YTD by Squadron'!D355,\" \")","v":1},{"$f":"IF(('ED272 Students YTD by Squadron'!$A355)<>0,'ED272 Students YTD by Squadron'!E355,\" \")","v":0},{"$f":"IF(('ED272 Students YTD by Squadron'!$A355)<>0,'ED272 Students YTD by Squadron'!F355,\" \")","v":1},{"$f":"IF(('ED272 Students YTD by Squadron'!$A355)<>0,'ED272 Students YTD by Squadron'!G355,\" \")","v":0},{"$f":"IF(('ED272 Students YTD by Squadron'!$A355)<>0,'ED272 Students YTD by Squadron'!H355,\" \")","v":1},{"$f":"IF(('ED272 Students YTD by Squadron'!$A355)<>0,'ED272 Students YTD by Squadron'!I355,\" \")","v":0},{"$f":"IF(('ED272 Students YTD by Squadron'!$A355)<>0,'ED272A Classes YTD by Squadron'!D355,\" \")","v":1},{"$f":"IF(('ED272 Students YTD by Squadron'!$A355)<>0,'ED272A Classes YTD by Squadron'!E355,\" \")","v":0}]
[{"$f":"IF(('ED272 Students YTD by Squadron'!$A356)<>0,'ED272 Students YTD by Squadron'!A356,\" \")","v":30},{"$f":"IF(('ED272 Students YTD by Squadron'!$A356)<>0,'ED272 Students YTD by Squadron'!B356,\" \")","v":2007},{"$f":"IF(('ED272 Students YTD by Squadron'!$A356)<>0,'ED272 Students YTD by Squadron'!C356,\" \")","v":"Grand Lake Sail & Power  "},{"$f":"IF(('ED272 Students YTD by Squadron'!$A356)<>0,'ED272 Students YTD by Squadron'!D356,\" \")","v":22},{"$f":"IF(('ED272 Students YTD by Squadron'!$A356)<>0,'ED272 Students YTD by Squadron'!E356,\" \")","v":5},{"$f":"IF(('ED272 Students YTD by Squadron'!$A356)<>0,'ED272 Students YTD by Squadron'!F356,\" \")","v":21},{"$f":"IF(('ED272 Students YTD by Squadron'!$A356)<>0,'ED272 Students YTD by Squadron'!G356,\" \")","v":5},{"$f":"IF(('ED272 Students YTD by Squadron'!$A356)<>0,'ED272 Students YTD by Squadron'!H356,\" \")","v":21},{"$f":"IF(('ED272 Students YTD by Squadron'!$A356)<>0,'ED272 Students YTD by Squadron'!I356,\" \")","v":5},{"$f":"IF(('ED272 Students YTD by Squadron'!$A356)<>0,'ED272A Classes YTD by Squadron'!D356,\" \")","v":3},{"$f":"IF(('ED272 Students YTD by Squadron'!$A356)<>0,'ED272A Classes YTD by Squadron'!E356,\" \")","v":2}]
[{"$f":"IF(('ED272 Students YTD by Squadron'!$A357)<>0,'ED272 Students YTD by Squadron'!A357,\" \")","v":30},{"$f":"IF(('ED272 Students YTD by Squadron'!$A357)<>0,'ED272 Students YTD by Squadron'!B357,\" \")","v":2565},{"$f":"IF(('ED272 Students YTD by Squadron'!$A357)<>0,'ED272 Students YTD by Squadron'!C357,\" \")","v":"Kansas City Power Squad  "},{"$f":"IF(('ED272 Students YTD by Squadron'!$A357)<>0,'ED272 Students YTD by Squadron'!D357,\" \")","v":0},{"$f":"IF(('ED272 Students YTD by Squadron'!$A357)<>0,'ED272 Students YTD by Squadron'!E357,\" \")","v":0},{"$f":"IF(('ED272 Students YTD by Squadron'!$A357)<>0,'ED272 Students YTD by Squadron'!F357,\" \")","v":0},{"$f":"IF(('ED272 Students YTD by Squadron'!$A357)<>0,'ED272 Students YTD by Squadron'!G357,\" \")","v":0},{"$f":"IF(('ED272 Students YTD by Squadron'!$A357)<>0,'ED272 Students YTD by Squadron'!H357,\" \")","v":0},{"$f":"IF(('ED272 Students YTD by Squadron'!$A357)<>0,'ED272 Students YTD by Squadron'!I357,\" \")","v":0},{"$f":"IF(('ED272 Students YTD by Squadron'!$A357)<>0,'ED272A Classes YTD by Squadron'!D357,\" \")","v":0},{"$f":"IF(('ED272 Students YTD by Squadron'!$A357)<>0,'ED272A Classes YTD by Squadron'!E357,\" \")","v":0}]
[{"$f":"IF(('ED272 Students YTD by Squadron'!$A358)<>0,'ED272 Students YTD by Squadron'!A358,\" \")","v":30},{"$f":"IF(('ED272 Students YTD by Squadron'!$A358)<>0,'ED272 Students YTD by Squadron'!B358,\" \")","v":4995},{"$f":"IF(('ED272 Students YTD by Squadron'!$A358)<>0,'ED272 Students YTD by Squadron'!C358,\" \")","v":"St. Louis Power Squadron "},{"$f":"IF(('ED272 Students YTD by Squadron'!$A358)<>0,'ED272 Students YTD by Squadron'!D358,\" \")","v":2},{"$f":"IF(('ED272 Students YTD by Squadron'!$A358)<>0,'ED272 Students YTD by Squadron'!E358,\" \")","v":18},{"$f":"IF(('ED272 Students YTD by Squadron'!$A358)<>0,'ED272 Students YTD by Squadron'!F358,\" \")","v":2},{"$f":"IF(('ED272 Students YTD by Squadron'!$A358)<>0,'ED272 Students YTD by Squadron'!G358,\" \")","v":13},{"$f":"IF(('ED272 Students YTD by Squadron'!$A358)<>0,'ED272 Students YTD by Squadron'!H358,\" \")","v":2},{"$f":"IF(('ED272 Students YTD by Squadron'!$A358)<>0,'ED272 Students YTD by Squadron'!I358,\" \")","v":13},{"$f":"IF(('ED272 Students YTD by Squadron'!$A358)<>0,'ED272A Classes YTD by Squadron'!D358,\" \")","v":2},{"$f":"IF(('ED272 Students YTD by Squadron'!$A358)<>0,'ED272A Classes YTD by Squadron'!E358,\" \")","v":1}]
[{"$f":"IF(('ED272 Students YTD by Squadron'!$A359)<>0,'ED272 Students YTD by Squadron'!A359,\" \")","v":30},{"$f":"IF(('ED272 Students YTD by Squadron'!$A359)<>0,'ED272 Students YTD by Squadron'!B359,\" \")","v":6170},{"$f":"IF(('ED272 Students YTD by Squadron'!$A359)<>0,'ED272 Students YTD by Squadron'!C359,\" \")","v":"Waterloo Sail & Power Sqd"},{"$f":"IF(('ED272 Students YTD by Squadron'!$A359)<>0,'ED272 Students YTD by Squadron'!D359,\" \")","v":0},{"$f":"IF(('ED272 Students YTD by Squadron'!$A359)<>0,'ED272 Students YTD by Squadron'!E359,\" \")","v":0},{"$f":"IF(('ED272 Students YTD by Squadron'!$A359)<>0,'ED272 Students YTD by Squadron'!F359,\" \")","v":0},{"$f":"IF(('ED272 Students YTD by Squadron'!$A359)<>0,'ED272 Students YTD by Squadron'!G359,\" \")","v":0},{"$f":"IF(('ED272 Students YTD by Squadron'!$A359)<>0,'ED272 Students YTD by Squadron'!H359,\" \")","v":0},{"$f":"IF(('ED272 Students YTD by Squadron'!$A359)<>0,'ED272 Students YTD by Squadron'!I359,\" \")","v":0},{"$f":"IF(('ED272 Students YTD by Squadron'!$A359)<>0,'ED272A Classes YTD by Squadron'!D359,\" \")","v":0},{"$f":"IF(('ED272 Students YTD by Squadron'!$A359)<>0,'ED272A Classes YTD by Squadron'!E359,\" \")","v":0}]
[{"$f":"IF(('ED272 Students YTD by Squadron'!$A360)<>0,'ED272 Students YTD by Squadron'!A360,\" \")","v":32},{"$f":"IF(('ED272 Students YTD by Squadron'!$A360)<>0,'ED272 Students YTD by Squadron'!B360,\" \")","v":425},{"$f":"IF(('ED272 Students YTD by Squadron'!$A360)<>0,'ED272 Students YTD by Squadron'!C360,\" \")","v":"Beaverton Sail &         "},{"$f":"IF(('ED272 Students YTD by Squadron'!$A360)<>0,'ED272 Students YTD by Squadron'!D360,\" \")","v":4},{"$f":"IF(('ED272 Students YTD by Squadron'!$A360)<>0,'ED272 Students YTD by Squadron'!E360,\" \")","v":6},{"$f":"IF(('ED272 Students YTD by Squadron'!$A360)<>0,'ED272 Students YTD by Squadron'!F360,\" \")","v":4},{"$f":"IF(('ED272 Students YTD by Squadron'!$A360)<>0,'ED272 Students YTD by Squadron'!G360,\" \")","v":6},{"$f":"IF(('ED272 Students YTD by Squadron'!$A360)<>0,'ED272 Students YTD by Squadron'!H360,\" \")","v":4},{"$f":"IF(('ED272 Students YTD by Squadron'!$A360)<>0,'ED272 Students YTD by Squadron'!I360,\" \")","v":5},{"$f":"IF(('ED272 Students YTD by Squadron'!$A360)<>0,'ED272A Classes YTD by Squadron'!D360,\" \")","v":3},{"$f":"IF(('ED272 Students YTD by Squadron'!$A360)<>0,'ED272A Classes YTD by Squadron'!E360,\" \")","v":3}]
[{"$f":"IF(('ED272 Students YTD by Squadron'!$A361)<>0,'ED272 Students YTD by Squadron'!A361,\" \")","v":32},{"$f":"IF(('ED272 Students YTD by Squadron'!$A361)<>0,'ED272 Students YTD by Squadron'!B361,\" \")","v":1215},{"$f":"IF(('ED272 Students YTD by Squadron'!$A361)<>0,'ED272 Students YTD by Squadron'!C361,\" \")","v":"Coos Bay Power Squadron  "},{"$f":"IF(('ED272 Students YTD by Squadron'!$A361)<>0,'ED272 Students YTD by Squadron'!D361,\" \")","v":17},{"$f":"IF(('ED272 Students YTD by Squadron'!$A361)<>0,'ED272 Students YTD by Squadron'!E361,\" \")","v":28},{"$f":"IF(('ED272 Students YTD by Squadron'!$A361)<>0,'ED272 Students YTD by Squadron'!F361,\" \")","v":16},{"$f":"IF(('ED272 Students YTD by Squadron'!$A361)<>0,'ED272 Students YTD by Squadron'!G361,\" \")","v":26},{"$f":"IF(('ED272 Students YTD by Squadron'!$A361)<>0,'ED272 Students YTD by Squadron'!H361,\" \")","v":16},{"$f":"IF(('ED272 Students YTD by Squadron'!$A361)<>0,'ED272 Students YTD by Squadron'!I361,\" \")","v":26},{"$f":"IF(('ED272 Students YTD by Squadron'!$A361)<>0,'ED272A Classes YTD by Squadron'!D361,\" \")","v":3},{"$f":"IF(('ED272 Students YTD by Squadron'!$A361)<>0,'ED272A Classes YTD by Squadron'!E361,\" \")","v":4}]
[{"$f":"IF(('ED272 Students YTD by Squadron'!$A362)<>0,'ED272 Students YTD by Squadron'!A362,\" \")","v":32},{"$f":"IF(('ED272 Students YTD by Squadron'!$A362)<>0,'ED272 Students YTD by Squadron'!B362,\" \")","v":1845},{"$f":"IF(('ED272 Students YTD by Squadron'!$A362)<>0,'ED272 Students YTD by Squadron'!C362,\" \")","v":"Ft. Vancouver Sail &     "},{"$f":"IF(('ED272 Students YTD by Squadron'!$A362)<>0,'ED272 Students YTD by Squadron'!D362,\" \")","v":0},{"$f":"IF(('ED272 Students YTD by Squadron'!$A362)<>0,'ED272 Students YTD by Squadron'!E362,\" \")","v":0},{"$f":"IF(('ED272 Students YTD by Squadron'!$A362)<>0,'ED272 Students YTD by Squadron'!F362,\" \")","v":0},{"$f":"IF(('ED272 Students YTD by Squadron'!$A362)<>0,'ED272 Students YTD by Squadron'!G362,\" \")","v":0},{"$f":"IF(('ED272 Students YTD by Squadron'!$A362)<>0,'ED272 Students YTD by Squadron'!H362,\" \")","v":0},{"$f":"IF(('ED272 Students YTD by Squadron'!$A362)<>0,'ED272 Students YTD by Squadron'!I362,\" \")","v":0},{"$f":"IF(('ED272 Students YTD by Squadron'!$A362)<>0,'ED272A Classes YTD by Squadron'!D362,\" \")","v":0},{"$f":"IF(('ED272 Students YTD by Squadron'!$A362)<>0,'ED272A Classes YTD by Squadron'!E362,\" \")","v":0}]
[{"$f":"IF(('ED272 Students YTD by Squadron'!$A363)<>0,'ED272 Students YTD by Squadron'!A363,\" \")","v":32},{"$f":"IF(('ED272 Students YTD by Squadron'!$A363)<>0,'ED272 Students YTD by Squadron'!B363,\" \")","v":3000},{"$f":"IF(('ED272 Students YTD by Squadron'!$A363)<>0,'ED272 Students YTD by Squadron'!C363,\" \")","v":"Lower Columbia Power Sqd "},{"$f":"IF(('ED272 Students YTD by Squadron'!$A363)<>0,'ED272 Students YTD by Squadron'!D363,\" \")","v":0},{"$f":"IF(('ED272 Students YTD by Squadron'!$A363)<>0,'ED272 Students YTD by Squadron'!E363,\" \")","v":0},{"$f":"IF(('ED272 Students YTD by Squadron'!$A363)<>0,'ED272 Students YTD by Squadron'!F363,\" \")","v":0},{"$f":"IF(('ED272 Students YTD by Squadron'!$A363)<>0,'ED272 Students YTD by Squadron'!G363,\" \")","v":0},{"$f":"IF(('ED272 Students YTD by Squadron'!$A363)<>0,'ED272 Students YTD by Squadron'!H363,\" \")","v":0},{"$f":"IF(('ED272 Students YTD by Squadron'!$A363)<>0,'ED272 Students YTD by Squadron'!I363,\" \")","v":0},{"$f":"IF(('ED272 Students YTD by Squadron'!$A363)<>0,'ED272A Classes YTD by Squadron'!D363,\" \")","v":0},{"$f":"IF(('ED272 Students YTD by Squadron'!$A363)<>0,'ED272A Classes YTD by Squadron'!E363,\" \")","v":0}]
[{"$f":"IF(('ED272 Students YTD by Squadron'!$A364)<>0,'ED272 Students YTD by Squadron'!A364,\" \")","v":32},{"$f":"IF(('ED272 Students YTD by Squadron'!$A364)<>0,'ED272 Students YTD by Squadron'!B364,\" \")","v":4500},{"$f":"IF(('ED272 Students YTD by Squadron'!$A364)<>0,'ED272 Students YTD by Squadron'!C364,\" \")","v":"Portland Power Squadron  "},{"$f":"IF(('ED272 Students YTD by Squadron'!$A364)<>0,'ED272 Students YTD by Squadron'!D364,\" \")","v":0},{"$f":"IF(('ED272 Students YTD by Squadron'!$A364)<>0,'ED272 Students YTD by Squadron'!E364,\" \")","v":0},{"$f":"IF(('ED272 Students YTD by Squadron'!$A364)<>0,'ED272 Students YTD by Squadron'!F364,\" \")","v":0},{"$f":"IF(('ED272 Students YTD by Squadron'!$A364)<>0,'ED272 Students YTD by Squadron'!G364,\" \")","v":0},{"$f":"IF(('ED272 Students YTD by Squadron'!$A364)<>0,'ED272 Students YTD by Squadron'!H364,\" \")","v":0},{"$f":"IF(('ED272 Students YTD by Squadron'!$A364)<>0,'ED272 Students YTD by Squadron'!I364,\" \")","v":0},{"$f":"IF(('ED272 Students YTD by Squadron'!$A364)<>0,'ED272A Classes YTD by Squadron'!D364,\" \")","v":0},{"$f":"IF(('ED272 Students YTD by Squadron'!$A364)<>0,'ED272A Classes YTD by Squadron'!E364,\" \")","v":0}]
[{"$f":"IF(('ED272 Students YTD by Squadron'!$A365)<>0,'ED272 Students YTD by Squadron'!A365,\" \")","v":32},{"$f":"IF(('ED272 Students YTD by Squadron'!$A365)<>0,'ED272 Students YTD by Squadron'!B365,\" \")","v":4955},{"$f":"IF(('ED272 Students YTD by Squadron'!$A365)<>0,'ED272 Students YTD by Squadron'!C365,\" \")","v":"St. Helens Sail & Power  "},{"$f":"IF(('ED272 Students YTD by Squadron'!$A365)<>0,'ED272 Students YTD by Squadron'!D365,\" \")","v":2},{"$f":"IF(('ED272 Students YTD by Squadron'!$A365)<>0,'ED272 Students YTD by Squadron'!E365,\" \")","v":5},{"$f":"IF(('ED272 Students YTD by Squadron'!$A365)<>0,'ED272 Students YTD by Squadron'!F365,\" \")","v":2},{"$f":"IF(('ED272 Students YTD by Squadron'!$A365)<>0,'ED272 Students YTD by Squadron'!G365,\" \")","v":5},{"$f":"IF(('ED272 Students YTD by Squadron'!$A365)<>0,'ED272 Students YTD by Squadron'!H365,\" \")","v":2},{"$f":"IF(('ED272 Students YTD by Squadron'!$A365)<>0,'ED272 Students YTD by Squadron'!I365,\" \")","v":5},{"$f":"IF(('ED272 Students YTD by Squadron'!$A365)<>0,'ED272A Classes YTD by Squadron'!D365,\" \")","v":1},{"$f":"IF(('ED272 Students YTD by Squadron'!$A365)<>0,'ED272A Classes YTD by Squadron'!E365,\" \")","v":1}]
[{"$f":"IF(('ED272 Students YTD by Squadron'!$A366)<>0,'ED272 Students YTD by Squadron'!A366,\" \")","v":33},{"$f":"IF(('ED272 Students YTD by Squadron'!$A366)<>0,'ED272 Students YTD by Squadron'!B366,\" \")","v":192},{"$f":"IF(('ED272 Students YTD by Squadron'!$A366)<>0,'ED272 Students YTD by Squadron'!C366,\" \")","v":"Arecibo Power Squadron   "},{"$f":"IF(('ED272 Students YTD by Squadron'!$A366)<>0,'ED272 Students YTD by Squadron'!D366,\" \")","v":293},{"$f":"IF(('ED272 Students YTD by Squadron'!$A366)<>0,'ED272 Students YTD by Squadron'!E366,\" \")","v":267},{"$f":"IF(('ED272 Students YTD by Squadron'!$A366)<>0,'ED272 Students YTD by Squadron'!F366,\" \")","v":289},{"$f":"IF(('ED272 Students YTD by Squadron'!$A366)<>0,'ED272 Students YTD by Squadron'!G366,\" \")","v":237},{"$f":"IF(('ED272 Students YTD by Squadron'!$A366)<>0,'ED272 Students YTD by Squadron'!H366,\" \")","v":289},{"$f":"IF(('ED272 Students YTD by Squadron'!$A366)<>0,'ED272 Students YTD by Squadron'!I366,\" \")","v":229},{"$f":"IF(('ED272 Students YTD by Squadron'!$A366)<>0,'ED272A Classes YTD by Squadron'!D366,\" \")","v":3},{"$f":"IF(('ED272 Students YTD by Squadron'!$A366)<>0,'ED272A Classes YTD by Squadron'!E366,\" \")","v":3}]
[{"$f":"IF(('ED272 Students YTD by Squadron'!$A367)<>0,'ED272 Students YTD by Squadron'!A367,\" \")","v":33},{"$f":"IF(('ED272 Students YTD by Squadron'!$A367)<>0,'ED272 Students YTD by Squadron'!B367,\" \")","v":595},{"$f":"IF(('ED272 Students YTD by Squadron'!$A367)<>0,'ED272 Students YTD by Squadron'!C367,\" \")","v":"Boqueron Power Squadron  "},{"$f":"IF(('ED272 Students YTD by Squadron'!$A367)<>0,'ED272 Students YTD by Squadron'!D367,\" \")","v":160},{"$f":"IF(('ED272 Students YTD by Squadron'!$A367)<>0,'ED272 Students YTD by Squadron'!E367,\" \")","v":64},{"$f":"IF(('ED272 Students YTD by Squadron'!$A367)<>0,'ED272 Students YTD by Squadron'!F367,\" \")","v":158},{"$f":"IF(('ED272 Students YTD by Squadron'!$A367)<>0,'ED272 Students YTD by Squadron'!G367,\" \")","v":64},{"$f":"IF(('ED272 Students YTD by Squadron'!$A367)<>0,'ED272 Students YTD by Squadron'!H367,\" \")","v":157},{"$f":"IF(('ED272 Students YTD by Squadron'!$A367)<>0,'ED272 Students YTD by Squadron'!I367,\" \")","v":64},{"$f":"IF(('ED272 Students YTD by Squadron'!$A367)<>0,'ED272A Classes YTD by Squadron'!D367,\" \")","v":3},{"$f":"IF(('ED272 Students YTD by Squadron'!$A367)<>0,'ED272A Classes YTD by Squadron'!E367,\" \")","v":2}]
[{"$f":"IF(('ED272 Students YTD by Squadron'!$A368)<>0,'ED272 Students YTD by Squadron'!A368,\" \")","v":33},{"$f":"IF(('ED272 Students YTD by Squadron'!$A368)<>0,'ED272 Students YTD by Squadron'!B368,\" \")","v":895},{"$f":"IF(('ED272 Students YTD by Squadron'!$A368)<>0,'ED272 Students YTD by Squadron'!C368,\" \")","v":"Carolina Sail & Power Sqd"},{"$f":"IF(('ED272 Students YTD by Squadron'!$A368)<>0,'ED272 Students YTD by Squadron'!D368,\" \")","v":92},{"$f":"IF(('ED272 Students YTD by Squadron'!$A368)<>0,'ED272 Students YTD by Squadron'!E368,\" \")","v":78},{"$f":"IF(('ED272 Students YTD by Squadron'!$A368)<>0,'ED272 Students YTD by Squadron'!F368,\" \")","v":88},{"$f":"IF(('ED272 Students YTD by Squadron'!$A368)<>0,'ED272 Students YTD by Squadron'!G368,\" \")","v":77},{"$f":"IF(('ED272 Students YTD by Squadron'!$A368)<>0,'ED272 Students YTD by Squadron'!H368,\" \")","v":88},{"$f":"IF(('ED272 Students YTD by Squadron'!$A368)<>0,'ED272 Students YTD by Squadron'!I368,\" \")","v":77},{"$f":"IF(('ED272 Students YTD by Squadron'!$A368)<>0,'ED272A Classes YTD by Squadron'!D368,\" \")","v":5},{"$f":"IF(('ED272 Students YTD by Squadron'!$A368)<>0,'ED272A Classes YTD by Squadron'!E368,\" \")","v":3}]
[{"$f":"IF(('ED272 Students YTD by Squadron'!$A369)<>0,'ED272 Students YTD by Squadron'!A369,\" \")","v":33},{"$f":"IF(('ED272 Students YTD by Squadron'!$A369)<>0,'ED272 Students YTD by Squadron'!B369,\" \")","v":2385},{"$f":"IF(('ED272 Students YTD by Squadron'!$A369)<>0,'ED272 Students YTD by Squadron'!C369,\" \")","v":"Humacao Power Squadron   "},{"$f":"IF(('ED272 Students YTD by Squadron'!$A369)<>0,'ED272 Students YTD by Squadron'!D369,\" \")","v":142},{"$f":"IF(('ED272 Students YTD by Squadron'!$A369)<>0,'ED272 Students YTD by Squadron'!E369,\" \")","v":144},{"$f":"IF(('ED272 Students YTD by Squadron'!$A369)<>0,'ED272 Students YTD by Squadron'!F369,\" \")","v":139},{"$f":"IF(('ED272 Students YTD by Squadron'!$A369)<>0,'ED272 Students YTD by Squadron'!G369,\" \")","v":140},{"$f":"IF(('ED272 Students YTD by Squadron'!$A369)<>0,'ED272 Students YTD by Squadron'!H369,\" \")","v":139},{"$f":"IF(('ED272 Students YTD by Squadron'!$A369)<>0,'ED272 Students YTD by Squadron'!I369,\" \")","v":140},{"$f":"IF(('ED272 Students YTD by Squadron'!$A369)<>0,'ED272A Classes YTD by Squadron'!D369,\" \")","v":4},{"$f":"IF(('ED272 Students YTD by Squadron'!$A369)<>0,'ED272A Classes YTD by Squadron'!E369,\" \")","v":4}]
[{"$f":"IF(('ED272 Students YTD by Squadron'!$A370)<>0,'ED272 Students YTD by Squadron'!A370,\" \")","v":33},{"$f":"IF(('ED272 Students YTD by Squadron'!$A370)<>0,'ED272 Students YTD by Squadron'!B370,\" \")","v":4455},{"$f":"IF(('ED272 Students YTD by Squadron'!$A370)<>0,'ED272 Students YTD by Squadron'!C370,\" \")","v":"Ponce Power Squadron     "},{"$f":"IF(('ED272 Students YTD by Squadron'!$A370)<>0,'ED272 Students YTD by Squadron'!D370,\" \")","v":256},{"$f":"IF(('ED272 Students YTD by Squadron'!$A370)<>0,'ED272 Students YTD by Squadron'!E370,\" \")","v":160},{"$f":"IF(('ED272 Students YTD by Squadron'!$A370)<>0,'ED272 Students YTD by Squadron'!F370,\" \")","v":243},{"$f":"IF(('ED272 Students YTD by Squadron'!$A370)<>0,'ED272 Students YTD by Squadron'!G370,\" \")","v":160},{"$f":"IF(('ED272 Students YTD by Squadron'!$A370)<>0,'ED272 Students YTD by Squadron'!H370,\" \")","v":243},{"$f":"IF(('ED272 Students YTD by Squadron'!$A370)<>0,'ED272 Students YTD by Squadron'!I370,\" \")","v":160},{"$f":"IF(('ED272 Students YTD by Squadron'!$A370)<>0,'ED272A Classes YTD by Squadron'!D370,\" \")","v":5},{"$f":"IF(('ED272 Students YTD by Squadron'!$A370)<>0,'ED272A Classes YTD by Squadron'!E370,\" \")","v":6}]
[{"$f":"IF(('ED272 Students YTD by Squadron'!$A371)<>0,'ED272 Students YTD by Squadron'!A371,\" \")","v":33},{"$f":"IF(('ED272 Students YTD by Squadron'!$A371)<>0,'ED272 Students YTD by Squadron'!B371,\" \")","v":5205},{"$f":"IF(('ED272 Students YTD by Squadron'!$A371)<>0,'ED272 Students YTD by Squadron'!C371,\" \")","v":"San Juan Power Squadron  "},{"$f":"IF(('ED272 Students YTD by Squadron'!$A371)<>0,'ED272 Students YTD by Squadron'!D371,\" \")","v":451},{"$f":"IF(('ED272 Students YTD by Squadron'!$A371)<>0,'ED272 Students YTD by Squadron'!E371,\" \")","v":414},{"$f":"IF(('ED272 Students YTD by Squadron'!$A371)<>0,'ED272 Students YTD by Squadron'!F371,\" \")","v":398},{"$f":"IF(('ED272 Students YTD by Squadron'!$A371)<>0,'ED272 Students YTD by Squadron'!G371,\" \")","v":339},{"$f":"IF(('ED272 Students YTD by Squadron'!$A371)<>0,'ED272 Students YTD by Squadron'!H371,\" \")","v":398},{"$f":"IF(('ED272 Students YTD by Squadron'!$A371)<>0,'ED272 Students YTD by Squadron'!I371,\" \")","v":339},{"$f":"IF(('ED272 Students YTD by Squadron'!$A371)<>0,'ED272A Classes YTD by Squadron'!D371,\" \")","v":5},{"$f":"IF(('ED272 Students YTD by Squadron'!$A371)<>0,'ED272A Classes YTD by Squadron'!E371,\" \")","v":5}]
[{"$f":"IF(('ED272 Students YTD by Squadron'!$A372)<>0,'ED272 Students YTD by Squadron'!A372,\" \")","v":33},{"$f":"IF(('ED272 Students YTD by Squadron'!$A372)<>0,'ED272 Students YTD by Squadron'!B372,\" \")","v":4950},{"$f":"IF(('ED272 Students YTD by Squadron'!$A372)<>0,'ED272 Students YTD by Squadron'!C372,\" \")","v":"St. Croix Power Squadron "},{"$f":"IF(('ED272 Students YTD by Squadron'!$A372)<>0,'ED272 Students YTD by Squadron'!D372,\" \")","v":0},{"$f":"IF(('ED272 Students YTD by Squadron'!$A372)<>0,'ED272 Students YTD by Squadron'!E372,\" \")","v":0},{"$f":"IF(('ED272 Students YTD by Squadron'!$A372)<>0,'ED272 Students YTD by Squadron'!F372,\" \")","v":0},{"$f":"IF(('ED272 Students YTD by Squadron'!$A372)<>0,'ED272 Students YTD by Squadron'!G372,\" \")","v":0},{"$f":"IF(('ED272 Students YTD by Squadron'!$A372)<>0,'ED272 Students YTD by Squadron'!H372,\" \")","v":0},{"$f":"IF(('ED272 Students YTD by Squadron'!$A372)<>0,'ED272 Students YTD by Squadron'!I372,\" \")","v":0},{"$f":"IF(('ED272 Students YTD by Squadron'!$A372)<>0,'ED272A Classes YTD by Squadron'!D372,\" \")","v":0},{"$f":"IF(('ED272 Students YTD by Squadron'!$A372)<>0,'ED272A Classes YTD by Squadron'!E372,\" \")","v":0}]
[{"$f":"IF(('ED272 Students YTD by Squadron'!$A373)<>0,'ED272 Students YTD by Squadron'!A373,\" \")","v":33},{"$f":"IF(('ED272 Students YTD by Squadron'!$A373)<>0,'ED272 Students YTD by Squadron'!B373,\" \")","v":5045},{"$f":"IF(('ED272 Students YTD by Squadron'!$A373)<>0,'ED272 Students YTD by Squadron'!C373,\" \")","v":"St. Thomas Power Squadron"},{"$f":"IF(('ED272 Students YTD by Squadron'!$A373)<>0,'ED272 Students YTD by Squadron'!D373,\" \")","v":0},{"$f":"IF(('ED272 Students YTD by Squadron'!$A373)<>0,'ED272 Students YTD by Squadron'!E373,\" \")","v":0},{"$f":"IF(('ED272 Students YTD by Squadron'!$A373)<>0,'ED272 Students YTD by Squadron'!F373,\" \")","v":0},{"$f":"IF(('ED272 Students YTD by Squadron'!$A373)<>0,'ED272 Students YTD by Squadron'!G373,\" \")","v":0},{"$f":"IF(('ED272 Students YTD by Squadron'!$A373)<>0,'ED272 Students YTD by Squadron'!H373,\" \")","v":0},{"$f":"IF(('ED272 Students YTD by Squadron'!$A373)<>0,'ED272 Students YTD by Squadron'!I373,\" \")","v":0},{"$f":"IF(('ED272 Students YTD by Squadron'!$A373)<>0,'ED272A Classes YTD by Squadron'!D373,\" \")","v":0},{"$f":"IF(('ED272 Students YTD by Squadron'!$A373)<>0,'ED272A Classes YTD by Squadron'!E373,\" \")","v":0}]
[{"$f":"IF(('ED272 Students YTD by Squadron'!$A374)<>0,'ED272 Students YTD by Squadron'!A374,\" \")","v":99},{"$f":"IF(('ED272 Students YTD by Squadron'!$A374)<>0,'ED272 Students YTD by Squadron'!B374,\" \")","v":6404},{"$f":"IF(('ED272 Students YTD by Squadron'!$A374)<>0,'ED272 Students YTD by Squadron'!C374,\" \")","v":"Internet Membership      "},{"$f":"IF(('ED272 Students YTD by Squadron'!$A374)<>0,'ED272 Students YTD by Squadron'!D374,\" \")","v":0},{"$f":"IF(('ED272 Students YTD by Squadron'!$A374)<>0,'ED272 Students YTD by Squadron'!E374,\" \")","v":0},{"$f":"IF(('ED272 Students YTD by Squadron'!$A374)<>0,'ED272 Students YTD by Squadron'!F374,\" \")","v":0},{"$f":"IF(('ED272 Students YTD by Squadron'!$A374)<>0,'ED272 Students YTD by Squadron'!G374,\" \")","v":0},{"$f":"IF(('ED272 Students YTD by Squadron'!$A374)<>0,'ED272 Students YTD by Squadron'!H374,\" \")","v":0},{"$f":"IF(('ED272 Students YTD by Squadron'!$A374)<>0,'ED272 Students YTD by Squadron'!I374,\" \")","v":0},{"$f":"IF(('ED272 Students YTD by Squadron'!$A374)<>0,'ED272A Classes YTD by Squadron'!D374,\" \")","v":0},{"$f":"IF(('ED272 Students YTD by Squadron'!$A374)<>0,'ED272A Classes YTD by Squadron'!E374,\" \")","v":0}]
[{"$f":"IF(('ED272 Students YTD by Squadron'!$A375)<>0,'ED272 Students YTD by Squadron'!A375,\" \")","v":99},{"$f":"IF(('ED272 Students YTD by Squadron'!$A375)<>0,'ED272 Students YTD by Squadron'!B375,\" \")","v":6405},{"$f":"IF(('ED272 Students YTD by Squadron'!$A375)<>0,'ED272 Students YTD by Squadron'!C375,\" \")","v":"Unattached Members       "},{"$f":"IF(('ED272 Students YTD by Squadron'!$A375)<>0,'ED272 Students YTD by Squadron'!D375,\" \")","v":0},{"$f":"IF(('ED272 Students YTD by Squadron'!$A375)<>0,'ED272 Students YTD by Squadron'!E375,\" \")","v":0},{"$f":"IF(('ED272 Students YTD by Squadron'!$A375)<>0,'ED272 Students YTD by Squadron'!F375,\" \")","v":0},{"$f":"IF(('ED272 Students YTD by Squadron'!$A375)<>0,'ED272 Students YTD by Squadron'!G375,\" \")","v":0},{"$f":"IF(('ED272 Students YTD by Squadron'!$A375)<>0,'ED272 Students YTD by Squadron'!H375,\" \")","v":0},{"$f":"IF(('ED272 Students YTD by Squadron'!$A375)<>0,'ED272 Students YTD by Squadron'!I375,\" \")","v":0},{"$f":"IF(('ED272 Students YTD by Squadron'!$A375)<>0,'ED272A Classes YTD by Squadron'!D375,\" \")","v":0},{"$f":"IF(('ED272 Students YTD by Squadron'!$A375)<>0,'ED272A Classes YTD by Squadron'!E375,\" \")","v":0}]
[{"$f":"IF(('ED272 Students YTD by Squadron'!$A376)<>0,'ED272 Students YTD by Squadron'!A376,\" \")","v":99},{"$f":"IF(('ED272 Students YTD by Squadron'!$A376)<>0,'ED272 Students YTD by Squadron'!B376,\" \")","v":6403},{"$f":"IF(('ED272 Students YTD by Squadron'!$A376)<>0,'ED272 Students YTD by Squadron'!C376,\" \")","v":"USPS University          "},{"$f":"IF(('ED272 Students YTD by Squadron'!$A376)<>0,'ED272 Students YTD by Squadron'!D376,\" \")","v":0},{"$f":"IF(('ED272 Students YTD by Squadron'!$A376)<>0,'ED272 Students YTD by Squadron'!E376,\" \")","v":0},{"$f":"IF(('ED272 Students YTD by Squadron'!$A376)<>0,'ED272 Students YTD by Squadron'!F376,\" \")","v":0},{"$f":"IF(('ED272 Students YTD by Squadron'!$A376)<>0,'ED272 Students YTD by Squadron'!G376,\" \")","v":0},{"$f":"IF(('ED272 Students YTD by Squadron'!$A376)<>0,'ED272 Students YTD by Squadron'!H376,\" \")","v":0},{"$f":"IF(('ED272 Students YTD by Squadron'!$A376)<>0,'ED272 Students YTD by Squadron'!I376,\" \")","v":0},{"$f":"IF(('ED272 Students YTD by Squadron'!$A376)<>0,'ED272A Classes YTD by Squadron'!D376,\" \")","v":0},{"$f":"IF(('ED272 Students YTD by Squadron'!$A376)<>0,'ED272A Classes YTD by Squadron'!E376,\" \")","v":0}]
[{"$f":"IF(('ED272 Students YTD by Squadron'!$A377)<>0,'ED272 Students YTD by Squadron'!A377,\" \")","v":" "},{"$f":"IF(('ED272 Students YTD by Squadron'!$A377)<>0,'ED272 Students YTD by Squadron'!B377,\" \")","v":" "},{"$f":"IF(('ED272 Students YTD by Squadron'!$A377)<>0,'ED272 Students YTD by Squadron'!C377,\" \")","v":" "},{"$f":"IF(('ED272 Students YTD by Squadron'!$A377)<>0,'ED272 Students YTD by Squadron'!D377,\" \")","v":" "},{"$f":"IF(('ED272 Students YTD by Squadron'!$A377)<>0,'ED272 Students YTD by Squadron'!E377,\" \")","v":" "},{"$f":"IF(('ED272 Students YTD by Squadron'!$A377)<>0,'ED272 Students YTD by Squadron'!F377,\" \")","v":" "},{"$f":"IF(('ED272 Students YTD by Squadron'!$A377)<>0,'ED272 Students YTD by Squadron'!G377,\" \")","v":" "},{"$f":"IF(('ED272 Students YTD by Squadron'!$A377)<>0,'ED272 Students YTD by Squadron'!H377,\" \")","v":" "},{"$f":"IF(('ED272 Students YTD by Squadron'!$A377)<>0,'ED272 Students YTD by Squadron'!I377,\" \")","v":" "},{"$f":"IF(('ED272 Students YTD by Squadron'!$A377)<>0,'ED272A Classes YTD by Squadron'!D377,\" \")","v":" "},{"$f":"IF(('ED272 Students YTD by Squadron'!$A377)<>0,'ED272A Classes YTD by Squadron'!E377,\" \")","v":" "}]
[{"$f":"IF(('ED272 Students YTD by Squadron'!$A378)<>0,'ED272 Students YTD by Squadron'!A378,\" \")","v":" "},{"$f":"IF(('ED272 Students YTD by Squadron'!$A378)<>0,'ED272 Students YTD by Squadron'!B378,\" \")","v":" "},{"$f":"IF(('ED272 Students YTD by Squadron'!$A378)<>0,'ED272 Students YTD by Squadron'!C378,\" \")","v":" "},{"$f":"IF(('ED272 Students YTD by Squadron'!$A378)<>0,'ED272 Students YTD by Squadron'!D378,\" \")","v":" "},{"$f":"IF(('ED272 Students YTD by Squadron'!$A378)<>0,'ED272 Students YTD by Squadron'!E378,\" \")","v":" "},{"$f":"IF(('ED272 Students YTD by Squadron'!$A378)<>0,'ED272 Students YTD by Squadron'!F378,\" \")","v":" "},{"$f":"IF(('ED272 Students YTD by Squadron'!$A378)<>0,'ED272 Students YTD by Squadron'!G378,\" \")","v":" "},{"$f":"IF(('ED272 Students YTD by Squadron'!$A378)<>0,'ED272 Students YTD by Squadron'!H378,\" \")","v":" "},{"$f":"IF(('ED272 Students YTD by Squadron'!$A378)<>0,'ED272 Students YTD by Squadron'!I378,\" \")","v":" "},{"$f":"IF(('ED272 Students YTD by Squadron'!$A378)<>0,'ED272A Classes YTD by Squadron'!D378,\" \")","v":" "},{"$f":"IF(('ED272 Students YTD by Squadron'!$A378)<>0,'ED272A Classes YTD by Squadron'!E378,\" \")","v":" "}]
[{"$f":"IF(('ED272 Students YTD by Squadron'!$A379)<>0,'ED272 Students YTD by Squadron'!A379,\" \")","v":" "},{"$f":"IF(('ED272 Students YTD by Squadron'!$A379)<>0,'ED272 Students YTD by Squadron'!B379,\" \")","v":" "},{"$f":"IF(('ED272 Students YTD by Squadron'!$A379)<>0,'ED272 Students YTD by Squadron'!C379,\" \")","v":" "},{"$f":"IF(('ED272 Students YTD by Squadron'!$A379)<>0,'ED272 Students YTD by Squadron'!D379,\" \")","v":" "},{"$f":"IF(('ED272 Students YTD by Squadron'!$A379)<>0,'ED272 Students YTD by Squadron'!E379,\" \")","v":" "},{"$f":"IF(('ED272 Students YTD by Squadron'!$A379)<>0,'ED272 Students YTD by Squadron'!F379,\" \")","v":" "},{"$f":"IF(('ED272 Students YTD by Squadron'!$A379)<>0,'ED272 Students YTD by Squadron'!G379,\" \")","v":" "},{"$f":"IF(('ED272 Students YTD by Squadron'!$A379)<>0,'ED272 Students YTD by Squadron'!H379,\" \")","v":" "},{"$f":"IF(('ED272 Students YTD by Squadron'!$A379)<>0,'ED272 Students YTD by Squadron'!I379,\" \")","v":" "},{"$f":"IF(('ED272 Students YTD by Squadron'!$A379)<>0,'ED272A Classes YTD by Squadron'!D379,\" \")","v":" "},{"$f":"IF(('ED272 Students YTD by Squadron'!$A379)<>0,'ED272A Classes YTD by Squadron'!E379,\" \")","v":" "}]
[null,null,null,{"$f":"IF(('ED272 Students YTD by Squadron'!$A380)<>0,'ED272 Students YTD by Squadron'!D380,\" \")","v":" "},{"$f":"IF(('ED272 Students YTD by Squadron'!$A380)<>0,'ED272 Students YTD by Squadron'!E380,\" \")","v":" "},{"$f":"IF(('ED272 Students YTD by Squadron'!$A380)<>0,'ED272 Students YTD by Squadron'!F380,\" \")","v":" "},{"$f":"IF(('ED272 Students YTD by Squadron'!$A380)<>0,'ED272 Students YTD by Squadron'!G380,\" \")","v":" "},{"$f":"IF(('ED272 Students YTD by Squadron'!$A380)<>0,'ED272 Students YTD by Squadron'!H380,\" \")","v":" "},{"$f":"IF(('ED272 Students YTD by Squadron'!$A380)<>0,'ED272 Students YTD by Squadron'!I380,\" \")","v":" "},{"$f":"IF(('ED272 Students YTD by Squadron'!$A380)<>0,'ED272A Classes YTD by Squadron'!D416,\" \")","v":" "},{"$f":"IF(('ED272 Students YTD by Squadron'!$A380)<>0,'ED272A Classes YTD by Squadron'!E416,\" \")","v":" "}]
[null,null,null,{"$f":"IF(('ED272 Students YTD by Squadron'!$A381)<>0,'ED272 Students YTD by Squadron'!D381,\" \")","v":" "},{"$f":"IF(('ED272 Students YTD by Squadron'!$A381)<>0,'ED272 Students YTD by Squadron'!E381,\" \")","v":" "},{"$f":"IF(('ED272 Students YTD by Squadron'!$A381)<>0,'ED272 Students YTD by Squadron'!F381,\" \")","v":" "},{"$f":"IF(('ED272 Students YTD by Squadron'!$A381)<>0,'ED272 Students YTD by Squadron'!G381,\" \")","v":" "},{"$f":"IF(('ED272 Students YTD by Squadron'!$A381)<>0,'ED272 Students YTD by Squadron'!H381,\" \")","v":" "},{"$f":"IF(('ED272 Students YTD by Squadron'!$A381)<>0,'ED272 Students YTD by Squadron'!I381,\" \")","v":" "},{"$f":"IF(('ED272 Students YTD by Squadron'!$A381)<>0,'ED272A Classes YTD by Squadron'!D417,\" \")","v":" "},{"$f":"IF(('ED272 Students YTD by Squadron'!$A381)<>0,'ED272A Classes YTD by Squadron'!E417,\" \")","v":" "}]
[null,null,null,{"$f":"IF(('ED272 Students YTD by Squadron'!$A382)<>0,'ED272 Students YTD by Squadron'!D382,\" \")","v":" "},{"$f":"IF(('ED272 Students YTD by Squadron'!$A382)<>0,'ED272 Students YTD by Squadron'!E382,\" \")","v":" "},{"$f":"IF(('ED272 Students YTD by Squadron'!$A382)<>0,'ED272 Students YTD by Squadron'!F382,\" \")","v":" "},{"$f":"IF(('ED272 Students YTD by Squadron'!$A382)<>0,'ED272 Students YTD by Squadron'!G382,\" \")","v":" "},{"$f":"IF(('ED272 Students YTD by Squadron'!$A382)<>0,'ED272 Students YTD by Squadron'!H382,\" \")","v":" "},{"$f":"IF(('ED272 Students YTD by Squadron'!$A382)<>0,'ED272 Students YTD by Squadron'!I382,\" \")","v":" "},{"$f":"IF(('ED272 Students YTD by Squadron'!$A382)<>0,'ED272A Classes YTD by Squadron'!D418,\" \")","v":" "},{"$f":"IF(('ED272 Students YTD by Squadron'!$A382)<>0,'ED272A Classes YTD by Squadron'!E418,\" \")","v":" "}]
[null,null,null,{"$f":"IF(('ED272 Students YTD by Squadron'!$A383)<>0,'ED272 Students YTD by Squadron'!D383,\" \")","v":" "},{"$f":"IF(('ED272 Students YTD by Squadron'!$A383)<>0,'ED272 Students YTD by Squadron'!E383,\" \")","v":" "},{"$f":"IF(('ED272 Students YTD by Squadron'!$A383)<>0,'ED272 Students YTD by Squadron'!F383,\" \")","v":" "},{"$f":"IF(('ED272 Students YTD by Squadron'!$A383)<>0,'ED272 Students YTD by Squadron'!G383,\" \")","v":" "},{"$f":"IF(('ED272 Students YTD by Squadron'!$A383)<>0,'ED272 Students YTD by Squadron'!H383,\" \")","v":" "},{"$f":"IF(('ED272 Students YTD by Squadron'!$A383)<>0,'ED272 Students YTD by Squadron'!I383,\" \")","v":" "},{"$f":"IF(('ED272 Students YTD by Squadron'!$A383)<>0,'ED272A Classes YTD by Squadron'!D419,\" \")","v":" "},{"$f":"IF(('ED272 Students YTD by Squadron'!$A383)<>0,'ED272A Classes YTD by Squadron'!E419,\" \")","v":" "}]
[null,null,null,{"$f":"IF(('ED272 Students YTD by Squadron'!$A384)<>0,'ED272 Students YTD by Squadron'!D384,\" \")","v":" "},{"$f":"IF(('ED272 Students YTD by Squadron'!$A384)<>0,'ED272 Students YTD by Squadron'!E384,\" \")","v":" "},{"$f":"IF(('ED272 Students YTD by Squadron'!$A384)<>0,'ED272 Students YTD by Squadron'!F384,\" \")","v":" "},{"$f":"IF(('ED272 Students YTD by Squadron'!$A384)<>0,'ED272 Students YTD by Squadron'!G384,\" \")","v":" "},{"$f":"IF(('ED272 Students YTD by Squadron'!$A384)<>0,'ED272 Students YTD by Squadron'!H384,\" \")","v":" "},{"$f":"IF(('ED272 Students YTD by Squadron'!$A384)<>0,'ED272 Students YTD by Squadron'!I384,\" \")","v":" "},{"$f":"IF(('ED272 Students YTD by Squadron'!$A384)<>0,'ED272A Classes YTD by Squadron'!D420,\" \")","v":" "},{"$f":"IF(('ED272 Students YTD by Squadron'!$A384)<>0,'ED272A Classes YTD by Squadron'!E420,\" \")","v":" "}]
[null,null,null,{"$f":"IF(('ED272 Students YTD by Squadron'!$A385)<>0,'ED272 Students YTD by Squadron'!D385,\" \")","v":" "},{"$f":"IF(('ED272 Students YTD by Squadron'!$A385)<>0,'ED272 Students YTD by Squadron'!E385,\" \")","v":" "},{"$f":"IF(('ED272 Students YTD by Squadron'!$A385)<>0,'ED272 Students YTD by Squadron'!F385,\" \")","v":" "},{"$f":"IF(('ED272 Students YTD by Squadron'!$A385)<>0,'ED272 Students YTD by Squadron'!G385,\" \")","v":" "},{"$f":"IF(('ED272 Students YTD by Squadron'!$A385)<>0,'ED272 Students YTD by Squadron'!H385,\" \")","v":" "},{"$f":"IF(('ED272 Students YTD by Squadron'!$A385)<>0,'ED272 Students YTD by Squadron'!I385,\" \")","v":" "},{"$f":"IF(('ED272 Students YTD by Squadron'!$A385)<>0,'ED272A Classes YTD by Squadron'!D421,\" \")","v":" "},{"$f":"IF(('ED272 Students YTD by Squadron'!$A385)<>0,'ED272A Classes YTD by Squadron'!E421,\" \")","v":" "}]
[null,null,null,{"$f":"IF(('ED272 Students YTD by Squadron'!$A386)<>0,'ED272 Students YTD by Squadron'!D386,\" \")","v":" "},{"$f":"IF(('ED272 Students YTD by Squadron'!$A386)<>0,'ED272 Students YTD by Squadron'!E386,\" \")","v":" "},{"$f":"IF(('ED272 Students YTD by Squadron'!$A386)<>0,'ED272 Students YTD by Squadron'!F386,\" \")","v":" "},{"$f":"IF(('ED272 Students YTD by Squadron'!$A386)<>0,'ED272 Students YTD by Squadron'!G386,\" \")","v":" "},{"$f":"IF(('ED272 Students YTD by Squadron'!$A386)<>0,'ED272 Students YTD by Squadron'!H386,\" \")","v":" "},{"$f":"IF(('ED272 Students YTD by Squadron'!$A386)<>0,'ED272 Students YTD by Squadron'!I386,\" \")","v":" "},{"$f":"IF(('ED272 Students YTD by Squadron'!$A386)<>0,'ED272A Classes YTD by Squadron'!D422,\" \")","v":" "},{"$f":"IF(('ED272 Students YTD by Squadron'!$A386)<>0,'ED272A Classes YTD by Squadron'!E422,\" \")","v":" "}]
[null,{"$f":"COUNTA(B4:B376)","v":373},"Totals",{"$f":"SUM(D4:D377)","v":8992},{"$f":"SUM(E4:E377)","v":8117},{"$f":"SUM(F4:F377)","v":8079},7315,8035,7264,837,747]
[null,null,null,{"$f":"D3","v":"14-15"},{"$f":"E3","v":"15-16"},"14-15","15-16","14-15","15-16",{"$f":"J3","v":"14-15"},{"$f":"K3","v":"15-16"}]
[null,null,null,"Registration",null,"Examined",null,"Passed",null,"No. of Classes"]
[null,null,null,"ABC",null,null,null,null,null,"ABC"]

{"sheet":"ED273 Stdnts & Cls YTD by Distr","index":2,"n_rows":54,"n_cols":12,"rows_kept":54,"cut":false,"hidden":false,"merged":[[49,10,49,11],[48,6,48,7],[48,8,48,9],[49,4,49,9],[0,0,0,3],[0,4,0,9],[2,1,2,3],[47,1,47,3],[48,10,48,11],[48,4,48,5],[1,4,1,5],[1,6,1,7],[1,8,1,9],[1,10,1,11],[0,10,0,11]]}
[{"$f":"'ED272 Students YTD by Squadron'!A1:C1","v":"2016-07-29"},null,null,null,"ABC Students",null,null,null,null,null,"ABC Classes"]
[null,null,null,null,"Registration",null,"Examined",null,"Passed",null,"No. of Classes"]
["D/","Squadrons Reporting",null,null,{"$f":"'ED272 Students YTD by Squadron'!D3","v":"14-15"},{"$f":"'ED272 Students YTD by Squadron'!E3","v":"15-16"},{"$f":"E3","v":"14-15"},{"$f":"F3","v":"15-16"},{"$f":"E3","v":"14-15"},{"$f":"F3","v":"15-16"},{"$f":"E3","v":"14-15"},{"$f":"F3","v":"15-16"}]
[null,null,null,null,null,null,null,null,null,null,{"$f":"SUMIF('ED272A Classes YTD by Squadron'!$A4:$A421,'Classes by District'!$A4,'ED272A Classes YTD by Squadron'!C4:C421)","v":0},{"$f":"SUMIF('ED272A Classes YTD by Squadron'!$A4:$A421,'Classes by District'!$A4,'ED272A Classes YTD by Squadron'!#REF!)","v":{"$error":"#REF!"}}]
[1,{"$f":"'ED273 Students YTD by District'!B5","v":8},"of",{"$f":"'ED273 Students YTD by District'!D5","v":13},{"$f":"'ED273 Students YTD by District'!E5","v":116},{"$f":"'ED273 Students YTD by District'!F5","v":133},{"$f":"'ED273 Students YTD by District'!G5","v":108},{"$f":"'ED273 Students YTD by District'!H5","v":126},{"$f":"'ED273 Students YTD by District'!I5","v":108},{"$f":"'ED273 Students YTD by District'!J5","v":126},{"$f":"'Classes by District'!F4","v":14},{"$f":"'Classes by District'!G4","v":15}]
[2,{"$f":"'ED273 Students YTD by District'!B6","v":12},"of",{"$f":"'ED273 Students YTD by District'!D6","v":15},{"$f":"'ED273 Students YTD by District'!E6","v":366},{"$f":"'ED273 Students YTD by District'!F6","v":311},{"$f":"'ED273 Students YTD by District'!G6","v":327},{"$f":"'ED273 Students YTD by District'!H6","v":290},{"$f":"'ED273 Students YTD by District'!I6","v":327},{"$f":"'ED273 Students YTD by District'!J6","v":290},{"$f":"'Classes by District'!F5","v":31},{"$f":"'Classes by District'!G5","v":22}]
[3,{"$f":"'ED273 Students YTD by District'!B7","v":14},"of",{"$f":"'ED273 Students YTD by District'!D7","v":16},{"$f":"'ED273 Students YTD by District'!E7","v":327},{"$f":"'ED273 Students YTD by District'!F7","v":423},{"$f":"'ED273 Students YTD by District'!G7","v":295},{"$f":"'ED273 Students YTD by District'!H7","v":383},{"$f":"'ED273 Students YTD by District'!I7","v":295},{"$f":"'ED273 Students YTD by District'!J7","v":373},{"$f":"'Classes by District'!F6","v":56},{"$f":"'Classes by District'!G6","v":56}]
[4,{"$f":"'ED273 Students YTD by District'!B8","v":8},"of",{"$f":"'ED273 Students YTD by District'!D8","v":14},{"$f":"'ED273 Students YTD by District'!E8","v":158},{"$f":"'ED273 Students YTD by District'!F8","v":90},{"$f":"'ED273 Students YTD by District'!G8","v":152},{"$f":"'ED273 Students YTD by District'!H8","v":88},{"$f":"'ED273 Students YTD by District'!I8","v":152},{"$f":"'ED273 Students YTD by District'!J8","v":88},{"$f":"'Classes by District'!F7","v":22},{"$f":"'Classes by District'!G7","v":12}]
[5,{"$f":"'ED273 Students YTD by District'!B9","v":18},"of",{"$f":"'ED273 Students YTD by District'!D9","v":31},{"$f":"'ED273 Students YTD by District'!E9","v":450},{"$f":"'ED273 Students YTD by District'!F9","v":417},{"$f":"'ED273 Students YTD by District'!G9","v":377},{"$f":"'ED273 Students YTD by District'!H9","v":389},{"$f":"'ED273 Students YTD by District'!I9","v":377},{"$f":"'ED273 Students YTD by District'!J9","v":389},{"$f":"'Classes by District'!F8","v":59},{"$f":"'Classes by District'!G8","v":48}]
[null,{"$f":"'ED273 Students YTD by District'!B10","v":0},null,{"$f":"'ED273 Students YTD by District'!D10","v":0},{"$f":"'ED273 Students YTD by District'!E10","v":0},{"$f":"'ED273 Students YTD by District'!F10","v":0},{"$f":"'ED273 Students YTD by District'!G10","v":0},{"$f":"'ED273 Students YTD by District'!H10","v":0},{"$f":"'ED273 Students YTD by District'!I10","v":0},{"$f":"'ED273 Students YTD by District'!J10","v":0},{"$f":"'Classes by District'!F9","v":0},{"$f":"'Classes by District'!G9","v":0}]
[6,{"$f":"'ED273 Students YTD by District'!B11","v":9},"of",{"$f":"'ED273 Students YTD by District'!D11","v":15},{"$f":"'ED273 Students YTD by District'!E11","v":287},{"$f":"'ED273 Students YTD by District'!F11","v":144},{"$f":"'ED273 Students YTD by District'!G11","v":271},{"$f":"'ED273 Students YTD by District'!H11","v":136},{"$f":"'ED273 Students YTD by District'!I11","v":267},{"$f":"'ED273 Students YTD by District'!J11","v":136},{"$f":"'Classes by District'!F10","v":35},{"$f":"'Classes by District'!G10","v":20}]
[7,{"$f":"'ED273 Students YTD by District'!B12","v":8},"of",{"$f":"'ED273 Students YTD by District'!D12","v":12},{"$f":"'ED273 Students YTD by District'!E12","v":202},{"$f":"'ED273 Students YTD by District'!F12","v":181},{"$f":"'ED273 Students YTD by District'!G12","v":173},{"$f":"'ED273 Students YTD by District'!H12","v":154},{"$f":"'ED273 Students YTD by District'!I12","v":172},{"$f":"'ED273 Students YTD by District'!J12","v":153},{"$f":"'Classes by District'!F11","v":23},{"$f":"'Classes by District'!G11","v":23}]
[8,{"$f":"'ED273 Students YTD by District'!B13","v":10},"of",{"$f":"'ED273 Students YTD by District'!D13","v":13},{"$f":"'ED273 Students YTD by District'!E13","v":529},{"$f":"'ED273 Students YTD by District'!F13","v":572},{"$f":"'ED273 Students YTD by District'!G13","v":485},{"$f":"'ED273 Students YTD by District'!H13","v":520},{"$f":"'ED273 Students YTD by District'!I13","v":475},{"$f":"'ED273 Students YTD by District'!J13","v":515},{"$f":"'Classes by District'!F12","v":48},{"$f":"'Classes by District'!G12","v":57}]
[9,{"$f":"'ED273 Students YTD by District'!B14","v":16},"of",{"$f":"'ED273 Students YTD by District'!D14","v":20},{"$f":"'ED273 Students YTD by District'!E14","v":355},{"$f":"'ED273 Students YTD by District'!F14","v":332},{"$f":"'ED273 Students YTD by District'!G14","v":303},{"$f":"'ED273 Students YTD by District'!H14","v":296},{"$f":"'ED273 Students YTD by District'!I14","v":302},{"$f":"'ED273 Students YTD by District'!J14","v":294},{"$f":"'Classes by District'!F13","v":50},{"$f":"'Classes by District'!G13","v":39}]
[10,{"$f":"'ED273 Students YTD by District'!B15","v":7},"of",{"$f":"'ED273 Students YTD by District'!D15","v":11},{"$f":"'ED273 Students YTD by District'!E15","v":201},{"$f":"'ED273 Students YTD by District'!F15","v":154},{"$f":"'ED273 Students YTD by District'!G15","v":183},{"$f":"'ED273 Students YTD by District'!H15","v":130},{"$f":"'ED273 Students YTD by District'!I15","v":182},{"$f":"'ED273 Students YTD by District'!J15","v":129},{"$f":"'Classes by District'!F14","v":13},{"$f":"'Classes by District'!G14","v":13}]
[null,{"$f":"'ED273 Students YTD by District'!B16","v":0},null,{"$f":"'ED273 Students YTD by District'!D16","v":0},{"$f":"'ED273 Students YTD by District'!E16","v":0},{"$f":"'ED273 Students YTD by District'!F16","v":0},{"$f":"'ED273 Students YTD by District'!G16","v":0},{"$f":"'ED273 Students YTD by District'!H16","v":0},{"$f":"'ED273 Students YTD by District'!I16","v":0},{"$f":"'ED273 Students YTD by District'!J16","v":0},{"$f":"'Classes by District'!F15","v":0},{"$f":"'Classes by District'!G15","v":0}]
[11,{"$f":"'ED273 Students YTD by District'!B17","v":3},"of",{"$f":"'ED273 Students YTD by District'!D17","v":5},{"$f":"'ED273 Students YTD by District'!E17","v":55},{"$f":"'ED273 Students YTD by District'!F17","v":54},{"$f":"'ED273 Students YTD by District'!G17","v":55},{"$f":"'ED273 Students YTD by District'!H17","v":50},{"$f":"'ED273 Students YTD by District'!I17","v":55},{"$f":"'ED273 Students YTD by District'!J17","v":50},{"$f":"'Classes by District'!F16","v":7},{"$f":"'Classes by District'!G16","v":6}]
[12,{"$f":"'ED273 Students YTD by District'!B18","v":3},"of",{"$f":"'ED273 Students YTD by District'!D18","v":9},{"$f":"'ED273 Students YTD by District'!E18","v":137},{"$f":"'ED273 Students YTD by District'!F18","v":267},{"$f":"'ED273 Students YTD by District'!G18","v":116},{"$f":"'ED273 Students YTD by District'!H18","v":227},{"$f":"'ED273 Students YTD by District'!I18","v":116},{"$f":"'ED273 Students YTD by District'!J18","v":226},{"$f":"'Classes by District'!F17","v":10},{"$f":"'Classes by District'!G17","v":14}]
[13,{"$f":"'ED273 Students YTD by District'!B19","v":5},"of",{"$f":"'ED273 Students YTD by District'!D19","v":11},{"$f":"'ED273 Students YTD by District'!E19","v":304},{"$f":"'ED273 Students YTD by District'!F19","v":64},{"$f":"'ED273 Students YTD by District'!G19","v":242},{"$f":"'ED273 Students YTD by District'!H19","v":48},{"$f":"'ED273 Students YTD by District'!I19","v":240},{"$f":"'ED273 Students YTD by District'!J19","v":48},{"$f":"'Classes by District'!F18","v":37},{"$f":"'Classes by District'!G18","v":8}]
[14,{"$f":"'ED273 Students YTD by District'!B20","v":3},"of",{"$f":"'ED273 Students YTD by District'!D20","v":7},{"$f":"'ED273 Students YTD by District'!E20","v":133},{"$f":"'ED273 Students YTD by District'!F20","v":85},{"$f":"'ED273 Students YTD by District'!G20","v":119},{"$f":"'ED273 Students YTD by District'!H20","v":69},{"$f":"'ED273 Students YTD by District'!I20","v":119},{"$f":"'ED273 Students YTD by District'!J20","v":69},{"$f":"'Classes by District'!F19","v":7},{"$f":"'Classes by District'!G19","v":6}]
[15,{"$f":"'ED273 Students YTD by District'!B21","v":6},"of",{"$f":"'ED273 Students YTD by District'!D21","v":8},{"$f":"'ED273 Students YTD by District'!E21","v":224},{"$f":"'ED273 Students YTD by District'!F21","v":236},{"$f":"'ED273 Students YTD by District'!G21","v":207},{"$f":"'ED273 Students YTD by District'!H21","v":208},{"$f":"'ED273 Students YTD by District'!I21","v":206},{"$f":"'ED273 Students YTD by District'!J21","v":208},{"$f":"'Classes by District'!F20","v":24},{"$f":"'Classes by District'!G20","v":18}]
[null,{"$f":"'ED273 Students YTD by District'!B22","v":0},null,{"$f":"'ED273 Students YTD by District'!D22","v":0},{"$f":"'ED273 Students YTD by District'!E22","v":0},{"$f":"'ED273 Students YTD by District'!F22","v":0},{"$f":"'ED273 Students YTD by District'!G22","v":0},{"$f":"'ED273 Students YTD by District'!H22","v":0},{"$f":"'ED273 Students YTD by District'!I22","v":0},{"$f":"'ED273 Students YTD by District'!J22","v":0},{"$f":"'Classes by District'!F21","v":0},{"$f":"'Classes by District'!G21","v":0}]
[16,{"$f":"'ED273 Students YTD by District'!B23","v":15},"of",{"$f":"'ED273 Students YTD by District'!D23","v":16},{"$f":"'ED273 Students YTD by District'!E23","v":604},{"$f":"'ED273 Students YTD by District'!F23","v":480},{"$f":"'ED273 Students YTD by District'!G23","v":554},{"$f":"'ED273 Students YTD by District'!H23","v":443},{"$f":"'ED273 Students YTD by District'!I23","v":554},{"$f":"'ED273 Students YTD by District'!J23","v":437},{"$f":"'Classes by District'!F22","v":51},{"$f":"'Classes by District'!G22","v":49}]
[17,{"$f":"'ED273 Students YTD by District'!B24","v":5},"of",{"$f":"'ED273 Students YTD by District'!D24","v":12},{"$f":"'ED273 Students YTD by District'!E24","v":151},{"$f":"'ED273 Students YTD by District'!F24","v":48},{"$f":"'ED273 Students YTD by District'!G24","v":147},{"$f":"'ED273 Students YTD by District'!H24","v":44},{"$f":"'ED273 Students YTD by District'!I24","v":147},{"$f":"'ED273 Students YTD by District'!J24","v":44},{"$f":"'Classes by District'!F23","v":18},{"$f":"'Classes by District'!G23","v":11}]
[18,{"$f":"'ED273 Students YTD by District'!B25","v":0},"of",{"$f":"'ED273 Students YTD by District'!D25","v":0},{"$f":"'ED273 Students YTD by District'!E25","v":0},{"$f":"'ED273 Students YTD by District'!F25","v":0},{"$f":"'ED273 Students YTD by District'!G25","v":0},{"$f":"'ED273 Students YTD by District'!H25","v":0},{"$f":"'ED273 Students YTD by District'!I25","v":0},{"$f":"'ED273 Students YTD by District'!J25","v":0},{"$f":"'Classes by District'!F24","v":0},{"$f":"'Classes by District'!G24","v":0}]
[19,{"$f":"'ED273 Students YTD by District'!B26","v":5},"of",{"$f":"'ED273 Students YTD by District'!D26","v":10},{"$f":"'ED273 Students YTD by District'!E26","v":150},{"$f":"'ED273 Students YTD by District'!F26","v":180},{"$f":"'ED273 Students YTD by District'!G26","v":139},{"$f":"'ED273 Students YTD by District'!H26","v":166},{"$f":"'ED273 Students YTD by District'!I26","v":137},{"$f":"'ED273 Students YTD by District'!J26","v":163},{"$f":"'Classes by District'!F25","v":15},{"$f":"'Classes by District'!G25","v":16}]
[20,{"$f":"'ED273 Students YTD by District'!B27","v":10},"of",{"$f":"'ED273 Students YTD by District'!D27","v":15},{"$f":"'ED273 Students YTD by District'!E27","v":114},{"$f":"'ED273 Students YTD by District'!F27","v":91},{"$f":"'ED273 Students YTD by District'!G27","v":86},{"$f":"'ED273 Students YTD by District'!H27","v":83},{"$f":"'ED273 Students YTD by District'!I27","v":86},{"$f":"'ED273 Students YTD by District'!J27","v":82},{"$f":"'Classes by District'!F26","v":25},{"$f":"'Classes by District'!G26","v":24}]
[null,{"$f":"'ED273 Students YTD by District'!B28","v":0},null,{"$f":"'ED273 Students YTD by District'!D28","v":0},{"$f":"'ED273 Students YTD by District'!E28","v":0},{"$f":"'ED273 Students YTD by District'!F28","v":0},{"$f":"'ED273 Students YTD by District'!G28","v":0},{"$f":"'ED273 Students YTD by District'!H28","v":0},{"$f":"'ED273 Students YTD by District'!I28","v":0},{"$f":"'ED273 Students YTD by District'!J28","v":0},{"$f":"'Classes by District'!F27","v":0},{"$f":"'Classes by District'!G27","v":0}]
[21,{"$f":"'ED273 Students YTD by District'!B29","v":8},"of",{"$f":"'ED273 Students YTD by District'!D29","v":12},{"$f":"'ED273 Students YTD by District'!E29","v":178},{"$f":"'ED273 Students YTD by District'!F29","v":194},{"$f":"'ED273 Students YTD by District'!G29","v":165},{"$f":"'ED273 Students YTD by District'!H29","v":187},{"$f":"'ED273 Students YTD by District'!I29","v":163},{"$f":"'ED273 Students YTD by District'!J29","v":183},{"$f":"'Classes by District'!F28","v":36},{"$f":"'Classes by District'!G28","v":39}]
[22,{"$f":"'ED273 Students YTD by District'!B30","v":17},"of",{"$f":"'ED273 Students YTD by District'!D30","v":17},{"$f":"'ED273 Students YTD by District'!E30","v":1070},{"$f":"'ED273 Students YTD by District'!F30","v":1059},{"$f":"'ED273 Students YTD by District'!G30","v":970},{"$f":"'ED273 Students YTD by District'!H30","v":933},{"$f":"'ED273 Students YTD by District'!I30","v":967},{"$f":"'ED273 Students YTD by District'!J30","v":932},{"$f":"'Classes by District'!F29","v":74},{"$f":"'Classes by District'!G29","v":76}]
[23,{"$f":"'ED273 Students YTD by District'!B31","v":6},"of",{"$f":"'ED273 Students YTD by District'!D31","v":8},{"$f":"'ED273 Students YTD by District'!E31","v":221},{"$f":"'ED273 Students YTD by District'!F31","v":188},{"$f":"'ED273 Students YTD by District'!G31","v":193},{"$f":"'ED273 Students YTD by District'!H31","v":148},{"$f":"'ED273 Students YTD by District'!I31","v":189},{"$f":"'ED273 Students YTD by District'!J31","v":147},{"$f":"'Classes by District'!F30","v":22},{"$f":"'Classes by District'!G30","v":20}]
[24,{"$f":"'ED273 Students YTD by District'!B32","v":4},"of",{"$f":"'ED273 Students YTD by District'!D32","v":7},{"$f":"'ED273 Students YTD by District'!E32","v":37},{"$f":"'ED273 Students YTD by District'!F32","v":69},{"$f":"'ED273 Students YTD by District'!G32","v":33},{"$f":"'ED273 Students YTD by District'!H32","v":56},{"$f":"'ED273 Students YTD by District'!I32","v":33},{"$f":"'ED273 Students YTD by District'!J32","v":55},{"$f":"'Classes by District'!F31","v":12},{"$f":"'Classes by District'!G31","v":11}]
[25,{"$f":"'ED273 Students YTD by District'!B33","v":4},"of",{"$f":"'ED273 Students YTD by District'!D33","v":7},{"$f":"'ED273 Students YTD by District'!E33","v":67},{"$f":"'ED273 Students YTD by District'!F33","v":83},{"$f":"'ED273 Students YTD by District'!G33","v":47},{"$f":"'ED273 Students YTD by District'!H33","v":73},{"$f":"'ED273 Students YTD by District'!I33","v":43},{"$f":"'ED273 Students YTD by District'!J33","v":72},{"$f":"'Classes by District'!F32","v":10},{"$f":"'Classes by District'!G32","v":10}]
[null,{"$f":"'ED273 Students YTD by District'!B34","v":0},null,{"$f":"'ED273 Students YTD by District'!D34","v":0},{"$f":"'ED273 Students YTD by District'!E34","v":0},{"$f":"'ED273 Students YTD by District'!F34","v":0},{"$f":"'ED273 Students YTD by District'!G34","v":0},{"$f":"'ED273 Students YTD by District'!H34","v":0},{"$f":"'ED273 Students YTD by District'!I34","v":0},{"$f":"'ED273 Students YTD by District'!J34","v":0},{"$f":"'Classes by District'!F33","v":0},{"$f":"'Classes by District'!G33","v":0}]
[26,{"$f":"'ED273 Students YTD by District'!B35","v":13},"of",{"$f":"'ED273 Students YTD by District'!D35","v":14},{"$f":"'ED273 Students YTD by District'!E35","v":362},{"$f":"'ED273 Students YTD by District'!F35","v":371},{"$f":"'ED273 Students YTD by District'!G35","v":329},{"$f":"'ED273 Students YTD by District'!H35","v":336},{"$f":"'ED273 Students YTD by District'!I35","v":327},{"$f":"'ED273 Students YTD by District'!J35","v":334},{"$f":"'Classes by District'!F34","v":26},{"$f":"'Classes by District'!G34","v":29}]
[27,{"$f":"'ED273 Students YTD by District'!B36","v":20},"of",{"$f":"'ED273 Students YTD by District'!D36","v":20},{"$f":"'ED273 Students YTD by District'!E36","v":562},{"$f":"'ED273 Students YTD by District'!F36","v":483},{"$f":"'ED273 Students YTD by District'!G36","v":478},{"$f":"'ED273 Students YTD by District'!H36","v":453},{"$f":"'ED273 Students YTD by District'!I36","v":475},{"$f":"'ED273 Students YTD by District'!J36","v":451},{"$f":"'Classes by District'!F35","v":46},{"$f":"'Classes by District'!G35","v":50}]
[28,{"$f":"'ED273 Students YTD by District'!B37","v":4},"of",{"$f":"'ED273 Students YTD by District'!D37","v":4},{"$f":"'ED273 Students YTD by District'!E37","v":71},{"$f":"'ED273 Students YTD by District'!F37","v":48},{"$f":"'ED273 Students YTD by District'!G37","v":64},{"$f":"'ED273 Students YTD by District'!H37","v":45},{"$f":"'ED273 Students YTD by District'!I37","v":64},{"$f":"'ED273 Students YTD by District'!J37","v":45},{"$f":"'Classes by District'!F36","v":13},{"$f":"'Classes by District'!G36","v":8}]
[29,{"$f":"'ED273 Students YTD by District'!B38","v":6},"of",{"$f":"'ED273 Students YTD by District'!D38","v":7},{"$f":"'ED273 Students YTD by District'!E38","v":103},{"$f":"'ED273 Students YTD by District'!F38","v":167},{"$f":"'ED273 Students YTD by District'!G38","v":89},{"$f":"'ED273 Students YTD by District'!H38","v":158},{"$f":"'ED273 Students YTD by District'!I38","v":86},{"$f":"'ED273 Students YTD by District'!J38","v":158},{"$f":"'Classes by District'!F37","v":11},{"$f":"'Classes by District'!G37","v":12}]
[30,{"$f":"'ED273 Students YTD by District'!B39","v":3},"of",{"$f":"'ED273 Students YTD by District'!D39","v":7},{"$f":"'ED273 Students YTD by District'!E39","v":41},{"$f":"'ED273 Students YTD by District'!F39","v":27},{"$f":"'ED273 Students YTD by District'!G39","v":35},{"$f":"'ED273 Students YTD by District'!H39","v":22},{"$f":"'ED273 Students YTD by District'!I39","v":35},{"$f":"'ED273 Students YTD by District'!J39","v":22},{"$f":"'Classes by District'!F38","v":10},{"$f":"'Classes by District'!G38","v":4}]
[null,{"$f":"'ED273 Students YTD by District'!B40","v":0},null,{"$f":"'ED273 Students YTD by District'!D40","v":0},{"$f":"'ED273 Students YTD by District'!E40","v":0},{"$f":"'ED273 Students YTD by District'!F40","v":0},{"$f":"'ED273 Students YTD by District'!G40","v":0},{"$f":"'ED273 Students YTD by District'!H40","v":0},{"$f":"'ED273 Students YTD by District'!I40","v":0},{"$f":"'ED273 Students YTD by District'!J40","v":0},{"$f":"'Classes by District'!F39","v":0},{"$f":"'Classes by District'!G39","v":0}]
[31,{"$f":"'ED273 Students YTD by District'!B41","v":0},"of",{"$f":"'ED273 Students YTD by District'!D41","v":0},{"$f":"'ED273 Students YTD by District'!E41","v":0},{"$f":"'ED273 Students YTD by District'!F41","v":0},{"$f":"'ED273 Students YTD by District'!G41","v":0},{"$f":"'ED273 Students YTD by District'!H41","v":0},{"$f":"'ED273 Students YTD by District'!I41","v":0},{"$f":"'ED273 Students YTD by District'!J41","v":0},{"$f":"'Classes by District'!F40","v":0},{"$f":"'Classes by District'!G40","v":0}]
[32,{"$f":"'ED273 Students YTD by District'!B42","v":3},"of",{"$f":"'ED273 Students YTD by District'!D42","v":6},{"$f":"'ED273 Students YTD by District'!E42","v":23},{"$f":"'ED273 Students YTD by District'!F42","v":39},{"$f":"'ED273 Students YTD by District'!G42","v":22},{"$f":"'ED273 Students YTD by District'!H42","v":37},{"$f":"'ED273 Students YTD by District'!I42","v":22},{"$f":"'ED273 Students YTD by District'!J42","v":36},{"$f":"'Classes by District'!F41","v":7},{"$f":"'Classes by District'!G41","v":8}]
[33,{"$f":"'ED273 Students YTD by District'!B43","v":6},"of",{"$f":"'ED273 Students YTD by District'!D43","v":8},{"$f":"'ED273 Students YTD by District'!E43","v":1394},{"$f":"'ED273 Students YTD by District'!F43","v":1127},{"$f":"'ED273 Students YTD by District'!G43","v":1315},{"$f":"'ED273 Students YTD by District'!H43","v":1017},{"$f":"'ED273 Students YTD by District'!I43","v":1314},{"$f":"'ED273 Students YTD by District'!J43","v":1009},{"$f":"'Classes by District'!F42","v":25},{"$f":"'Classes by District'!G42","v":23}]
[90,{"$f":"'ED273 Students YTD by District'!B44","v":0},"of",{"$f":"'ED273 Students YTD by District'!D44","v":0},{"$f":"'ED273 Students YTD by District'!E44","v":0},{"$f":"'ED273 Students YTD by District'!F44","v":0},{"$f":"'ED273 Students YTD by District'!G44","v":0},{"$f":"'ED273 Students YTD by District'!H44","v":0},{"$f":"'ED273 Students YTD by District'!I44","v":0},{"$f":"'ED273 Students YTD by District'!J44","v":0},{"$f":"'Classes by District'!F43","v":0},{"$f":"'Classes by District'!G43","v":0}]
[99,{"$f":"'ED273 Students YTD by District'!B45","v":0},"of",{"$f":"'ED273 Students YTD by District'!D45","v":3},{"$f":"'ED273 Students YTD by District'!E45","v":0},{"$f":"'ED273 Students YTD by District'!F45","v":0},{"$f":"'ED273 Students YTD by District'!G45","v":0},{"$f":"'ED273 Students YTD by District'!H45","v":0},{"$f":"'ED273 Students YTD by District'!I45","v":0},{"$f":"'ED273 Students YTD by District'!J45","v":0},{"$f":"'Classes by District'!F44","v":0},{"$f":"'Classes by District'!G44","v":0}]
["Totals",{"$f":"SUM(B5:B45)","v":259},"of",{"$f":"SUM(D5:D45)","v":373},8992,8117,8079,7315,8035,7264,{"$f":"SUM(K5:K45)","v":837},747]
["Var",null,null,null,null,{"$f":"F46-E46","v":-875},null,{"$f":"H46-G46","v":-764},null,{"$f":"J46-I46","v":-771},null,{"$f":"L46-K46","v":-90}]
["D/","Squadrons Reporting",null,null,{"$f":"E3","v":"14-15"},"15-16","14-15","15-16","14-15","15-16",{"$f":"K3","v":"14-15"},{"$f":"L3","v":"15-16"}]
[null,null,null,null,"Registration",null,"Examined",null,"Passed",null,"No. of Classes"]
[null,null,null,null,"ABC",null,null,null,null,null,"ABC"]
[]
["Macros"]
["Ctrl u - unhide detailed sheets."]
["Ctrl h - hide detailed sheets"]

{"sheet":"ED272 Students YTD by Squadron","index":3,"n_rows":390,"n_cols":15,"rows_kept":390,"cut":false,"hidden":false,"merged":[[388,5,388,6],[388,7,388,8],[388,9,388,10],[388,11,388,12],[389,3,389,8],[388,3,388,4],[389,9,389,14],[1,7,1,8],[0,3,0,8],[1,5,1,6],[0,0,0,2],[1,3,1,4],[1,0,2,0],[1,1,2,1],[1,2,2,2],[0,9,0,14],[1,9,1,10],[1,11,1,12],[1,13,1,14],[388,13,388,14]]}
["2016-07-29",null,null,"ABC",null,null,null,null,null,"Total"]
["Dist.","Sqdn #","Squadron Name","Registration",null,"Examined",null,"Passed",null,"Registration",null,"Examined",null,"Passed"]
[null,null,null,"14-15","15-16",{"$f":"D3","v":"14-15"},{"$f":"E3","v":"15-16"},{"$f":"D3","v":"14-15"},{"$f":"E3","v":"15-16"},{"$f":"#REF!","v":{"$error":"#REF!"}},{"$f":"#REF!","v":{"$error":"#REF!"}},{"$f":"#REF!","v":{"$error":"#REF!"}},{"$f":"#REF!","v":{"$error":"#REF!"}},{"$f":"#REF!","v":{"$error":"#REF!"}},{"$f":"#REF!","v":{"$error":"#REF!"}}]
[1,2220,"Hartford Power Squadron  ",22,6,22,6,22,6,{"$f":"#REF!+#REF!+D4","v":{"$error":"#REF!"}},{"$f":"#REF!+#REF!+E4","v":{"$error":"#REF!"}},{"$f":"#REF!+#REF!+F4","v":{"$error":"#REF!"}},{"$f":"#REF!+#REF!+G4","v":{"$error":"#REF!"}},{"$f":"#REF!+#REF!+H4","v":{"$error":"#REF!"}},{"$f":"#REF!+#REF!+I4","v":{"$error":"#REF!"}}]
[1,3060,"Manchester Power Squadron",16,0,16,0,16,0,{"$f":"#REF!+#REF!+D5","v":{"$error":"#REF!"}},{"$f":"#REF!+#REF!+E5","v":{"$error":"#REF!"}},{"$f":"#REF!+#REF!+F5","v":{"$error":"#REF!"}},{"$f":"#REF!+#REF!+G5","v":{"$error":"#REF!"}},{"$f":"#REF!+#REF!+H5","v":{"$error":"#REF!"}},{"$f":"#REF!+#REF!+I5","v":{"$error":"#REF!"}}]
[1,3210,"Meriden Power Squadron   ",20,8,16,8,16,8,{"$f":"#REF!+#REF!+D6","v":{"$error":"#REF!"}},{"$f":"#REF!+#REF!+E6","v":{"$error":"#REF!"}},{"$f":"#REF!+#REF!+F6","v":{"$error":"#REF!"}},{"$f":"#REF!+#REF!+G6","v":{"$error":"#REF!"}},{"$f":"#REF!+#REF!+H6","v":{"$error":"#REF!"}},{"$f":"#REF!+#REF!+I6","v":{"$error":"#REF!"}}]
[1,3300,"Middletown Sail & Power  ",5,14,5,13,5,13,{"$f":"#REF!+#REF!+D7","v":{"$error":"#REF!"}},{"$f":"#REF!+#REF!+E7","v":{"$error":"#REF!"}},{"$f":"#REF!+#REF!+F7","v":{"$error":"#REF!"}},{"$f":"#REF!+#REF!+G7","v":{"$error":"#REF!"}},{"$f":"#REF!+#REF!+H7","v":{"$error":"#REF!"}},{"$f":"#REF!+#REF!+I7","v":{"$error":"#REF!"}}]
[1,3375,"Milford Power Squadron   ",0,17,0,15,0,15,{"$f":"#REF!+#REF!+D8","v":{"$error":"#REF!"}},{"$f":"#REF!+#REF!+E8","v":{"$error":"#REF!"}},{"$f":"#REF!+#REF!+F8","v":{"$error":"#REF!"}},{"$f":"#REF!+#REF!+G8","v":{"$error":"#REF!"}},{"$f":"#REF!+#REF!+H8","v":{"$error":"#REF!"}},{"$f":"#REF!+#REF!+I8","v":{"$error":"#REF!"}}]
[1,3690,"New Britain Power Squad  ",12,0,11,0,11,0,{"$f":"#REF!+#REF!+D9","v":{"$error":"#REF!"}},{"$f":"#REF!+#REF!+E9","v":{"$error":"#REF!"}},{"$f":"#REF!+#REF!+F9","v":{"$error":"#REF!"}},{"$f":"#REF!+#REF!+G9","v":{"$error":"#REF!"}},{"$f":"#REF!+#REF!+H9","v":{"$error":"#REF!"}},{"$f":"#REF!+#REF!+I9","v":{"$error":"#REF!"}}]
[1,3705,"New Haven Power Squadron ",2,20,2,20,2,20,{"$f":"#REF!+#REF!+D10","v":{"$error":"#REF!"}},{"$f":"#REF!+#REF!+E10","v":{"$error":"#REF!"}},{"$f":"#REF!+#REF!+F10","v":{"$error":"#REF!"}},{"$f":"#REF!+#REF!+G10","v":{"$error":"#REF!"}},{"$f":"#REF!+#REF!+H10","v":{"$error":"#REF!"}},{"$f":"#REF!+#REF!+I10","v":{"$error":"#REF!"}}]
[1,3720,"New London Power Squadron",12,26,10,24,10,24,{"$f":"#REF!+#REF!+D11","v":{"$error":"#REF!"}},{"$f":"#REF!+#REF!+E11","v":{"$error":"#REF!"}},{"$f":"#REF!+#REF!+F11","v":{"$error":"#REF!"}},{"$f":"#REF!+#REF!+G11","v":{"$error":"#REF!"}},{"$f":"#REF!+#REF!+H11","v":{"$error":"#REF!"}},{"$f":"#REF!+#REF!+I11","v":{"$error":"#REF!"}}]
[1,3915,"Norwich Power Squadron   ",0,0,0,0,0,0,{"$f":"#REF!+#REF!+D12","v":{"$error":"#REF!"}},{"$f":"#REF!+#REF!+E12","v":{"$error":"#REF!"}},{"$f":"#REF!+#REF!+F12","v":{"$error":"#REF!"}},{"$f":"#REF!+#REF!+G12","v":{"$error":"#REF!"}},{"$f":"#REF!+#REF!+H12","v":{"$error":"#REF!"}},{"$f":"#REF!+#REF!+I12","v":{"$error":"#REF!"}}]
[1,5340,"Saybrook Power Squadron  ",8,0,8,0,8,0,{"$f":"#REF!+#REF!+D13","v":{"$error":"#REF!"}},{"$f":"#REF!+#REF!+E13","v":{"$error":"#REF!"}},{"$f":"#REF!+#REF!+F13","v":{"$error":"#REF!"}},{"$f":"#REF!+#REF!+G13","v":{"$error":"#REF!"}},{"$f":"#REF!+#REF!+H13","v":{"$error":"#REF!"}},{"$f":"#REF!+#REF!+I13","v":{"$error":"#REF!"}}]
[1,5655,"Springfield Power Squad  ",15,34,14,32,14,32,{"$f":"#REF!+#REF!+D14","v":{"$error":"#REF!"}},{"$f":"#REF!+#REF!+E14","v":{"$error":"#REF!"}},{"$f":"#REF!+#REF!+F14","v":{"$error":"#REF!"}},{"$f":"#REF!+#REF!+G14","v":{"$error":"#REF!"}},{"$f":"#REF!+#REF!+H14","v":{"$error":"#REF!"}},{"$f":"#REF!+#REF!+I14","v":{"$error":"#REF!"}}]
[1,6150,"Waterbury Power Squadron ",4,8,4,8,4,8,{"$f":"#REF!+#REF!+D15","v":{"$error":"#REF!"}},{"$f":"#REF!+#REF!+E15","v":{"$error":"#REF!"}},{"$f":"#REF!+#REF!+F15","v":{"$error":"#REF!"}},{"$f":"#REF!+#REF!+G15","v":{"$error":"#REF!"}},{"$f":"#REF!+#REF!+H15","v":{"$error":"#REF!"}},{"$f":"#REF!+#REF!+I15","v":{"$error":"#REF!"}}]
[1,6240,"Westerly Power Squadron  ",0,0,0,0,0,0,{"$f":"#REF!+#REF!+D16","v":{"$error":"#REF!"}},{"$f":"#REF!+#REF!+E16","v":{"$error":"#REF!"}},{"$f":"#REF!+#REF!+F16","v":{"$error":"#REF!"}},{"$f":"#REF!+#REF!+G16","v":{"$error":"#REF!"}},{"$f":"#REF!+#REF!+H16","v":{"$error":"#REF!"}},{"$f":"#REF!+#REF!+I16","v":{"$error":"#REF!"}}]
[2,480,"Berkshire Sail & Power Sq",6,13,4,11,4,11,{"$f":"#REF!+#REF!+D17","v":{"$error":"#REF!"}},{"$f":"#REF!+#REF!+E17","v":{"$error":"#REF!"}},{"$f":"#REF!+#REF!+F17","v":{"$error":"#REF!"}},{"$f":"#REF!+#REF!+G17","v":{"$error":"#REF!"}},{"$f":"#REF!+#REF!+H17","v":{"$error":"#REF!"}},{"$f":"#REF!+#REF!+I17","v":{"$error":"#REF!"}}]
[2,990,"Champlain Power Squadron ",0,0,0,0,0,0,{"$f":"#REF!+#REF!+D18","v":{"$error":"#REF!"}},{"$f":"#REF!+#REF!+E18","v":{"$error":"#REF!"}},{"$f":"#REF!+#REF!+F18","v":{"$error":"#REF!"}},{"$f":"#REF!+#REF!+G18","v":{"$error":"#REF!"}},{"$f":"#REF!+#REF!+H18","v":{"$error":"#REF!"}},{"$f":"#REF!+#REF!+I18","v":{"$error":"#REF!"}}]
[2,1365,"Darien Sail & Power Squad",98,88,95,84,95,84,{"$f":"#REF!+#REF!+D19","v":{"$error":"#REF!"}},{"$f":"#REF!+#REF!+E19","v":{"$error":"#REF!"}},{"$f":"#REF!+#REF!+F19","v":{"$error":"#REF!"}},{"$f":"#REF!+#REF!+G19","v":{"$error":"#REF!"}},{"$f":"#REF!+#REF!+H19","v":{"$error":"#REF!"}},{"$f":"#REF!+#REF!+I19","v":{"$error":"#REF!"}}]
[2,875,"Greenwich Sail & Power Sq",97,84,90,83,90,83,{"$f":"#REF!+#REF!+D20","v":{"$error":"#REF!"}},{"$f":"#REF!+#REF!+E20","v":{"$error":"#REF!"}},{"$f":"#REF!+#REF!+F20","v":{"$error":"#REF!"}},{"$f":"#REF!+#REF!+G20","v":{"$error":"#REF!"}},{"$f":"#REF!+#REF!+H20","v":{"$error":"#REF!"}},{"$f":"#REF!+#REF!+I20","v":{"$error":"#REF!"}}]
[2,2730,"Lake Candlewood Power Sqd",15,14,13,14,13,14,{"$f":"#REF!+#REF!+D21","v":{"$error":"#REF!"}},{"$f":"#REF!+#REF!+E21","v":{"$error":"#REF!"}},{"$f":"#REF!+#REF!+F21","v":{"$error":"#REF!"}},{"$f":"#REF!+#REF!+G21","v":{"$error":"#REF!"}},{"$f":"#REF!+#REF!+H21","v":{"$error":"#REF!"}},{"$f":"#REF!+#REF!+I21","v":{"$error":"#REF!"}}]
[2,2760,"Lake George Power Squad  ",0,0,0,0,0,0,{"$f":"#REF!+#REF!+D22","v":{"$error":"#REF!"}},{"$f":"#REF!+#REF!+E22","v":{"$error":"#REF!"}},{"$f":"#REF!+#REF!+F22","v":{"$error":"#REF!"}},{"$f":"#REF!+#REF!+G22","v":{"$error":"#REF!"}},{"$f":"#REF!+#REF!+H22","v":{"$error":"#REF!"}},{"$f":"#REF!+#REF!+I22","v":{"$error":"#REF!"}}]
[2,3315,"Mid-Hudson Power Squadron",7,6,4,6,4,6,{"$f":"#REF!+#REF!+D23","v":{"$error":"#REF!"}},{"$f":"#REF!+#REF!+E23","v":{"$error":"#REF!"}},{"$f":"#REF!+#REF!+F23","v":{"$error":"#REF!"}},{"$f":"#REF!+#REF!+G23","v":{"$error":"#REF!"}},{"$f":"#REF!+#REF!+H23","v":{"$error":"#REF!"}},{"$f":"#REF!+#REF!+I23","v":{"$error":"#REF!"}}]
[2,3480,"Mohawk Hudson Sail &     ",16,4,16,4,16,4,{"$f":"#REF!+#REF!+D24","v":{"$error":"#REF!"}},{"$f":"#REF!+#REF!+E24","v":{"$error":"#REF!"}},{"$f":"#REF!+#REF!+F24","v":{"$error":"#REF!"}},{"$f":"#REF!+#REF!+G24","v":{"$error":"#REF!"}},{"$f":"#REF!+#REF!+H24","v":{"$error":"#REF!"}},{"$f":"#REF!+#REF!+I24","v":{"$error":"#REF!"}}]
[2,3900,"Norwalk Sail & Power Sqd ",7,55,4,52,4,52,{"$f":"#REF!+#REF!+D25","v":{"$error":"#REF!"}},{"$f":"#REF!+#REF!+E25","v":{"$error":"#REF!"}},{"$f":"#REF!+#REF!+F25","v":{"$error":"#REF!"}},{"$f":"#REF!+#REF!+G25","v":{"$error":"#REF!"}},{"$f":"#REF!+#REF!+H25","v":{"$error":"#REF!"}},{"$f":"#REF!+#REF!+I25","v":{"$error":"#REF!"}}]
[2,4290,"Penfield Sail & Power Sqd",15,0,12,0,12,0,{"$f":"#REF!+#REF!+D26","v":{"$error":"#REF!"}},{"$f":"#REF!+#REF!+E26","v":{"$error":"#REF!"}},{"$f":"#REF!+#REF!+F26","v":{"$error":"#REF!"}},{"$f":"#REF!+#REF!+G26","v":{"$error":"#REF!"}},{"$f":"#REF!+#REF!+H26","v":{"$error":"#REF!"}},{"$f":"#REF!+#REF!+I26","v":{"$error":"#REF!"}}]
[2,4875,"Sacandaga Power Squadron ",33,2,32,2,32,2,{"$f":"#REF!+#REF!+D27","v":{"$error":"#REF!"}},{"$f":"#REF!+#REF!+E27","v":{"$error":"#REF!"}},{"$f":"#REF!+#REF!+F27","v":{"$error":"#REF!"}},{"$f":"#REF!+#REF!+G27","v":{"$error":"#REF!"}},{"$f":"#REF!+#REF!+H27","v":{"$error":"#REF!"}},{"$f":"#REF!+#REF!+I27","v":{"$error":"#REF!"}}]
[2,5310,"Saugatuck River Sail &   ",8,7,8,7,8,7,{"$f":"#REF!+#REF!+D28","v":{"$error":"#REF!"}},{"$f":"#REF!+#REF!+E28","v":{"$error":"#REF!"}},{"$f":"#REF!+#REF!+F28","v":{"$error":"#REF!"}},{"$f":"#REF!+#REF!+G28","v":{"$error":"#REF!"}},{"$f":"#REF!+#REF!+H28","v":{"$error":"#REF!"}},{"$f":"#REF!+#REF!+I28","v":{"$error":"#REF!"}}]
[2,5670,"Stamford Sail & Power Sqd",24,15,14,6,14,6,{"$f":"#REF!+#REF!+D29","v":{"$error":"#REF!"}},{"$f":"#REF!+#REF!+E29","v":{"$error":"#REF!"}},{"$f":"#REF!+#REF!+F29","v":{"$error":"#REF!"}},{"$f":"#REF!+#REF!+G29","v":{"$error":"#REF!"}},{"$f":"#REF!+#REF!+H29","v":{"$error":"#REF!"}},{"$f":"#REF!+#REF!+I29","v":{"$error":"#REF!"}}]
[2,5710,"Storm King Power Squadron",25,10,25,10,25,10,{"$f":"#REF!+#REF!+D30","v":{"$error":"#REF!"}},{"$f":"#REF!+#REF!+E30","v":{"$error":"#REF!"}},{"$f":"#REF!+#REF!+F30","v":{"$error":"#REF!"}},{"$f":"#REF!+#REF!+G30","v":{"$error":"#REF!"}},{"$f":"#REF!+#REF!+H30","v":{"$error":"#REF!"}},{"$f":"#REF!+#REF!+I30","v":{"$error":"#REF!"}}]
[2,6225,"Westchester Power Squad  ",15,13,10,11,10,11,{"$f":"#REF!+#REF!+D31","v":{"$error":"#REF!"}},{"$f":"#REF!+#REF!+E31","v":{"$error":"#REF!"}},{"$f":"#REF!+#REF!+F31","v":{"$error":"#REF!"}},{"$f":"#REF!+#REF!+G31","v":{"$error":"#REF!"}},{"$f":"#REF!+#REF!+H31","v":{"$error":"#REF!"}},{"$f":"#REF!+#REF!+I31","v":{"$error":"#REF!"}}]
[3,390,"Bayside Power Squadron   ",13,3,7,2,7,2,{"$f":"#REF!+#REF!+D32","v":{"$error":"#REF!"}},{"$f":"#REF!+#REF!+E32","v":{"$error":"#REF!"}},{"$f":"#REF!+#REF!+F32","v":{"$error":"#REF!"}},{"$f":"#REF!+#REF!+G32","v":{"$error":"#REF!"}},{"$f":"#REF!+#REF!+H32","v":{"$error":"#REF!"}},{"$f":"#REF!+#REF!+I32","v":{"$error":"#REF!"}}]
[3,690,"Brooklyn Power Squadron  ",0,0,0,0,0,0,{"$f":"#REF!+#REF!+D33","v":{"$error":"#REF!"}},{"$f":"#REF!+#REF!+E33","v":{"$error":"#REF!"}},{"$f":"#REF!+#REF!+F33","v":{"$error":"#REF!"}},{"$f":"#REF!+#REF!+G33","v":{"$error":"#REF!"}},{"$f":"#REF!+#REF!+H33","v":{"$error":"#REF!"}},{"$f":"#REF!+#REF!+I33","v":{"$error":"#REF!"}}]
[3,885,"Captree Power Squadron   ",27,21,26,20,26,20,{"$f":"#REF!+#REF!+D34","v":{"$error":"#REF!"}},{"$f":"#REF!+#REF!+E34","v":{"$error":"#REF!"}},{"$f":"#REF!+#REF!+F34","v":{"$error":"#REF!"}},{"$f":"#REF!+#REF!+G34","v":{"$error":"#REF!"}},{"$f":"#REF!+#REF!+H34","v":{"$error":"#REF!"}},{"$f":"#REF!+#REF!+I34","v":{"$error":"#REF!"}}]
[3,2070,"Great South Bay Sail &   ",55,24,54,22,54,22,{"$f":"#REF!+#REF!+D35","v":{"$error":"#REF!"}},{"$f":"#REF!+#REF!+E35","v":{"$error":"#REF!"}},{"$f":"#REF!+#REF!+F35","v":{"$error":"#REF!"}},{"$f":"#REF!+#REF!+G35","v":{"$error":"#REF!"}},{"$f":"#REF!+#REF!+H35","v":{"$error":"#REF!"}},{"$f":"#REF!+#REF!+I35","v":{"$error":"#REF!"}}]
[3,2265,"Hempstead Bay Power Squad",78,44,69,30,69,30,{"$f":"#REF!+#REF!+D36","v":{"$error":"#REF!"}},{"$f":"#REF!+#REF!+E36","v":{"$error":"#REF!"}},{"$f":"#REF!+#REF!+F36","v":{"$error":"#REF!"}},{"$f":"#REF!+#REF!+G36","v":{"$error":"#REF!"}},{"$f":"#REF!+#REF!+H36","v":{"$error":"#REF!"}},{"$f":"#REF!+#REF!+I36","v":{"$error":"#REF!"}}]
[3,2520,"Jones Beach Power Squad  ",14,22,11,22,11,22,{"$f":"#REF!+#REF!+D37","v":{"$error":"#REF!"}},{"$f":"#REF!+#REF!+E37","v":{"$error":"#REF!"}},{"$f":"#REF!+#REF!+F37","v":{"$error":"#REF!"}},{"$f":"#REF!+#REF!+G37","v":{"$error":"#REF!"}},{"$f":"#REF!+#REF!+H37","v":{"$error":"#REF!"}},{"$f":"#REF!+#REF!+I37","v":{"$error":"#REF!"}}]
[3,3510,"Moriches Bay Power Squad ",25,57,24,57,24,57,{"$f":"#REF!+#REF!+D38","v":{"$error":"#REF!"}},{"$f":"#REF!+#REF!+E38","v":{"$error":"#REF!"}},{"$f":"#REF!+#REF!+F38","v":{"$error":"#REF!"}},{"$f":"#REF!+#REF!+G38","v":{"$error":"#REF!"}},{"$f":"#REF!+#REF!+H38","v":{"$error":"#REF!"}},{"$f":"#REF!+#REF!+I38","v":{"$error":"#REF!"}}]
[3,3645,"Neptune Power Squadron   ",2,10,2,10,2,10,{"$f":"#REF!+#REF!+D39","v":{"$error":"#REF!"}},{"$f":"#REF!+#REF!+E39","v":{"$error":"#REF!"}},{"$f":"#REF!+#REF!+F39","v":{"$error":"#REF!"}},{"$f":"#REF!+#REF!+G39","v":{"$error":"#REF!"}},{"$f":"#REF!+#REF!+H39","v":{"$error":"#REF!"}},{"$f":"#REF!+#REF!+I39","v":{"$error":"#REF!"}}]
[3,4035,"Old Field Point Power Sqd",0,0,0,0,0,0,{"$f":"#REF!+#REF!+D40","v":{"$error":"#REF!"}},{"$f":"#REF!+#REF!+E40","v":{"$error":"#REF!"}},{"$f":"#REF!+#REF!+F40","v":{"$error":"#REF!"}},{"$f":"#REF!+#REF!+G40","v":{"$error":"#REF!"}},{"$f":"#REF!+#REF!+H40","v":{"$error":"#REF!"}},{"$f":"#REF!+#REF!+I40","v":{"$error":"#REF!"}}]
[3,4125,"Oyster Bay Power Squadron",25,35,25,33,25,33,{"$f":"#REF!+#REF!+D41","v":{"$error":"#REF!"}},{"$f":"#REF!+#REF!+E41","v":{"$error":"#REF!"}},{"$f":"#REF!+#REF!+F41","v":{"$error":"#REF!"}},{"$f":"#REF!+#REF!+G41","v":{"$error":"#REF!"}},{"$f":"#REF!+#REF!+H41","v":{"$error":"#REF!"}},{"$f":"#REF!+#REF!+I41","v":{"$error":"#REF!"}}]
[3,4215,"Patchogue Bay Power Squad",12,28,11,24,11,24,{"$f":"#REF!+#REF!+D42","v":{"$error":"#REF!"}},{"$f":"#REF!+#REF!+E42","v":{"$error":"#REF!"}},{"$f":"#REF!+#REF!+F42","v":{"$error":"#REF!"}},{"$f":"#REF!+#REF!+G42","v":{"$error":"#REF!"}},{"$f":"#REF!+#REF!+H42","v":{"$error":"#REF!"}},{"$f":"#REF!+#REF!+I42","v":{"$error":"#REF!"}}]
[3,4260,"Peconic Bay Power Squad  ",15,91,15,85,15,76,{"$f":"#REF!+#REF!+D43","v":{"$error":"#REF!"}},{"$f":"#REF!+#REF!+E43","v":{"$error":"#REF!"}},{"$f":"#REF!+#REF!+F43","v":{"$error":"#REF!"}},{"$f":"#REF!+#REF!+G43","v":{"$error":"#REF!"}},{"$f":"#REF!+#REF!+H43","v":{"$error":"#REF!"}},{"$f":"#REF!+#REF!+I43","v":{"$error":"#REF!"}}]
[3,2865,"Port Washington Sail &   ",8,15,5,8,5,8,{"$f":"#REF!+#REF!+D44","v":{"$error":"#REF!"}},{"$f":"#REF!+#REF!+E44","v":{"$error":"#REF!"}},{"$f":"#REF!+#REF!+F44","v":{"$error":"#REF!"}},{"$f":"#REF!+#REF!+G44","v":{"$error":"#REF!"}},{"$f":"#REF!+#REF!+H44","v":{"$error":"#REF!"}},{"$f":"#REF!+#REF!+I44","v":{"$error":"#REF!"}}]
[3,5430,"Sewanhaka Power Squadron ",21,38,18,37,18,37,{"$f":"#REF!+#REF!+D45","v":{"$error":"#REF!"}},{"$f":"#REF!+#REF!+E45","v":{"$error":"#REF!"}},{"$f":"#REF!+#REF!+F45","v":{"$error":"#REF!"}},{"$f":"#REF!+#REF!+G45","v":{"$error":"#REF!"}},{"$f":"#REF!+#REF!+H45","v":{"$error":"#REF!"}},{"$f":"#REF!+#REF!+I45","v":{"$error":"#REF!"}}]
[3,5520,"Smithtown Bay Power Squad",18,30,14,28,14,27,{"$f":"#REF!+#REF!+D46","v":{"$error":"#REF!"}},{"$f":"#REF!+#REF!+E46","v":{"$error":"#REF!"}},{"$f":"#REF!+#REF!+F46","v":{"$error":"#REF!"}},{"$f":"#REF!+#REF!+G46","v":{"$error":"#REF!"}},{"$f":"#REF!+#REF!+H46","v":{"$error":"#REF!"}},{"$f":"#REF!+#REF!+I46","v":{"$error":"#REF!"}}]
[3,5640,"South Shore Power Squad  ",14,5,14,5,14,5,{"$f":"#REF!+#REF!+D47","v":{"$error":"#REF!"}},{"$f":"#REF!+#REF!+E47","v":{"$error":"#REF!"}},{"$f":"#REF!+#REF!+F47","v":{"$error":"#REF!"}},{"$f":"#REF!+#REF!+G47","v":{"$error":"#REF!"}},{"$f":"#REF!+#REF!+H47","v":{"$error":"#REF!"}},{"$f":"#REF!+#REF!+I47","v":{"$error":"#REF!"}}]
[4,360,"Barnegat Bay Sail & Power",0,0,0,0,0,0,{"$f":"#REF!+#REF!+D48","v":{"$error":"#REF!"}},{"$f":"#REF!+#REF!+E48","v":{"$error":"#REF!"}},{"$f":"#REF!+#REF!+F48","v":{"$error":"#REF!"}},{"$f":"#REF!+#REF!+G48","v":{"$error":"#REF!"}},{"$f":"#REF!+#REF!+H48","v":{"$error":"#REF!"}},{"$f":"#REF!+#REF!+I48","v":{"$error":"#REF!"}}]
[4,675,"Bronx Power Squadron     ",0,0,0,0,0,0,{"$f":"#REF!+#REF!+D49","v":{"$error":"#REF!"}},{"$f":"#REF!+#REF!+E49","v":{"$error":"#REF!"}},{"$f":"#REF!+#REF!+F49","v":{"$error":"#REF!"}},{"$f":"#REF!+#REF!+G49","v":{"$error":"#REF!"}},{"$f":"#REF!+#REF!+H49","v":{"$error":"#REF!"}},{"$f":"#REF!+#REF!+I49","v":{"$error":"#REF!"}}]
[4,1100,"City Island Power Squad  ",20,15,15,14,15,14,{"$f":"#REF!+#REF!+D50","v":{"$error":"#REF!"}},{"$f":"#REF!+#REF!+E50","v":{"$error":"#REF!"}},{"$f":"#REF!+#REF!+F50","v":{"$error":"#REF!"}},{"$f":"#REF!+#REF!+G50","v":{"$error":"#REF!"}},{"$f":"#REF!+#REF!+H50","v":{"$error":"#REF!"}},{"$f":"#REF!+#REF!+I50","v":{"$error":"#REF!"}}]
[4,2715,"Lackawanna Sail & Power  ",12,0,12,0,12,0,{"$f":"#REF!+#REF!+D51","v":{"$error":"#REF!"}},{"$f":"#REF!+#REF!+E51","v":{"$error":"#REF!"}},{"$f":"#REF!+#REF!+F51","v":{"$error":"#REF!"}},{"$f":"#REF!+#REF!+G51","v":{"$error":"#REF!"}},{"$f":"#REF!+#REF!+H51","v":{"$error":"#REF!"}},{"$f":"#REF!+#REF!+I51","v":{"$error":"#REF!"}}]
[4,2340,"Lake Hopatcong Sail &    ",28,0,28,0,28,0,{"$f":"#REF!+#REF!+D52","v":{"$error":"#REF!"}},{"$f":"#REF!+#REF!+E52","v":{"$error":"#REF!"}},{"$f":"#REF!+#REF!+F52","v":{"$error":"#REF!"}},{"$f":"#REF!+#REF!+G52","v":{"$error":"#REF!"}},{"$f":"#REF!+#REF!+H52","v":{"$error":"#REF!"}},{"$f":"#REF!+#REF!+I52","v":{"$error":"#REF!"}}]
[4,2840,"Liberty Harbor Power Sqd ",0,0,0,0,0,0,{"$f":"#REF!+#REF!+D53","v":{"$error":"#REF!"}},{"$f":"#REF!+#REF!+E53","v":{"$error":"#REF!"}},{"$f":"#REF!+#REF!+F53","v":{"$error":"#REF!"}},{"$f":"#REF!+#REF!+G53","v":{"$error":"#REF!"}},{"$f":"#REF!+#REF!+H53","v":{"$error":"#REF!"}},{"$f":"#REF!+#REF!+I53","v":{"$error":"#REF!"}}]
[4,3780,"New York Sail & Power Sqd",0,6,0,5,0,5,{"$f":"#REF!+#REF!+D54","v":{"$error":"#REF!"}},{"$f":"#REF!+#REF!+E54","v":{"$error":"#REF!"}},{"$f":"#REF!+#REF!+F54","v":{"$error":"#REF!"}},{"$f":"#REF!+#REF!+G54","v":{"$error":"#REF!"}},{"$f":"#REF!+#REF!+H54","v":{"$error":"#REF!"}},{"$f":"#REF!+#REF!+I54","v":{"$error":"#REF!"}}]
[4,3885,"North River Power Squad  ",0,13,0,13,0,13,{"$f":"#REF!+#REF!+D55","v":{"$error":"#REF!"}},{"$f":"#REF!+#REF!+E55","v":{"$error":"#REF!"}},{"$f":"#REF!+#REF!+F55","v":{"$error":"#REF!"}},{"$f":"#REF!+#REF!+G55","v":{"$error":"#REF!"}},{"$f":"#REF!+#REF!+H55","v":{"$error":"#REF!"}},{"$f":"#REF!+#REF!+I55","v":{"$error":"#REF!"}}]
[4,3855,"Northern New Jersey Sail ",13,22,13,22,13,22,{"$f":"#REF!+#REF!+D56","v":{"$error":"#REF!"}},{"$f":"#REF!+#REF!+E56","v":{"$error":"#REF!"}},{"$f":"#REF!+#REF!+F56","v":{"$error":"#REF!"}},{"$f":"#REF!+#REF!+G56","v":{"$error":"#REF!"}},{"$f":"#REF!+#REF!+H56","v":{"$error":"#REF!"}},{"$f":"#REF!+#REF!+I56","v":{"$error":"#REF!"}}]
[4,4155,"Palisades Power Squadron ",41,4,41,4,41,4,{"$f":"#REF!+#REF!+D57","v":{"$error":"#REF!"}},{"$f":"#REF!+#REF!+E57","v":{"$error":"#REF!"}},{"$f":"#REF!+#REF!+F57","v":{"$error":"#REF!"}},{"$f":"#REF!+#REF!+G57","v":{"$error":"#REF!"}},{"$f":"#REF!+#REF!+H57","v":{"$error":"#REF!"}},{"$f":"#REF!+#REF!+I57","v":{"$error":"#REF!"}}]
[4,4650,"Raritan Bay Power Squad  ",4,2,4,2,4,2,{"$f":"#REF!+#REF!+D58","v":{"$error":"#REF!"}},{"$f":"#REF!+#REF!+E58","v":{"$error":"#REF!"}},{"$f":"#REF!+#REF!+F58","v":{"$error":"#REF!"}},{"$f":"#REF!+#REF!+G58","v":{"$error":"#REF!"}},{"$f":"#REF!+#REF!+H58","v":{"$error":"#REF!"}},{"$f":"#REF!+#REF!+I58","v":{"$error":"#REF!"}}]
[4,5475,"Shrewsbury Power Squadron",0,0,0,0,0,0,{"$f":"#REF!+#REF!+D59","v":{"$error":"#REF!"}},{"$f":"#REF!+#REF!+E59","v":{"$error":"#REF!"}},{"$f":"#REF!+#REF!+F59","v":{"$error":"#REF!"}},{"$f":"#REF!+#REF!+G59","v":{"$error":"#REF!"}},{"$f":"#REF!+#REF!+H59","v":{"$error":"#REF!"}},{"$f":"#REF!+#REF!+I59","v":{"$error":"#REF!"}}]
[4,5700,"Staten Island Power Squad",33,27,32,27,32,27,{"$f":"#REF!+#REF!+D60","v":{"$error":"#REF!"}},{"$f":"#REF!+#REF!+E60","v":{"$error":"#REF!"}},{"$f":"#REF!+#REF!+F60","v":{"$error":"#REF!"}},{"$f":"#REF!+#REF!+G60","v":{"$error":"#REF!"}},{"$f":"#REF!+#REF!+H60","v":{"$error":"#REF!"}},{"$f":"#REF!+#REF!+I60","v":{"$error":"#REF!"}}]
[4,6135,"Watchung Sail & Power Sqd",7,1,7,1,7,1,{"$f":"#REF!+#REF!+D61","v":{"$error":"#REF!"}},{"$f":"#REF!+#REF!+E61","v":{"$error":"#REF!"}},{"$f":"#REF!+#REF!+F61","v":{"$error":"#REF!"}},{"$f":"#REF!+#REF!+G61","v":{"$error":"#REF!"}},{"$f":"#REF!+#REF!+H61","v":{"$error":"#REF!"}},{"$f":"#REF!+#REF!+I61","v":{"$error":"#REF!"}}]
[5,15,"Absecon Island Power Sqd ",38,0,37,0,37,0,{"$f":"#REF!+#REF!+D62","v":{"$error":"#REF!"}},{"$f":"#REF!+#REF!+E62","v":{"$error":"#REF!"}},{"$f":"#REF!+#REF!+F62","v":{"$error":"#REF!"}},{"$f":"#REF!+#REF!+G62","v":{"$error":"#REF!"}},{"$f":"#REF!+#REF!+H62","v":{"$error":"#REF!"}},{"$f":"#REF!+#REF!+I62","v":{"$error":"#REF!"}}]
[5,165,"Annapolis Sail & Power Sq",0,0,0,0,0,0,{"$f":"#REF!+#REF!+D63","v":{"$error":"#REF!"}},{"$f":"#REF!+#REF!+E63","v":{"$error":"#REF!"}},{"$f":"#REF!+#REF!+F63","v":{"$error":"#REF!"}},{"$f":"#REF!+#REF!+G63","v":{"$error":"#REF!"}},{"$f":"#REF!+#REF!+H63","v":{"$error":"#REF!"}},{"$f":"#REF!+#REF!+I63","v":{"$error":"#REF!"}}]
[5,765,"Cambridge Sail & Power Sq",0,4,0,4,0,4,{"$f":"#REF!+#REF!+D64","v":{"$error":"#REF!"}},{"$f":"#REF!+#REF!+E64","v":{"$error":"#REF!"}},{"$f":"#REF!+#REF!+F64","v":{"$error":"#REF!"}},{"$f":"#REF!+#REF!+G64","v":{"$error":"#REF!"}},{"$f":"#REF!+#REF!+H64","v":{"$error":"#REF!"}},{"$f":"#REF!+#REF!+I64","v":{"$error":"#REF!"}}]
[5,1156,"Colonial Sail & Power Sqd",0,0,0,0,0,0,{"$f":"#REF!+#REF!+D65","v":{"$error":"#REF!"}},{"$f":"#REF!+#REF!+E65","v":{"$error":"#REF!"}},{"$f":"#REF!+#REF!+F65","v":{"$error":"#REF!"}},{"$f":"#REF!+#REF!+G65","v":{"$error":"#REF!"}},{"$f":"#REF!+#REF!+H65","v":{"$error":"#REF!"}},{"$f":"#REF!+#REF!+I65","v":{"$error":"#REF!"}}]
[5,1440,"Delaware River Power Sqd ",13,7,12,7,12,7,{"$f":"#REF!+#REF!+D66","v":{"$error":"#REF!"}},{"$f":"#REF!+#REF!+E66","v":{"$error":"#REF!"}},{"$f":"#REF!+#REF!+F66","v":{"$error":"#REF!"}},{"$f":"#REF!+#REF!+G66","v":{"$error":"#REF!"}},{"$f":"#REF!+#REF!+H66","v":{"$error":"#REF!"}},{"$f":"#REF!+#REF!+I66","v":{"$error":"#REF!"}}]
[5,1455,"Delhigh Power Squadron   ",21,0,21,0,21,0,{"$f":"#REF!+#REF!+D67","v":{"$error":"#REF!"}},{"$f":"#REF!+#REF!+E67","v":{"$error":"#REF!"}},{"$f":"#REF!+#REF!+F67","v":{"$error":"#REF!"}},{"$f":"#REF!+#REF!+G67","v":{"$error":"#REF!"}},{"$f":"#REF!+#REF!+H67","v":{"$error":"#REF!"}},{"$f":"#REF!+#REF!+I67","v":{"$error":"#REF!"}}]
[5,1485,"Delsea Power Squadron    ",35,32,35,32,35,32,{"$f":"#REF!+#REF!+D68","v":{"$error":"#REF!"}},{"$f":"#REF!+#REF!+E68","v":{"$error":"#REF!"}},{"$f":"#REF!+#REF!+F68","v":{"$error":"#REF!"}},{"$f":"#REF!+#REF!+G68","v":{"$error":"#REF!"}},{"$f":"#REF!+#REF!+H68","v":{"$error":"#REF!"}},{"$f":"#REF!+#REF!+I68","v":{"$error":"#REF!"}}]
[5,1560,"Dundalk Sail & Power Sqd ",33,29,17,24,17,24,{"$f":"#REF!+#REF!+D69","v":{"$error":"#REF!"}},{"$f":"#REF!+#REF!+E69","v":{"$error":"#REF!"}},{"$f":"#REF!+#REF!+F69","v":{"$error":"#REF!"}},{"$f":"#REF!+#REF!+G69","v":{"$error":"#REF!"}},{"$f":"#REF!+#REF!+H69","v":{"$error":"#REF!"}},{"$f":"#REF!+#REF!+I69","v":{"$error":"#REF!"}}]
[5,1620,"Elizabeth River Power Sq ",0,0,0,0,0,0,{"$f":"#REF!+#REF!+D70","v":{"$error":"#REF!"}},{"$f":"#REF!+#REF!+E70","v":{"$error":"#REF!"}},{"$f":"#REF!+#REF!+F70","v":{"$error":"#REF!"}},{"$f":"#REF!+#REF!+G70","v":{"$error":"#REF!"}},{"$f":"#REF!+#REF!+H70","v":{"$error":"#REF!"}},{"$f":"#REF!+#REF!+I70","v":{"$error":"#REF!"}}]
[5,2205,"Hampton Roads Power Squad",0,4,0,4,0,4,{"$f":"#REF!+#REF!+D71","v":{"$error":"#REF!"}},{"$f":"#REF!+#REF!+E71","v":{"$error":"#REF!"}},{"$f":"#REF!+#REF!+F71","v":{"$error":"#REF!"}},{"$f":"#REF!+#REF!+G71","v":{"$error":"#REF!"}},{"$f":"#REF!+#REF!+H71","v":{"$error":"#REF!"}},{"$f":"#REF!+#REF!+I71","v":{"$error":"#REF!"}}]
[5,2590,"Kent Narrows Sail & Power",13,12,6,9,6,9,{"$f":"#REF!+#REF!+D72","v":{"$error":"#REF!"}},{"$f":"#REF!+#REF!+E72","v":{"$error":"#REF!"}},{"$f":"#REF!+#REF!+F72","v":{"$error":"#REF!"}},{"$f":"#REF!+#REF!+G72","v":{"$error":"#REF!"}},{"$f":"#REF!+#REF!+H72","v":{"$error":"#REF!"}},{"$f":"#REF!+#REF!+I72","v":{"$error":"#REF!"}}]
[5,2685,"Kingsway Power Squadron  ",0,0,0,0,0,0,{"$f":"#REF!+#REF!+D73","v":{"$error":"#REF!"}},{"$f":"#REF!+#REF!+E73","v":{"$error":"#REF!"}},{"$f":"#REF!+#REF!+F73","v":{"$error":"#REF!"}},{"$f":"#REF!+#REF!+G73","v":{"$error":"#REF!"}},{"$f":"#REF!+#REF!+H73","v":{"$error":"#REF!"}},{"$f":"#REF!+#REF!+I73","v":{"$error":"#REF!"}}]
[5,3045,"Main Line Power Squadron ",68,47,67,47,67,47,{"$f":"#REF!+#REF!+D74","v":{"$error":"#REF!"}},{"$f":"#REF!+#REF!+E74","v":{"$error":"#REF!"}},{"$f":"#REF!+#REF!+F74","v":{"$error":"#REF!"}},{"$f":"#REF!+#REF!+G74","v":{"$error":"#REF!"}},{"$f":"#REF!+#REF!+H74","v":{"$error":"#REF!"}},{"$f":"#REF!+#REF!+I74","v":{"$error":"#REF!"}}]
[5,3340,"Mid-Potomac Power Squad  ",8,8,8,6,8,6,{"$f":"#REF!+#REF!+D75","v":{"$error":"#REF!"}},{"$f":"#REF!+#REF!+E75","v":{"$error":"#REF!"}},{"$f":"#REF!+#REF!+F75","v":{"$error":"#REF!"}},{"$f":"#REF!+#REF!+G75","v":{"$error":"#REF!"}},{"$f":"#REF!+#REF!+H75","v":{"$error":"#REF!"}},{"$f":"#REF!+#REF!+I75","v":{"$error":"#REF!"}}]
[5,3360,"Miles River Sail & Power ",0,0,0,0,0,0,{"$f":"#REF!+#REF!+D76","v":{"$error":"#REF!"}},{"$f":"#REF!+#REF!+E76","v":{"$error":"#REF!"}},{"$f":"#REF!+#REF!+F76","v":{"$error":"#REF!"}},{"$f":"#REF!+#REF!+G76","v":{"$error":"#REF!"}},{"$f":"#REF!+#REF!+H76","v":{"$error":"#REF!"}},{"$f":"#REF!+#REF!+I76","v":{"$error":"#REF!"}}]
[5,3600,"Nansemond River Power Sqd",20,14,20,14,20,14,{"$f":"#REF!+#REF!+D77","v":{"$error":"#REF!"}},{"$f":"#REF!+#REF!+E77","v":{"$error":"#REF!"}},{"$f":"#REF!+#REF!+F77","v":{"$error":"#REF!"}},{"$f":"#REF!+#REF!+G77","v":{"$error":"#REF!"}},{"$f":"#REF!+#REF!+H77","v":{"$error":"#REF!"}},{"$f":"#REF!+#REF!+I77","v":{"$error":"#REF!"}}]
[5,3605,"Nanticoke River Sail &   ",0,0,0,0,0,0,{"$f":"#REF!+#REF!+D78","v":{"$error":"#REF!"}},{"$f":"#REF!+#REF!+E78","v":{"$error":"#REF!"}},{"$f":"#REF!+#REF!+F78","v":{"$error":"#REF!"}},{"$f":"#REF!+#REF!+G78","v":{"$error":"#REF!"}},{"$f":"#REF!+#REF!+H78","v":{"$error":"#REF!"}},{"$f":"#REF!+#REF!+I78","v":{"$error":"#REF!"}}]
[5,3850,"Northern Neck Sail &     ",0,0,0,0,0,0,{"$f":"#REF!+#REF!+D79","v":{"$error":"#REF!"}},{"$f":"#REF!+#REF!+E79","v":{"$error":"#REF!"}},{"$f":"#REF!+#REF!+F79","v":{"$error":"#REF!"}},{"$f":"#REF!+#REF!+G79","v":{"$error":"#REF!"}},{"$f":"#REF!+#REF!+H79","v":{"$error":"#REF!"}},{"$f":"#REF!+#REF!+I79","v":{"$error":"#REF!"}}]
[5,3870,"Northrn Virginia Sail &  ",0,0,0,0,0,0,{"$f":"#REF!+#REF!+D80","v":{"$error":"#REF!"}},{"$f":"#REF!+#REF!+E80","v":{"$error":"#REF!"}},{"$f":"#REF!+#REF!+F80","v":{"$error":"#REF!"}},{"$f":"#REF!+#REF!+G80","v":{"$error":"#REF!"}},{"$f":"#REF!+#REF!+H80","v":{"$error":"#REF!"}},{"$f":"#REF!+#REF!+I80","v":{"$error":"#REF!"}}]
[5,3980,"Ocean City Power Squadron",44,29,26,29,26,29,{"$f":"#REF!+#REF!+D81","v":{"$error":"#REF!"}},{"$f":"#REF!+#REF!+E81","v":{"$error":"#REF!"}},{"$f":"#REF!+#REF!+F81","v":{"$error":"#REF!"}},{"$f":"#REF!+#REF!+G81","v":{"$error":"#REF!"}},{"$f":"#REF!+#REF!+H81","v":{"$error":"#REF!"}},{"$f":"#REF!+#REF!+I81","v":{"$error":"#REF!"}}]
[5,4200,"Patapsco River Power Sqd ",15,19,9,16,9,16,{"$f":"#REF!+#REF!+D82","v":{"$error":"#REF!"}},{"$f":"#REF!+#REF!+E82","v":{"$error":"#REF!"}},{"$f":"#REF!+#REF!+F82","v":{"$error":"#REF!"}},{"$f":"#REF!+#REF!+G82","v":{"$error":"#REF!"}},{"$f":"#REF!+#REF!+H82","v":{"$error":"#REF!"}},{"$f":"#REF!+#REF!+I82","v":{"$error":"#REF!"}}]
[5,4230,"Patuxent River Sail &    ",27,10,16,7,16,7,{"$f":"#REF!+#REF!+D83","v":{"$error":"#REF!"}},{"$f":"#REF!+#REF!+E83","v":{"$error":"#REF!"}},{"$f":"#REF!+#REF!+F83","v":{"$error":"#REF!"}},{"$f":"#REF!+#REF!+G83","v":{"$error":"#REF!"}},{"$f":"#REF!+#REF!+H83","v":{"$error":"#REF!"}},{"$f":"#REF!+#REF!+I83","v":{"$error":"#REF!"}}]
[5,4545,"Potomac River Power Sqd  ",8,17,6,14,6,14,{"$f":"#REF!+#REF!+D84","v":{"$error":"#REF!"}},{"$f":"#REF!+#REF!+E84","v":{"$error":"#REF!"}},{"$f":"#REF!+#REF!+F84","v":{"$error":"#REF!"}},{"$f":"#REF!+#REF!+G84","v":{"$error":"#REF!"}},{"$f":"#REF!+#REF!+H84","v":{"$error":"#REF!"}},{"$f":"#REF!+#REF!+I84","v":{"$error":"#REF!"}}]
[5,4710,"Richmond Sail & Power Sqd",0,0,0,0,0,0,{"$f":"#REF!+#REF!+D85","v":{"$error":"#REF!"}},{"$f":"#REF!+#REF!+E85","v":{"$error":"#REF!"}},{"$f":"#REF!+#REF!+F85","v":{"$error":"#REF!"}},{"$f":"#REF!+#REF!+G85","v":{"$error":"#REF!"}},{"$f":"#REF!+#REF!+H85","v":{"$error":"#REF!"}},{"$f":"#REF!+#REF!+I85","v":{"$error":"#REF!"}}]
[5,4785,"Rockville Sail & Power   ",0,4,0,4,0,4,{"$f":"#REF!+#REF!+D86","v":{"$error":"#REF!"}},{"$f":"#REF!+#REF!+E86","v":{"$error":"#REF!"}},{"$f":"#REF!+#REF!+F86","v":{"$error":"#REF!"}},{"$f":"#REF!+#REF!+G86","v":{"$error":"#REF!"}},{"$f":"#REF!+#REF!+H86","v":{"$error":"#REF!"}},{"$f":"#REF!+#REF!+I86","v":{"$error":"#REF!"}}]
[5,5055,"Salisbury Power Squadron ",6,3,5,3,5,3,{"$f":"#REF!+#REF!+D87","v":{"$error":"#REF!"}},{"$f":"#REF!+#REF!+E87","v":{"$error":"#REF!"}},{"$f":"#REF!+#REF!+F87","v":{"$error":"#REF!"}},{"$f":"#REF!+#REF!+G87","v":{"$error":"#REF!"}},{"$f":"#REF!+#REF!+H87","v":{"$error":"#REF!"}},{"$f":"#REF!+#REF!+I87","v":{"$error":"#REF!"}}]
[5,4860,"Smith Mtn Lake Sail &    ",50,121,50,121,50,121,{"$f":"#REF!+#REF!+D88","v":{"$error":"#REF!"}},{"$f":"#REF!+#REF!+E88","v":{"$error":"#REF!"}},{"$f":"#REF!+#REF!+F88","v":{"$error":"#REF!"}},{"$f":"#REF!+#REF!+G88","v":{"$error":"#REF!"}},{"$f":"#REF!+#REF!+H88","v":{"$error":"#REF!"}},{"$f":"#REF!+#REF!+I88","v":{"$error":"#REF!"}}]
[5,5745,"Susquehannock Power Squad",4,0,4,0,4,0,{"$f":"#REF!+#REF!+D89","v":{"$error":"#REF!"}},{"$f":"#REF!+#REF!+E89","v":{"$error":"#REF!"}},{"$f":"#REF!+#REF!+F89","v":{"$error":"#REF!"}},{"$f":"#REF!+#REF!+G89","v":{"$error":"#REF!"}},{"$f":"#REF!+#REF!+H89","v":{"$error":"#REF!"}},{"$f":"#REF!+#REF!+I89","v":{"$error":"#REF!"}}]
[5,6090,"Virginia Beach Sail &    ",31,37,22,32,22,32,{"$f":"#REF!+#REF!+D90","v":{"$error":"#REF!"}},{"$f":"#REF!+#REF!+E90","v":{"$error":"#REF!"}},{"$f":"#REF!+#REF!+F90","v":{"$error":"#REF!"}},{"$f":"#REF!+#REF!+G90","v":{"$error":"#REF!"}},{"$f":"#REF!+#REF!+H90","v":{"$error":"#REF!"}},{"$f":"#REF!+#REF!+I90","v":{"$error":"#REF!"}}]
[5,6270,"Wilmington Power Squadron",0,0,0,0,0,0,{"$f":"#REF!+#REF!+D91","v":{"$error":"#REF!"}},{"$f":"#REF!+#REF!+E91","v":{"$error":"#REF!"}},{"$f":"#REF!+#REF!+F91","v":{"$error":"#REF!"}},{"$f":"#REF!+#REF!+G91","v":{"$error":"#REF!"}},{"$f":"#REF!+#REF!+H91","v":{"$error":"#REF!"}},{"$f":"#REF!+#REF!+I91","v":{"$error":"#REF!"}}]
[5,6375,"York Sail & Power Squad  ",16,20,16,16,16,16,{"$f":"#REF!+#REF!+D92","v":{"$error":"#REF!"}},{"$f":"#REF!+#REF!+E92","v":{"$error":"#REF!"}},{"$f":"#REF!+#REF!+F92","v":{"$error":"#REF!"}},{"$f":"#REF!+#REF!+G92","v":{"$error":"#REF!"}},{"$f":"#REF!+#REF!+H92","v":{"$error":"#REF!"}},{"$f":"#REF!+#REF!+I92","v":{"$error":"#REF!"}}]
[6,270,"Auburn Power Squadron    ",0,0,0,0,0,0,{"$f":"#REF!+#REF!+D93","v":{"$error":"#REF!"}},{"$f":"#REF!+#REF!+E93","v":{"$error":"#REF!"}},{"$f":"#REF!+#REF!+F93","v":{"$error":"#REF!"}},{"$f":"#REF!+#REF!+G93","v":{"$error":"#REF!"}},{"$f":"#REF!+#REF!+H93","v":{"$error":"#REF!"}},{"$f":"#REF!+#REF!+I93","v":{"$error":"#REF!"}}]
[6,705,"Buffalo Power Squadron   ",10,0,7,0,6,0,{"$f":"#REF!+#REF!+D94","v":{"$error":"#REF!"}},{"$f":"#REF!+#REF!+E94","v":{"$error":"#REF!"}},{"$f":"#REF!+#REF!+F94","v":{"$error":"#REF!"}},{"$f":"#REF!+#REF!+G94","v":{"$error":"#REF!"}},{"$f":"#REF!+#REF!+H94","v":{"$error":"#REF!"}},{"$f":"#REF!+#REF!+I94","v":{"$error":"#REF!"}}]
[6,2190,"Hamburg Power Squadron   ",5,0,5,0,5,0,{"$f":"#REF!+#REF!+D95","v":{"$error":"#REF!"}},{"$f":"#REF!+#REF!+E95","v":{"$error":"#REF!"}},{"$f":"#REF!+#REF!+F95","v":{"$error":"#REF!"}},{"$f":"#REF!+#REF!+G95","v":{"$error":"#REF!"}},{"$f":"#REF!+#REF!+H95","v":{"$error":"#REF!"}},{"$f":"#REF!+#REF!+I95","v":{"$error":"#REF!"}}]
[6,2455,"Iroquois Power Squadron  ",17,5,17,5,17,5,{"$f":"#REF!+#REF!+D96","v":{"$error":"#REF!"}},{"$f":"#REF!+#REF!+E96","v":{"$error":"#REF!"}},{"$f":"#REF!+#REF!+F96","v":{"$error":"#REF!"}},{"$f":"#REF!+#REF!+G96","v":{"$error":"#REF!"}},{"$f":"#REF!+#REF!+H96","v":{"$error":"#REF!"}},{"$f":"#REF!+#REF!+I96","v":{"$error":"#REF!"}}]
[6,2460,"Ithaca Sail & Power Squad",48,41,48,41,46,41,{"$f":"#REF!+#REF!+D97","v":{"$error":"#REF!"}},{"$f":"#REF!+#REF!+E97","v":{"$error":"#REF!"}},{"$f":"#REF!+#REF!+F97","v":{"$error":"#REF!"}},{"$f":"#REF!+#REF!+G97","v":{"$error":"#REF!"}},{"$f":"#REF!+#REF!+H97","v":{"$error":"#REF!"}},{"$f":"#REF!+#REF!+I97","v":{"$error":"#REF!"}}]
[6,2895,"Lockport Power Squadron  ",7,0,7,0,7,0,{"$f":"#REF!+#REF!+D98","v":{"$error":"#REF!"}},{"$f":"#REF!+#REF!+E98","v":{"$error":"#REF!"}},{"$f":"#REF!+#REF!+F98","v":{"$error":"#REF!"}},{"$f":"#REF!+#REF!+G98","v":{"$error":"#REF!"}},{"$f":"#REF!+#REF!+H98","v":{"$error":"#REF!"}},{"$f":"#REF!+#REF!+I98","v":{"$error":"#REF!"}}]
[6,3795,"Niagara                  ",0,0,0,0,0,0,{"$f":"#REF!+#REF!+D99","v":{"$error":"#REF!"}},{"$f":"#REF!+#REF!+E99","v":{"$error":"#REF!"}},{"$f":"#REF!+#REF!+F99","v":{"$error":"#REF!"}},{"$f":"#REF!+#REF!+G99","v":{"$error":"#REF!"}},{"$f":"#REF!+#REF!+H99","v":{"$error":"#REF!"}},{"$f":"#REF!+#REF!+I99","v":{"$error":"#REF!"}}]
[6,4680,"Red Jacket Power Squadron",1,0,0,0,0,0,{"$f":"#REF!+#REF!+D100","v":{"$error":"#REF!"}},{"$f":"#REF!+#REF!+E100","v":{"$error":"#REF!"}},{"$f":"#REF!+#REF!+F100","v":{"$error":"#REF!"}},{"$f":"#REF!+#REF!+G100","v":{"$error":"#REF!"}},{"$f":"#REF!+#REF!+H100","v":{"$error":"#REF!"}},{"$f":"#REF!+#REF!+I100","v":{"$error":"#REF!"}}]
[6,4755,"Rochester Power Squadron ",6,10,6,8,6,8,{"$f":"#REF!+#REF!+D101","v":{"$error":"#REF!"}},{"$f":"#REF!+#REF!+E101","v":{"$error":"#REF!"}},{"$f":"#REF!+#REF!+F101","v":{"$error":"#REF!"}},{"$f":"#REF!+#REF!+G101","v":{"$error":"#REF!"}},{"$f":"#REF!+#REF!+H101","v":{"$error":"#REF!"}},{"$f":"#REF!+#REF!+I101","v":{"$error":"#REF!"}}]
[6,5400,"Seneca Sail &            ",3,7,3,7,3,7,{"$f":"#REF!+#REF!+D102","v":{"$error":"#REF!"}},{"$f":"#REF!+#REF!+E102","v":{"$error":"#REF!"}},{"$f":"#REF!+#REF!+F102","v":{"$error":"#REF!"}},{"$f":"#REF!+#REF!+G102","v":{"$error":"#REF!"}},{"$f":"#REF!+#REF!+H102","v":{"$error":"#REF!"}},{"$f":"#REF!+#REF!+I102","v":{"$error":"#REF!"}}]
[6,4980,"St. Lawrence Power Squad ",99,4,98,4,98,4,{"$f":"#REF!+#REF!+D103","v":{"$error":"#REF!"}},{"$f":"#REF!+#REF!+E103","v":{"$error":"#REF!"}},{"$f":"#REF!+#REF!+F103","v":{"$error":"#REF!"}},{"$f":"#REF!+#REF!+G103","v":{"$error":"#REF!"}},{"$f":"#REF!+#REF!+H103","v":{"$error":"#REF!"}},{"$f":"#REF!+#REF!+I103","v":{"$error":"#REF!"}}]
[6,5760,"Susquenango Power Squad  ",25,10,21,8,21,8,{"$f":"#REF!+#REF!+D104","v":{"$error":"#REF!"}},{"$f":"#REF!+#REF!+E104","v":{"$error":"#REF!"}},{"$f":"#REF!+#REF!+F104","v":{"$error":"#REF!"}},{"$f":"#REF!+#REF!+G104","v":{"$error":"#REF!"}},{"$f":"#REF!+#REF!+H104","v":{"$error":"#REF!"}},{"$f":"#REF!+#REF!+I104","v":{"$error":"#REF!"}}]
[6,5775,"Swiftwater Power Squadron",6,18,4,18,4,18,{"$f":"#REF!+#REF!+D105","v":{"$error":"#REF!"}},{"$f":"#REF!+#REF!+E105","v":{"$error":"#REF!"}},{"$f":"#REF!+#REF!+F105","v":{"$error":"#REF!"}},{"$f":"#REF!+#REF!+G105","v":{"$error":"#REF!"}},{"$f":"#REF!+#REF!+H105","v":{"$error":"#REF!"}},{"$f":"#REF!+#REF!+I105","v":{"$error":"#REF!"}}]
[6,5790,"Syracuse Sail & Power Sqd",34,40,27,36,26,36,{"$f":"#REF!+#REF!+D106","v":{"$error":"#REF!"}},{"$f":"#REF!+#REF!+E106","v":{"$error":"#REF!"}},{"$f":"#REF!+#REF!+F106","v":{"$error":"#REF!"}},{"$f":"#REF!+#REF!+G106","v":{"$error":"#REF!"}},{"$f":"#REF!+#REF!+H106","v":{"$error":"#REF!"}},{"$f":"#REF!+#REF!+I106","v":{"$error":"#REF!"}}]
[6,6000,"Utica Sail & Power Squad ",26,9,28,9,28,9,{"$f":"#REF!+#REF!+D107","v":{"$error":"#REF!"}},{"$f":"#REF!+#REF!+E107","v":{"$error":"#REF!"}},{"$f":"#REF!+#REF!+F107","v":{"$error":"#REF!"}},{"$f":"#REF!+#REF!+G107","v":{"$error":"#REF!"}},{"$f":"#REF!+#REF!+H107","v":{"$error":"#REF!"}},{"$f":"#REF!+#REF!+I107","v":{"$error":"#REF!"}}]
[7,45,"Akron Power Squadron     ",73,51,58,35,58,35,{"$f":"#REF!+#REF!+D108","v":{"$error":"#REF!"}},{"$f":"#REF!+#REF!+E108","v":{"$error":"#REF!"}},{"$f":"#REF!+#REF!+F108","v":{"$error":"#REF!"}},{"$f":"#REF!+#REF!+G108","v":{"$error":"#REF!"}},{"$f":"#REF!+#REF!+H108","v":{"$error":"#REF!"}},{"$f":"#REF!+#REF!+I108","v":{"$error":"#REF!"}}]
[7,495,"Berea Power Squadron     ",41,35,32,33,32,33,{"$f":"#REF!+#REF!+D109","v":{"$error":"#REF!"}},{"$f":"#REF!+#REF!+E109","v":{"$error":"#REF!"}},{"$f":"#REF!+#REF!+F109","v":{"$error":"#REF!"}},{"$f":"#REF!+#REF!+G109","v":{"$error":"#REF!"}},{"$f":"#REF!+#REF!+H109","v":{"$error":"#REF!"}},{"$f":"#REF!+#REF!+I109","v":{"$error":"#REF!"}}]
[7,1125,"Cleveland Power Squadron ",0,0,0,0,0,0,{"$f":"#REF!+#REF!+D110","v":{"$error":"#REF!"}},{"$f":"#REF!+#REF!+E110","v":{"$error":"#REF!"}},{"$f":"#REF!+#REF!+F110","v":{"$error":"#REF!"}},{"$f":"#REF!+#REF!+G110","v":{"$error":"#REF!"}},{"$f":"#REF!+#REF!+H110","v":{"$error":"#REF!"}},{"$f":"#REF!+#REF!+I110","v":{"$error":"#REF!"}}]
[7,2555,"Kanawha River Power Squad",0,0,0,0,0,0,{"$f":"#REF!+#REF!+D111","v":{"$error":"#REF!"}},{"$f":"#REF!+#REF!+E111","v":{"$error":"#REF!"}},{"$f":"#REF!+#REF!+F111","v":{"$error":"#REF!"}},{"$f":"#REF!+#REF!+G111","v":{"$error":"#REF!"}},{"$f":"#REF!+#REF!+H111","v":{"$error":"#REF!"}},{"$f":"#REF!+#REF!+I111","v":{"$error":"#REF!"}}]
[7,3090,"Mansfield Power Squadron ",16,14,16,14,16,14,{"$f":"#REF!+#REF!+D112","v":{"$error":"#REF!"}},{"$f":"#REF!+#REF!+E112","v":{"$error":"#REF!"}},{"$f":"#REF!+#REF!+F112","v":{"$error":"#REF!"}},{"$f":"#REF!+#REF!+G112","v":{"$error":"#REF!"}},{"$f":"#REF!+#REF!+H112","v":{"$error":"#REF!"}},{"$f":"#REF!+#REF!+I112","v":{"$error":"#REF!"}}]
[7,3330,"Mid Ohio Valley Power Sqd",0,0,0,0,0,0,{"$f":"#REF!+#REF!+D113","v":{"$error":"#REF!"}},{"$f":"#REF!+#REF!+E113","v":{"$error":"#REF!"}},{"$f":"#REF!+#REF!+F113","v":{"$error":"#REF!"}},{"$f":"#REF!+#REF!+G113","v":{"$error":"#REF!"}},{"$f":"#REF!+#REF!+H113","v":{"$error":"#REF!"}},{"$f":"#REF!+#REF!+I113","v":{"$error":"#REF!"}}]
[7,4395,"Pittsburgh Power Squadron",12,26,11,20,11,20,{"$f":"#REF!+#REF!+D114","v":{"$error":"#REF!"}},{"$f":"#REF!+#REF!+E114","v":{"$error":"#REF!"}},{"$f":"#REF!+#REF!+F114","v":{"$error":"#REF!"}},{"$f":"#REF!+#REF!+G114","v":{"$error":"#REF!"}},{"$f":"#REF!+#REF!+H114","v":{"$error":"#REF!"}},{"$f":"#REF!+#REF!+I114","v":{"$error":"#REF!"}}]
[7,4815,"Rocky River Sail & Power ",28,15,24,12,23,11,{"$f":"#REF!+#REF!+D115","v":{"$error":"#REF!"}},{"$f":"#REF!+#REF!+E115","v":{"$error":"#REF!"}},{"$f":"#REF!+#REF!+F115","v":{"$error":"#REF!"}},{"$f":"#REF!+#REF!+G115","v":{"$error":"#REF!"}},{"$f":"#REF!+#REF!+H115","v":{"$error":"#REF!"}},{"$f":"#REF!+#REF!+I115","v":{"$error":"#REF!"}}]
[7,5610,"South Hills Power Squad  ",0,0,0,0,0,0,{"$f":"#REF!+#REF!+D116","v":{"$error":"#REF!"}},{"$f":"#REF!+#REF!+E116","v":{"$error":"#REF!"}},{"$f":"#REF!+#REF!+F116","v":{"$error":"#REF!"}},{"$f":"#REF!+#REF!+G116","v":{"$error":"#REF!"}},{"$f":"#REF!+#REF!+H116","v":{"$error":"#REF!"}},{"$f":"#REF!+#REF!+I116","v":{"$error":"#REF!"}}]
[7,5685,"Stark County Power Squad ",12,6,12,6,12,6,{"$f":"#REF!+#REF!+D117","v":{"$error":"#REF!"}},{"$f":"#REF!+#REF!+E117","v":{"$error":"#REF!"}},{"$f":"#REF!+#REF!+F117","v":{"$error":"#REF!"}},{"$f":"#REF!+#REF!+G117","v":{"$error":"#REF!"}},{"$f":"#REF!+#REF!+H117","v":{"$error":"#REF!"}},{"$f":"#REF!+#REF!+I117","v":{"$error":"#REF!"}}]
[7,5895,"Ten Mile Power Squadron  ",8,26,8,26,8,26,{"$f":"#REF!+#REF!+D118","v":{"$error":"#REF!"}},{"$f":"#REF!+#REF!+E118","v":{"$error":"#REF!"}},{"$f":"#REF!+#REF!+F118","v":{"$error":"#REF!"}},{"$f":"#REF!+#REF!+G118","v":{"$error":"#REF!"}},{"$f":"#REF!+#REF!+H118","v":{"$error":"#REF!"}},{"$f":"#REF!+#REF!+I118","v":{"$error":"#REF!"}}]
[7,6060,"Vermilion Power Squadron ",12,8,12,8,12,8,{"$f":"#REF!+#REF!+D119","v":{"$error":"#REF!"}},{"$f":"#REF!+#REF!+E119","v":{"$error":"#REF!"}},{"$f":"#REF!+#REF!+F119","v":{"$error":"#REF!"}},{"$f":"#REF!+#REF!+G119","v":{"$error":"#REF!"}},{"$f":"#REF!+#REF!+H119","v":{"$error":"#REF!"}},{"$f":"#REF!+#REF!+I119","v":{"$error":"#REF!"}}]
[8,1230,"Coral Ridge Power Squad  ",0,9,0,9,0,9,{"$f":"#REF!+#REF!+D120","v":{"$error":"#REF!"}},{"$f":"#REF!+#REF!+E120","v":{"$error":"#REF!"}},{"$f":"#REF!+#REF!+F120","v":{"$error":"#REF!"}},{"$f":"#REF!+#REF!+G120","v":{"$error":"#REF!"}},{"$f":"#REF!+#REF!+H120","v":{"$error":"#REF!"}},{"$f":"#REF!+#REF!+I120","v":{"$error":"#REF!"}}]
[8,1800,"Ft. Lauderdale Power Sqd ",56,33,40,21,40,21,{"$f":"#REF!+#REF!+D121","v":{"$error":"#REF!"}},{"$f":"#REF!+#REF!+E121","v":{"$error":"#REF!"}},{"$f":"#REF!+#REF!+F121","v":{"$error":"#REF!"}},{"$f":"#REF!+#REF!+G121","v":{"$error":"#REF!"}},{"$f":"#REF!+#REF!+H121","v":{"$error":"#REF!"}},{"$f":"#REF!+#REF!+I121","v":{"$error":"#REF!"}}]
[8,2280,"Hollywood Power Squadron ",55,74,55,73,45,68,{"$f":"#REF!+#REF!+D122","v":{"$error":"#REF!"}},{"$f":"#REF!+#REF!+E122","v":{"$error":"#REF!"}},{"$f":"#REF!+#REF!+F122","v":{"$error":"#REF!"}},{"$f":"#REF!+#REF!+G122","v":{"$error":"#REF!"}},{"$f":"#REF!+#REF!+H122","v":{"$error":"#REF!"}},{"$f":"#REF!+#REF!+I122","v":{"$error":"#REF!"}}]
[8,2295,"Homestead Power Squadron ",0,0,0,0,0,0,{"$f":"#REF!+#REF!+D123","v":{"$error":"#REF!"}},{"$f":"#REF!+#REF!+E123","v":{"$error":"#REF!"}},{"$f":"#REF!+#REF!+F123","v":{"$error":"#REF!"}},{"$f":"#REF!+#REF!+G123","v":{"$error":"#REF!"}},{"$f":"#REF!+#REF!+H123","v":{"$error":"#REF!"}},{"$f":"#REF!+#REF!+I123","v":{"$error":"#REF!"}}]
[8,2625,"Key West Sail & Power Sqd",67,91,57,68,57,68,{"$f":"#REF!+#REF!+D124","v":{"$error":"#REF!"}},{"$f":"#REF!+#REF!+E124","v":{"$error":"#REF!"}},{"$f":"#REF!+#REF!+F124","v":{"$error":"#REF!"}},{"$f":"#REF!+#REF!+G124","v":{"$error":"#REF!"}},{"$f":"#REF!+#REF!+H124","v":{"$error":"#REF!"}},{"$f":"#REF!+#REF!+I124","v":{"$error":"#REF!"}}]
[8,3105,"Marathon Sail & Power Sqd",0,0,0,0,0,0,{"$f":"#REF!+#REF!+D125","v":{"$error":"#REF!"}},{"$f":"#REF!+#REF!+E125","v":{"$error":"#REF!"}},{"$f":"#REF!+#REF!+F125","v":{"$error":"#REF!"}},{"$f":"#REF!+#REF!+G125","v":{"$error":"#REF!"}},{"$f":"#REF!+#REF!+H125","v":{"$error":"#REF!"}},{"$f":"#REF!+#REF!+I125","v":{"$error":"#REF!"}}]
[8,3255,"Miami Sail & Power Squad ",0,0,0,0,0,0,{"$f":"#REF!+#REF!+D126","v":{"$error":"#REF!"}},{"$f":"#REF!+#REF!+E126","v":{"$error":"#REF!"}},{"$f":"#REF!+#REF!+F126","v":{"$error":"#REF!"}},{"$f":"#REF!+#REF!+G126","v":{"$error":"#REF!"}},{"$f":"#REF!+#REF!+H126","v":{"$error":"#REF!"}},{"$f":"#REF!+#REF!+I126","v":{"$error":"#REF!"}}]
[8,4170,"Palm Beach Sail & Power  ",90,119,90,119,90,119,{"$f":"#REF!+#REF!+D127","v":{"$error":"#REF!"}},{"$f":"#REF!+#REF!+E127","v":{"$error":"#REF!"}},{"$f":"#REF!+#REF!+F127","v":{"$error":"#REF!"}},{"$f":"#REF!+#REF!+G127","v":{"$error":"#REF!"}},{"$f":"#REF!+#REF!+H127","v":{"$error":"#REF!"}},{"$f":"#REF!+#REF!+I127","v":{"$error":"#REF!"}}]
[8,4440,"Pompano Beach Power Squad",96,85,83,74,83,74,{"$f":"#REF!+#REF!+D128","v":{"$error":"#REF!"}},{"$f":"#REF!+#REF!+E128","v":{"$error":"#REF!"}},{"$f":"#REF!+#REF!+F128","v":{"$error":"#REF!"}},{"$f":"#REF!+#REF!+G128","v":{"$error":"#REF!"}},{"$f":"#REF!+#REF!+H128","v":{"$error":"#REF!"}},{"$f":"#REF!+#REF!+I128","v":{"$error":"#REF!"}}]
[8,4510,"Port St. Lucie Power Sqd ",26,6,24,6,24,6,{"$f":"#REF!+#REF!+D129","v":{"$error":"#REF!"}},{"$f":"#REF!+#REF!+E129","v":{"$error":"#REF!"}},{"$f":"#REF!+#REF!+F129","v":{"$error":"#REF!"}},{"$f":"#REF!+#REF!+G129","v":{"$error":"#REF!"}},{"$f":"#REF!+#REF!+H129","v":{"$error":"#REF!"}},{"$f":"#REF!+#REF!+I129","v":{"$error":"#REF!"}}]
[8,5371,"Sebastian Inlet Sail &   ",28,48,25,43,25,43,{"$f":"#REF!+#REF!+D130","v":{"$error":"#REF!"}},{"$f":"#REF!+#REF!+E130","v":{"$error":"#REF!"}},{"$f":"#REF!+#REF!+F130","v":{"$error":"#REF!"}},{"$f":"#REF!+#REF!+G130","v":{"$error":"#REF!"}},{"$f":"#REF!+#REF!+H130","v":{"$error":"#REF!"}},{"$f":"#REF!+#REF!+I130","v":{"$error":"#REF!"}}]
[8,5010,"St. Lucie River Power Sqd",22,34,22,34,22,34,{"$f":"#REF!+#REF!+D131","v":{"$error":"#REF!"}},{"$f":"#REF!+#REF!+E131","v":{"$error":"#REF!"}},{"$f":"#REF!+#REF!+F131","v":{"$error":"#REF!"}},{"$f":"#REF!+#REF!+G131","v":{"$error":"#REF!"}},{"$f":"#REF!+#REF!+H131","v":{"$error":"#REF!"}},{"$f":"#REF!+#REF!+I131","v":{"$error":"#REF!"}}]
[8,6075,"Vero Beach Power Squadron",89,73,89,73,89,73,{"$f":"#REF!+#REF!+D132","v":{"$error":"#REF!"}},{"$f":"#REF!+#REF!+E132","v":{"$error":"#REF!"}},{"$f":"#REF!+#REF!+F132","v":{"$error":"#REF!"}},{"$f":"#REF!+#REF!+G132","v":{"$error":"#REF!"}},{"$f":"#REF!+#REF!+H132","v":{"$error":"#REF!"}},{"$f":"#REF!+#REF!+I132","v":{"$error":"#REF!"}}]
[9,120,"Anchor Bay Power Squadron",19,9,15,9,15,9,{"$f":"#REF!+#REF!+D133","v":{"$error":"#REF!"}},{"$f":"#REF!+#REF!+E133","v":{"$error":"#REF!"}},{"$f":"#REF!+#REF!+F133","v":{"$error":"#REF!"}},{"$f":"#REF!+#REF!+G133","v":{"$error":"#REF!"}},{"$f":"#REF!+#REF!+H133","v":{"$error":"#REF!"}},{"$f":"#REF!+#REF!+I133","v":{"$error":"#REF!"}}]
[9,180,"Ann Arbor Power Squadron ",10,0,0,0,0,0,{"$f":"#REF!+#REF!+D134","v":{"$error":"#REF!"}},{"$f":"#REF!+#REF!+E134","v":{"$error":"#REF!"}},{"$f":"#REF!+#REF!+F134","v":{"$error":"#REF!"}},{"$f":"#REF!+#REF!+G134","v":{"$error":"#REF!"}},{"$f":"#REF!+#REF!+H134","v":{"$error":"#REF!"}},{"$f":"#REF!+#REF!+I134","v":{"$error":"#REF!"}}]
[9,525,"Birmingham Power Squadron",35,6,33,6,33,6,{"$f":"#REF!+#REF!+D135","v":{"$error":"#REF!"}},{"$f":"#REF!+#REF!+E135","v":{"$error":"#REF!"}},{"$f":"#REF!+#REF!+F135","v":{"$error":"#REF!"}},{"$f":"#REF!+#REF!+G135","v":{"$error":"#REF!"}},{"$f":"#REF!+#REF!+H135","v":{"$error":"#REF!"}},{"$f":"#REF!+#REF!+I135","v":{"$error":"#REF!"}}]
[9,1410,"Dearborn Sail & Power Sqd",15,12,13,8,13,8,{"$f":"#REF!+#REF!+D136","v":{"$error":"#REF!"}},{"$f":"#REF!+#REF!+E136","v":{"$error":"#REF!"}},{"$f":"#REF!+#REF!+F136","v":{"$error":"#REF!"}},{"$f":"#REF!+#REF!+G136","v":{"$error":"#REF!"}},{"$f":"#REF!+#REF!+H136","v":{"$error":"#REF!"}},{"$f":"#REF!+#REF!+I136","v":{"$error":"#REF!"}}]
[9,1515,"Detroit Power Squadron   ",26,47,19,36,19,36,{"$f":"#REF!+#REF!+D137","v":{"$error":"#REF!"}},{"$f":"#REF!+#REF!+E137","v":{"$error":"#REF!"}},{"$f":"#REF!+#REF!+F137","v":{"$error":"#REF!"}},{"$f":"#REF!+#REF!+G137","v":{"$error":"#REF!"}},{"$f":"#REF!+#REF!+H137","v":{"$error":"#REF!"}},{"$f":"#REF!+#REF!+I137","v":{"$error":"#REF!"}}]
[9,1755,"Flint Power Squadron     ",13,13,13,13,13,13,{"$f":"#REF!+#REF!+D138","v":{"$error":"#REF!"}},{"$f":"#REF!+#REF!+E138","v":{"$error":"#REF!"}},{"$f":"#REF!+#REF!+F138","v":{"$error":"#REF!"}},{"$f":"#REF!+#REF!+G138","v":{"$error":"#REF!"}},{"$f":"#REF!+#REF!+H138","v":{"$error":"#REF!"}},{"$f":"#REF!+#REF!+I138","v":{"$error":"#REF!"}}]
[9,2010,"Grand Rapids Power Squad ",16,6,15,6,15,6,{"$f":"#REF!+#REF!+D139","v":{"$error":"#REF!"}},{"$f":"#REF!+#REF!+E139","v":{"$error":"#REF!"}},{"$f":"#REF!+#REF!+F139","v":{"$error":"#REF!"}},{"$f":"#REF!+#REF!+G139","v":{"$error":"#REF!"}},{"$f":"#REF!+#REF!+H139","v":{"$error":"#REF!"}},{"$f":"#REF!+#REF!+I139","v":{"$error":"#REF!"}}]
[9,2025,"Grand Traverse Bay Sail &",28,18,27,18,26,16,{"$f":"#REF!+#REF!+D140","v":{"$error":"#REF!"}},{"$f":"#REF!+#REF!+E140","v":{"$error":"#REF!"}},{"$f":"#REF!+#REF!+F140","v":{"$error":"#REF!"}},{"$f":"#REF!+#REF!+G140","v":{"$error":"#REF!"}},{"$f":"#REF!+#REF!+H140","v":{"$error":"#REF!"}},{"$f":"#REF!+#REF!+I140","v":{"$error":"#REF!"}}]
[9,2160,"Grosse Pointe Power Squad",9,7,9,7,9,7,{"$f":"#REF!+#REF!+D141","v":{"$error":"#REF!"}},{"$f":"#REF!+#REF!+E141","v":{"$error":"#REF!"}},{"$f":"#REF!+#REF!+F141","v":{"$error":"#REF!"}},{"$f":"#REF!+#REF!+G141","v":{"$error":"#REF!"}},{"$f":"#REF!+#REF!+H141","v":{"$error":"#REF!"}},{"$f":"#REF!+#REF!+I141","v":{"$error":"#REF!"}}]
[9,2550,"Kalamazoo Sail & Power Sq",20,41,20,34,20,34,{"$f":"#REF!+#REF!+D142","v":{"$error":"#REF!"}},{"$f":"#REF!+#REF!+E142","v":{"$error":"#REF!"}},{"$f":"#REF!+#REF!+F142","v":{"$error":"#REF!"}},{"$f":"#REF!+#REF!+G142","v":{"$error":"#REF!"}},{"$f":"#REF!+#REF!+H142","v":{"$error":"#REF!"}},{"$f":"#REF!+#REF!+I142","v":{"$error":"#REF!"}}]
[9,2820,"Lansing Sail & Power Sqd ",16,15,14,14,14,14,{"$f":"#REF!+#REF!+D143","v":{"$error":"#REF!"}},{"$f":"#REF!+#REF!+E143","v":{"$error":"#REF!"}},{"$f":"#REF!+#REF!+F143","v":{"$error":"#REF!"}},{"$f":"#REF!+#REF!+G143","v":{"$error":"#REF!"}},{"$f":"#REF!+#REF!+H143","v":{"$error":"#REF!"}},{"$f":"#REF!+#REF!+I143","v":{"$error":"#REF!"}}]
[9,3540,"Mount Clemens Power Squad",16,12,15,11,15,11,{"$f":"#REF!+#REF!+D144","v":{"$error":"#REF!"}},{"$f":"#REF!+#REF!+E144","v":{"$error":"#REF!"}},{"$f":"#REF!+#REF!+F144","v":{"$error":"#REF!"}},{"$f":"#REF!+#REF!+G144","v":{"$error":"#REF!"}},{"$f":"#REF!+#REF!+H144","v":{"$error":"#REF!"}},{"$f":"#REF!+#REF!+I144","v":{"$error":"#REF!"}}]
[9,3570,"Muskegon Power Squadron  ",13,14,13,14,13,14,{"$f":"#REF!+#REF!+D145","v":{"$error":"#REF!"}},{"$f":"#REF!+#REF!+E145","v":{"$error":"#REF!"}},{"$f":"#REF!+#REF!+F145","v":{"$error":"#REF!"}},{"$f":"#REF!+#REF!+G145","v":{"$error":"#REF!"}},{"$f":"#REF!+#REF!+H145","v":{"$error":"#REF!"}},{"$f":"#REF!+#REF!+I145","v":{"$error":"#REF!"}}]
[9,4485,"Port Huron Power Squadron",4,30,4,29,4,29,{"$f":"#REF!+#REF!+D146","v":{"$error":"#REF!"}},{"$f":"#REF!+#REF!+E146","v":{"$error":"#REF!"}},{"$f":"#REF!+#REF!+F146","v":{"$error":"#REF!"}},{"$f":"#REF!+#REF!+G146","v":{"$error":"#REF!"}},{"$f":"#REF!+#REF!+H146","v":{"$error":"#REF!"}},{"$f":"#REF!+#REF!+I146","v":{"$error":"#REF!"}}]
[9,3010,"Sable Point Sail & Power ",2,1,2,1,2,1,{"$f":"#REF!+#REF!+D147","v":{"$error":"#REF!"}},{"$f":"#REF!+#REF!+E147","v":{"$error":"#REF!"}},{"$f":"#REF!+#REF!+F147","v":{"$error":"#REF!"}},{"$f":"#REF!+#REF!+G147","v":{"$error":"#REF!"}},{"$f":"#REF!+#REF!+H147","v":{"$error":"#REF!"}},{"$f":"#REF!+#REF!+I147","v":{"$error":"#REF!"}}]
[9,4920,"Saginaw Bay Power Squad  ",0,0,0,0,0,0,{"$f":"#REF!+#REF!+D148","v":{"$error":"#REF!"}},{"$f":"#REF!+#REF!+E148","v":{"$error":"#REF!"}},{"$f":"#REF!+#REF!+F148","v":{"$error":"#REF!"}},{"$f":"#REF!+#REF!+G148","v":{"$error":"#REF!"}},{"$f":"#REF!+#REF!+H148","v":{"$error":"#REF!"}},{"$f":"#REF!+#REF!+I148","v":{"$error":"#REF!"}}]
[9,5595,"South Bend Power Squadron",54,42,49,40,49,40,{"$f":"#REF!+#REF!+D149","v":{"$error":"#REF!"}},{"$f":"#REF!+#REF!+E149","v":{"$error":"#REF!"}},{"$f":"#REF!+#REF!+F149","v":{"$error":"#REF!"}},{"$f":"#REF!+#REF!+G149","v":{"$error":"#REF!"}},{"$f":"#REF!+#REF!+H149","v":{"$error":"#REF!"}},{"$f":"#REF!+#REF!+I149","v":{"$error":"#REF!"}}]
[9,4945,"St. Clair Shores Sail &  ",12,0,0,0,0,0,{"$f":"#REF!+#REF!+D150","v":{"$error":"#REF!"}},{"$f":"#REF!+#REF!+E150","v":{"$error":"#REF!"}},{"$f":"#REF!+#REF!+F150","v":{"$error":"#REF!"}},{"$f":"#REF!+#REF!+G150","v":{"$error":"#REF!"}},{"$f":"#REF!+#REF!+H150","v":{"$error":"#REF!"}},{"$f":"#REF!+#REF!+I150","v":{"$error":"#REF!"}}]
[9,5903,"Tip of the Mitt Power Sq ",0,0,0,0,0,0,{"$f":"#REF!+#REF!+D151","v":{"$error":"#REF!"}},{"$f":"#REF!+#REF!+E151","v":{"$error":"#REF!"}},{"$f":"#REF!+#REF!+F151","v":{"$error":"#REF!"}},{"$f":"#REF!+#REF!+G151","v":{"$error":"#REF!"}},{"$f":"#REF!+#REF!+H151","v":{"$error":"#REF!"}},{"$f":"#REF!+#REF!+I151","v":{"$error":"#REF!"}}]
[9,6345,"Wyandotte Power Squadron ",47,59,42,50,42,50,{"$f":"#REF!+#REF!+D152","v":{"$error":"#REF!"}},{"$f":"#REF!+#REF!+E152","v":{"$error":"#REF!"}},{"$f":"#REF!+#REF!+F152","v":{"$error":"#REF!"}},{"$f":"#REF!+#REF!+G152","v":{"$error":"#REF!"}},{"$f":"#REF!+#REF!+H152","v":{"$error":"#REF!"}},{"$f":"#REF!+#REF!+I152","v":{"$error":"#REF!"}}]
[10,955,"Central Wisconsin Sail&  ",15,4,15,4,15,4,{"$f":"#REF!+#REF!+D153","v":{"$error":"#REF!"}},{"$f":"#REF!+#REF!+E153","v":{"$error":"#REF!"}},{"$f":"#REF!+#REF!+F153","v":{"$error":"#REF!"}},{"$f":"#REF!+#REF!+G153","v":{"$error":"#REF!"}},{"$f":"#REF!+#REF!+H153","v":{"$error":"#REF!"}},{"$f":"#REF!+#REF!+I153","v":{"$error":"#REF!"}}]
[10,5715,"Door County Power Squad  ",10,0,9,0,9,0,{"$f":"#REF!+#REF!+D154","v":{"$error":"#REF!"}},{"$f":"#REF!+#REF!+E154","v":{"$error":"#REF!"}},{"$f":"#REF!+#REF!+F154","v":{"$error":"#REF!"}},{"$f":"#REF!+#REF!+G154","v":{"$error":"#REF!"}},{"$f":"#REF!+#REF!+H154","v":{"$error":"#REF!"}},{"$f":"#REF!+#REF!+I154","v":{"$error":"#REF!"}}]
[10,1545,"Duluth Sail & Power Squad",10,24,9,22,9,22,{"$f":"#REF!+#REF!+D155","v":{"$error":"#REF!"}},{"$f":"#REF!+#REF!+E155","v":{"$error":"#REF!"}},{"$f":"#REF!+#REF!+F155","v":{"$error":"#REF!"}},{"$f":"#REF!+#REF!+G155","v":{"$error":"#REF!"}},{"$f":"#REF!+#REF!+H155","v":{"$error":"#REF!"}},{"$f":"#REF!+#REF!+I155","v":{"$error":"#REF!"}}]
[10,2085,"Green Bay Sail & Power Sq",36,34,36,34,35,33,{"$f":"#REF!+#REF!+D156","v":{"$error":"#REF!"}},{"$f":"#REF!+#REF!+E156","v":{"$error":"#REF!"}},{"$f":"#REF!+#REF!+F156","v":{"$error":"#REF!"}},{"$f":"#REF!+#REF!+G156","v":{"$error":"#REF!"}},{"$f":"#REF!+#REF!+H156","v":{"$error":"#REF!"}},{"$f":"#REF!+#REF!+I156","v":{"$error":"#REF!"}}]
[10,2267,"Hiawatha Valley Sail &   ",11,19,10,6,10,6,{"$f":"#REF!+#REF!+D157","v":{"$error":"#REF!"}},{"$f":"#REF!+#REF!+E157","v":{"$error":"#REF!"}},{"$f":"#REF!+#REF!+F157","v":{"$error":"#REF!"}},{"$f":"#REF!+#REF!+G157","v":{"$error":"#REF!"}},{"$f":"#REF!+#REF!+H157","v":{"$error":"#REF!"}},{"$f":"#REF!+#REF!+I157","v":{"$error":"#REF!"}}]
[10,3030,"Madison Power Squadron   ",8,0,7,0,7,0,{"$f":"#REF!+#REF!+D158","v":{"$error":"#REF!"}},{"$f":"#REF!+#REF!+E158","v":{"$error":"#REF!"}},{"$f":"#REF!+#REF!+F158","v":{"$error":"#REF!"}},{"$f":"#REF!+#REF!+G158","v":{"$error":"#REF!"}},{"$f":"#REF!+#REF!+H158","v":{"$error":"#REF!"}},{"$f":"#REF!+#REF!+I158","v":{"$error":"#REF!"}}]
[10,3140,"Marinette Menominee Sail&",0,0,0,0,0,0,{"$f":"#REF!+#REF!+D159","v":{"$error":"#REF!"}},{"$f":"#REF!+#REF!+E159","v":{"$error":"#REF!"}},{"$f":"#REF!+#REF!+F159","v":{"$error":"#REF!"}},{"$f":"#REF!+#REF!+G159","v":{"$error":"#REF!"}},{"$f":"#REF!+#REF!+H159","v":{"$error":"#REF!"}},{"$f":"#REF!+#REF!+I159","v":{"$error":"#REF!"}}]
[10,3390,"Milwaukee Sail & Power Sq",28,15,21,14,21,14,{"$f":"#REF!+#REF!+D160","v":{"$error":"#REF!"}},{"$f":"#REF!+#REF!+E160","v":{"$error":"#REF!"}},{"$f":"#REF!+#REF!+F160","v":{"$error":"#REF!"}},{"$f":"#REF!+#REF!+G160","v":{"$error":"#REF!"}},{"$f":"#REF!+#REF!+H160","v":{"$error":"#REF!"}},{"$f":"#REF!+#REF!+I160","v":{"$error":"#REF!"}}]
[10,3405,"Minnetonka Power Squadron",44,41,37,33,37,33,{"$f":"#REF!+#REF!+D161","v":{"$error":"#REF!"}},{"$f":"#REF!+#REF!+E161","v":{"$error":"#REF!"}},{"$f":"#REF!+#REF!+F161","v":{"$error":"#REF!"}},{"$f":"#REF!+#REF!+G161","v":{"$error":"#REF!"}},{"$f":"#REF!+#REF!+H161","v":{"$error":"#REF!"}},{"$f":"#REF!+#REF!+I161","v":{"$error":"#REF!"}}]
[10,4095,"Oshkosh Power Squadron   ",39,17,39,17,39,17,{"$f":"#REF!+#REF!+D162","v":{"$error":"#REF!"}},{"$f":"#REF!+#REF!+E162","v":{"$error":"#REF!"}},{"$f":"#REF!+#REF!+F162","v":{"$error":"#REF!"}},{"$f":"#REF!+#REF!+G162","v":{"$error":"#REF!"}},{"$f":"#REF!+#REF!+H162","v":{"$error":"#REF!"}},{"$f":"#REF!+#REF!+I162","v":{"$error":"#REF!"}}]
[10,5025,"St. Paul Sail & Power Sqd",0,0,0,0,0,0,{"$f":"#REF!+#REF!+D163","v":{"$error":"#REF!"}},{"$f":"#REF!+#REF!+E163","v":{"$error":"#REF!"}},{"$f":"#REF!+#REF!+F163","v":{"$error":"#REF!"}},{"$f":"#REF!+#REF!+G163","v":{"$error":"#REF!"}},{"$f":"#REF!+#REF!+H163","v":{"$error":"#REF!"}},{"$f":"#REF!+#REF!+I163","v":{"$error":"#REF!"}}]
[11,315,"Bald Eagle Power Squadron",2,0,2,0,2,0,{"$f":"#REF!+#REF!+D164","v":{"$error":"#REF!"}},{"$f":"#REF!+#REF!+E164","v":{"$error":"#REF!"}},{"$f":"#REF!+#REF!+F164","v":{"$error":"#REF!"}},{"$f":"#REF!+#REF!+G164","v":{"$error":"#REF!"}},{"$f":"#REF!+#REF!+H164","v":{"$error":"#REF!"}},{"$f":"#REF!+#REF!+I164","v":{"$error":"#REF!"}}]
[11,1635,"Erie Power Squadron      ",13,23,13,21,13,21,{"$f":"#REF!+#REF!+D165","v":{"$error":"#REF!"}},{"$f":"#REF!+#REF!+E165","v":{"$error":"#REF!"}},{"$f":"#REF!+#REF!+F165","v":{"$error":"#REF!"}},{"$f":"#REF!+#REF!+G165","v":{"$error":"#REF!"}},{"$f":"#REF!+#REF!+H165","v":{"$error":"#REF!"}},{"$f":"#REF!+#REF!+I165","v":{"$error":"#REF!"}}]
[11,2670,"Kinzua Power Squadron    ",10,0,10,0,10,0,{"$f":"#REF!+#REF!+D166","v":{"$error":"#REF!"}},{"$f":"#REF!+#REF!+E166","v":{"$error":"#REF!"}},{"$f":"#REF!+#REF!+F166","v":{"$error":"#REF!"}},{"$f":"#REF!+#REF!+G166","v":{"$error":"#REF!"}},{"$f":"#REF!+#REF!+H166","v":{"$error":"#REF!"}},{"$f":"#REF!+#REF!+I166","v":{"$error":"#REF!"}}]
[11,3525,"Mosquito Lake Power Squad",5,7,5,5,5,5,{"$f":"#REF!+#REF!+D167","v":{"$error":"#REF!"}},{"$f":"#REF!+#REF!+E167","v":{"$error":"#REF!"}},{"$f":"#REF!+#REF!+F167","v":{"$error":"#REF!"}},{"$f":"#REF!+#REF!+G167","v":{"$error":"#REF!"}},{"$f":"#REF!+#REF!+H167","v":{"$error":"#REF!"}},{"$f":"#REF!+#REF!+I167","v":{"$error":"#REF!"}}]
[11,3700,"New Castle Power Squadron",25,24,25,24,25,24,{"$f":"#REF!+#REF!+D168","v":{"$error":"#REF!"}},{"$f":"#REF!+#REF!+E168","v":{"$error":"#REF!"}},{"$f":"#REF!+#REF!+F168","v":{"$error":"#REF!"}},{"$f":"#REF!+#REF!+G168","v":{"$error":"#REF!"}},{"$f":"#REF!+#REF!+H168","v":{"$error":"#REF!"}},{"$f":"#REF!+#REF!+I168","v":{"$error":"#REF!"}}]
[12,345,"Bare Cove Power Squadron ",7,0,7,0,7,0,{"$f":"#REF!+#REF!+D169","v":{"$error":"#REF!"}},{"$f":"#REF!+#REF!+E169","v":{"$error":"#REF!"}},{"$f":"#REF!+#REF!+F169","v":{"$error":"#REF!"}},{"$f":"#REF!+#REF!+G169","v":{"$error":"#REF!"}},{"$f":"#REF!+#REF!+H169","v":{"$error":"#REF!"}},{"$f":"#REF!+#REF!+I169","v":{"$error":"#REF!"}}]
[12,510,"Beverly-Marblehead Sail &",63,167,49,140,49,139,{"$f":"#REF!+#REF!+D170","v":{"$error":"#REF!"}},{"$f":"#REF!+#REF!+E170","v":{"$error":"#REF!"}},{"$f":"#REF!+#REF!+F170","v":{"$error":"#REF!"}},{"$f":"#REF!+#REF!+G170","v":{"$error":"#REF!"}},{"$f":"#REF!+#REF!+H170","v":{"$error":"#REF!"}},{"$f":"#REF!+#REF!+I170","v":{"$error":"#REF!"}}]
[12,660,"Broad Sound Power Squad  ",0,0,0,0,0,0,{"$f":"#REF!+#REF!+D171","v":{"$error":"#REF!"}},{"$f":"#REF!+#REF!+E171","v":{"$error":"#REF!"}},{"$f":"#REF!+#REF!+F171","v":{"$error":"#REF!"}},{"$f":"#REF!+#REF!+G171","v":{"$error":"#REF!"}},{"$f":"#REF!+#REF!+H171","v":{"$error":"#REF!"}},{"$f":"#REF!+#REF!+I171","v":{"$error":"#REF!"}}]
[12,1005,"Charles River Sail &     ",9,0,9,0,9,0,{"$f":"#REF!+#REF!+D172","v":{"$error":"#REF!"}},{"$f":"#REF!+#REF!+E172","v":{"$error":"#REF!"}},{"$f":"#REF!+#REF!+F172","v":{"$error":"#REF!"}},{"$f":"#REF!+#REF!+G172","v":{"$error":"#REF!"}},{"$f":"#REF!+#REF!+H172","v":{"$error":"#REF!"}},{"$f":"#REF!+#REF!+I172","v":{"$error":"#REF!"}}]
[12,2040,"Great Blue Hill Sail &   ",22,56,20,43,20,43,{"$f":"#REF!+#REF!+D173","v":{"$error":"#REF!"}},{"$f":"#REF!+#REF!+E173","v":{"$error":"#REF!"}},{"$f":"#REF!+#REF!+F173","v":{"$error":"#REF!"}},{"$f":"#REF!+#REF!+G173","v":{"$error":"#REF!"}},{"$f":"#REF!+#REF!+H173","v":{"$error":"#REF!"}},{"$f":"#REF!+#REF!+I173","v":{"$error":"#REF!"}}]
[12,3420,"Minute Man Sail & Power  ",5,0,5,0,5,0,{"$f":"#REF!+#REF!+D174","v":{"$error":"#REF!"}},{"$f":"#REF!+#REF!+E174","v":{"$error":"#REF!"}},{"$f":"#REF!+#REF!+F174","v":{"$error":"#REF!"}},{"$f":"#REF!+#REF!+G174","v":{"$error":"#REF!"}},{"$f":"#REF!+#REF!+H174","v":{"$error":"#REF!"}},{"$f":"#REF!+#REF!+I174","v":{"$error":"#REF!"}}]
[12,3810,"Nobscot Sail & Power Sqd ",0,0,0,0,0,0,{"$f":"#REF!+#REF!+D175","v":{"$error":"#REF!"}},{"$f":"#REF!+#REF!+E175","v":{"$error":"#REF!"}},{"$f":"#REF!+#REF!+F175","v":{"$error":"#REF!"}},{"$f":"#REF!+#REF!+G175","v":{"$error":"#REF!"}},{"$f":"#REF!+#REF!+H175","v":{"$error":"#REF!"}},{"$f":"#REF!+#REF!+I175","v":{"$error":"#REF!"}}]
[12,4020,"Old Colony Power Squadron",27,44,22,44,22,44,{"$f":"#REF!+#REF!+D176","v":{"$error":"#REF!"}},{"$f":"#REF!+#REF!+E176","v":{"$error":"#REF!"}},{"$f":"#REF!+#REF!+F176","v":{"$error":"#REF!"}},{"$f":"#REF!+#REF!+G176","v":{"$error":"#REF!"}},{"$f":"#REF!+#REF!+H176","v":{"$error":"#REF!"}},{"$f":"#REF!+#REF!+I176","v":{"$error":"#REF!"}}]
[12,6330,"Worcester County Power   ",4,0,4,0,4,0,{"$f":"#REF!+#REF!+D177","v":{"$error":"#REF!"}},{"$f":"#REF!+#REF!+E177","v":{"$error":"#REF!"}},{"$f":"#REF!+#REF!+F177","v":{"$error":"#REF!"}},{"$f":"#REF!+#REF!+G177","v":{"$error":"#REF!"}},{"$f":"#REF!+#REF!+H177","v":{"$error":"#REF!"}},{"$f":"#REF!+#REF!+I177","v":{"$error":"#REF!"}}]
[13,75,"Alamitos Power Squadron  ",10,4,8,1,7,1,{"$f":"#REF!+#REF!+D178","v":{"$error":"#REF!"}},{"$f":"#REF!+#REF!+E178","v":{"$error":"#REF!"}},{"$f":"#REF!+#REF!+F178","v":{"$error":"#REF!"}},{"$f":"#REF!+#REF!+G178","v":{"$error":"#REF!"}},{"$f":"#REF!+#REF!+H178","v":{"$error":"#REF!"}},{"$f":"#REF!+#REF!+I178","v":{"$error":"#REF!"}}]
[13,195,"Arrowhead Sail & Power Sq",12,0,12,0,12,0,{"$f":"#REF!+#REF!+D179","v":{"$error":"#REF!"}},{"$f":"#REF!+#REF!+E179","v":{"$error":"#REF!"}},{"$f":"#REF!+#REF!+F179","v":{"$error":"#REF!"}},{"$f":"#REF!+#REF!+G179","v":{"$error":"#REF!"}},{"$f":"#REF!+#REF!+H179","v":{"$error":"#REF!"}},{"$f":"#REF!+#REF!+I179","v":{"$error":"#REF!"}}]
[13,2225,"Hawaii Sail & Power Squad",142,9,105,5,105,5,{"$f":"#REF!+#REF!+D180","v":{"$error":"#REF!"}},{"$f":"#REF!+#REF!+E180","v":{"$error":"#REF!"}},{"$f":"#REF!+#REF!+F180","v":{"$error":"#REF!"}},{"$f":"#REF!+#REF!+G180","v":{"$error":"#REF!"}},{"$f":"#REF!+#REF!+H180","v":{"$error":"#REF!"}},{"$f":"#REF!+#REF!+I180","v":{"$error":"#REF!"}}]
[13,2310,"Honolulu Power Squadron  ",34,0,25,0,25,0,{"$f":"#REF!+#REF!+D181","v":{"$error":"#REF!"}},{"$f":"#REF!+#REF!+E181","v":{"$error":"#REF!"}},{"$f":"#REF!+#REF!+F181","v":{"$error":"#REF!"}},{"$f":"#REF!+#REF!+G181","v":{"$error":"#REF!"}},{"$f":"#REF!+#REF!+H181","v":{"$error":"#REF!"}},{"$f":"#REF!+#REF!+I181","v":{"$error":"#REF!"}}]
[13,2835,"Las Vegas Sail & Power Sq",12,6,12,4,12,4,{"$f":"#REF!+#REF!+D182","v":{"$error":"#REF!"}},{"$f":"#REF!+#REF!+E182","v":{"$error":"#REF!"}},{"$f":"#REF!+#REF!+F182","v":{"$error":"#REF!"}},{"$f":"#REF!+#REF!+G182","v":{"$error":"#REF!"}},{"$f":"#REF!+#REF!+H182","v":{"$error":"#REF!"}},{"$f":"#REF!+#REF!+I182","v":{"$error":"#REF!"}}]
[13,2925,"Long Beach Power Squadron",4,4,2,4,2,4,{"$f":"#REF!+#REF!+D183","v":{"$error":"#REF!"}},{"$f":"#REF!+#REF!+E183","v":{"$error":"#REF!"}},{"$f":"#REF!+#REF!+F183","v":{"$error":"#REF!"}},{"$f":"#REF!+#REF!+G183","v":{"$error":"#REF!"}},{"$f":"#REF!+#REF!+H183","v":{"$error":"#REF!"}},{"$f":"#REF!+#REF!+I183","v":{"$error":"#REF!"}}]
[13,5235,"Santa Barbara Sail &     ",21,0,18,0,18,0,{"$f":"#REF!+#REF!+D184","v":{"$error":"#REF!"}},{"$f":"#REF!+#REF!+E184","v":{"$error":"#REF!"}},{"$f":"#REF!+#REF!+F184","v":{"$error":"#REF!"}},{"$f":"#REF!+#REF!+G184","v":{"$error":"#REF!"}},{"$f":"#REF!+#REF!+H184","v":{"$error":"#REF!"}},{"$f":"#REF!+#REF!+I184","v":{"$error":"#REF!"}}]
[13,5898,"The Valley Sail & Power  ",21,0,17,0,16,0,{"$f":"#REF!+#REF!+D185","v":{"$error":"#REF!"}},{"$f":"#REF!+#REF!+E185","v":{"$error":"#REF!"}},{"$f":"#REF!+#REF!+F185","v":{"$error":"#REF!"}},{"$f":"#REF!+#REF!+G185","v":{"$error":"#REF!"}},{"$f":"#REF!+#REF!+H185","v":{"$error":"#REF!"}},{"$f":"#REF!+#REF!+I185","v":{"$error":"#REF!"}}]
[13,5900,"Tokyo Sail & Power Squad ",0,0,0,0,0,0,{"$f":"#REF!+#REF!+D186","v":{"$error":"#REF!"}},{"$f":"#REF!+#REF!+E186","v":{"$error":"#REF!"}},{"$f":"#REF!+#REF!+F186","v":{"$error":"#REF!"}},{"$f":"#REF!+#REF!+G186","v":{"$error":"#REF!"}},{"$f":"#REF!+#REF!+H186","v":{"$error":"#REF!"}},{"$f":"#REF!+#REF!+I186","v":{"$error":"#REF!"}}]
[13,5926,"Tres Rios Power Squadron ",7,0,7,0,7,0,{"$f":"#REF!+#REF!+D187","v":{"$error":"#REF!"}},{"$f":"#REF!+#REF!+E187","v":{"$error":"#REF!"}},{"$f":"#REF!+#REF!+F187","v":{"$error":"#REF!"}},{"$f":"#REF!+#REF!+G187","v":{"$error":"#REF!"}},{"$f":"#REF!+#REF!+H187","v":{"$error":"#REF!"}},{"$f":"#REF!+#REF!+I187","v":{"$error":"#REF!"}}]
[13,6045,"Ventura Power Squadron   ",41,41,36,34,36,34,{"$f":"#REF!+#REF!+D188","v":{"$error":"#REF!"}},{"$f":"#REF!+#REF!+E188","v":{"$error":"#REF!"}},{"$f":"#REF!+#REF!+F188","v":{"$error":"#REF!"}},{"$f":"#REF!+#REF!+G188","v":{"$error":"#REF!"}},{"$f":"#REF!+#REF!+H188","v":{"$error":"#REF!"}},{"$f":"#REF!+#REF!+I188","v":{"$error":"#REF!"}}]
[14,735,"Buzzards Bay Sail & Power",14,15,14,15,14,15,{"$f":"#REF!+#REF!+D189","v":{"$error":"#REF!"}},{"$f":"#REF!+#REF!+E189","v":{"$error":"#REF!"}},{"$f":"#REF!+#REF!+F189","v":{"$error":"#REF!"}},{"$f":"#REF!+#REF!+G189","v":{"$error":"#REF!"}},{"$f":"#REF!+#REF!+H189","v":{"$error":"#REF!"}},{"$f":"#REF!+#REF!+I189","v":{"$error":"#REF!"}}]
[14,825,"Cape Cod Sail & Power Sqd",58,36,45,26,45,26,{"$f":"#REF!+#REF!+D190","v":{"$error":"#REF!"}},{"$f":"#REF!+#REF!+E190","v":{"$error":"#REF!"}},{"$f":"#REF!+#REF!+F190","v":{"$error":"#REF!"}},{"$f":"#REF!+#REF!+G190","v":{"$error":"#REF!"}},{"$f":"#REF!+#REF!+H190","v":{"$error":"#REF!"}},{"$f":"#REF!+#REF!+I190","v":{"$error":"#REF!"}}]
[14,2130,"Greenwich Bay Sail &     ",0,0,0,0,0,0,{"$f":"#REF!+#REF!+D191","v":{"$error":"#REF!"}},{"$f":"#REF!+#REF!+E191","v":{"$error":"#REF!"}},{"$f":"#REF!+#REF!+F191","v":{"$error":"#REF!"}},{"$f":"#REF!+#REF!+G191","v":{"$error":"#REF!"}},{"$f":"#REF!+#REF!+H191","v":{"$error":"#REF!"}},{"$f":"#REF!+#REF!+I191","v":{"$error":"#REF!"}}]
[14,3165,"Mattapoisett Power Squad ",0,0,0,0,0,0,{"$f":"#REF!+#REF!+D192","v":{"$error":"#REF!"}},{"$f":"#REF!+#REF!+E192","v":{"$error":"#REF!"}},{"$f":"#REF!+#REF!+F192","v":{"$error":"#REF!"}},{"$f":"#REF!+#REF!+G192","v":{"$error":"#REF!"}},{"$f":"#REF!+#REF!+H192","v":{"$error":"#REF!"}},{"$f":"#REF!+#REF!+I192","v":{"$error":"#REF!"}}]
[14,3630,"Narragansett Bay Power Sq",0,0,0,0,0,0,{"$f":"#REF!+#REF!+D193","v":{"$error":"#REF!"}},{"$f":"#REF!+#REF!+E193","v":{"$error":"#REF!"}},{"$f":"#REF!+#REF!+F193","v":{"$error":"#REF!"}},{"$f":"#REF!+#REF!+G193","v":{"$error":"#REF!"}},{"$f":"#REF!+#REF!+H193","v":{"$error":"#REF!"}},{"$f":"#REF!+#REF!+I193","v":{"$error":"#REF!"}}]
[14,3750,"Newport Sail & Power Sqd ",0,0,0,0,0,0,{"$f":"#REF!+#REF!+D194","v":{"$error":"#REF!"}},{"$f":"#REF!+#REF!+E194","v":{"$error":"#REF!"}},{"$f":"#REF!+#REF!+F194","v":{"$error":"#REF!"}},{"$f":"#REF!+#REF!+G194","v":{"$error":"#REF!"}},{"$f":"#REF!+#REF!+H194","v":{"$error":"#REF!"}},{"$f":"#REF!+#REF!+I194","v":{"$error":"#REF!"}}]
[14,5880,"Taunton River Power Squad",61,34,60,28,60,28,{"$f":"#REF!+#REF!+D195","v":{"$error":"#REF!"}},{"$f":"#REF!+#REF!+E195","v":{"$error":"#REF!"}},{"$f":"#REF!+#REF!+F195","v":{"$error":"#REF!"}},{"$f":"#REF!+#REF!+G195","v":{"$error":"#REF!"}},{"$f":"#REF!+#REF!+H195","v":{"$error":"#REF!"}},{"$f":"#REF!+#REF!+I195","v":{"$error":"#REF!"}}]
[15,375,"Baton Rouge Sail & Power ",0,0,0,0,0,0,{"$f":"#REF!+#REF!+D196","v":{"$error":"#REF!"}},{"$f":"#REF!+#REF!+E196","v":{"$error":"#REF!"}},{"$f":"#REF!+#REF!+F196","v":{"$error":"#REF!"}},{"$f":"#REF!+#REF!+G196","v":{"$error":"#REF!"}},{"$f":"#REF!+#REF!+H196","v":{"$error":"#REF!"}},{"$f":"#REF!+#REF!+I196","v":{"$error":"#REF!"}}]
[15,1860,"Ft. Walton Sail & Power  ",91,127,87,109,87,109,{"$f":"#REF!+#REF!+D197","v":{"$error":"#REF!"}},{"$f":"#REF!+#REF!+E197","v":{"$error":"#REF!"}},{"$f":"#REF!+#REF!+F197","v":{"$error":"#REF!"}},{"$f":"#REF!+#REF!+G197","v":{"$error":"#REF!"}},{"$f":"#REF!+#REF!+H197","v":{"$error":"#REF!"}},{"$f":"#REF!+#REF!+I197","v":{"$error":"#REF!"}}]
[15,2793,"Lake Pontchartrain Sail  ",17,8,17,8,17,8,{"$f":"#REF!+#REF!+D198","v":{"$error":"#REF!"}},{"$f":"#REF!+#REF!+E198","v":{"$error":"#REF!"}},{"$f":"#REF!+#REF!+F198","v":{"$error":"#REF!"}},{"$f":"#REF!+#REF!+G198","v":{"$error":"#REF!"}},{"$f":"#REF!+#REF!+H198","v":{"$error":"#REF!"}},{"$f":"#REF!+#REF!+I198","v":{"$error":"#REF!"}}]
[15,3451,"Mississippi Gulf Coast   ",0,6,0,6,0,6,{"$f":"#REF!+#REF!+D199","v":{"$error":"#REF!"}},{"$f":"#REF!+#REF!+E199","v":{"$error":"#REF!"}},{"$f":"#REF!+#REF!+F199","v":{"$error":"#REF!"}},{"$f":"#REF!+#REF!+G199","v":{"$error":"#REF!"}},{"$f":"#REF!+#REF!+H199","v":{"$error":"#REF!"}},{"$f":"#REF!+#REF!+I199","v":{"$error":"#REF!"}}]
[15,3465,"Mobile Sail & Power Squad",0,0,0,0,0,0,{"$f":"#REF!+#REF!+D200","v":{"$error":"#REF!"}},{"$f":"#REF!+#REF!+E200","v":{"$error":"#REF!"}},{"$f":"#REF!+#REF!+F200","v":{"$error":"#REF!"}},{"$f":"#REF!+#REF!+G200","v":{"$error":"#REF!"}},{"$f":"#REF!+#REF!+H200","v":{"$error":"#REF!"}},{"$f":"#REF!+#REF!+I200","v":{"$error":"#REF!"}}]
[15,3735,"New Orleans Power Squad  ",56,50,47,43,47,43,{"$f":"#REF!+#REF!+D201","v":{"$error":"#REF!"}},{"$f":"#REF!+#REF!+E201","v":{"$error":"#REF!"}},{"$f":"#REF!+#REF!+F201","v":{"$error":"#REF!"}},{"$f":"#REF!+#REF!+G201","v":{"$error":"#REF!"}},{"$f":"#REF!+#REF!+H201","v":{"$error":"#REF!"}},{"$f":"#REF!+#REF!+I201","v":{"$error":"#REF!"}}]
[15,4320,"Pensacola Sail & Power   ",29,7,25,5,24,5,{"$f":"#REF!+#REF!+D202","v":{"$error":"#REF!"}},{"$f":"#REF!+#REF!+E202","v":{"$error":"#REF!"}},{"$f":"#REF!+#REF!+F202","v":{"$error":"#REF!"}},{"$f":"#REF!+#REF!+G202","v":{"$error":"#REF!"}},{"$f":"#REF!+#REF!+H202","v":{"$error":"#REF!"}},{"$f":"#REF!+#REF!+I202","v":{"$error":"#REF!"}}]
[15,4355,"Perdido Bay Power Squad  ",31,38,31,37,31,37,{"$f":"#REF!+#REF!+D203","v":{"$error":"#REF!"}},{"$f":"#REF!+#REF!+E203","v":{"$error":"#REF!"}},{"$f":"#REF!+#REF!+F203","v":{"$error":"#REF!"}},{"$f":"#REF!+#REF!+G203","v":{"$error":"#REF!"}},{"$f":"#REF!+#REF!+H203","v":{"$error":"#REF!"}},{"$f":"#REF!+#REF!+I203","v":{"$error":"#REF!"}}]
[16,30,"Agate Pass Sail & Power  ",3,4,3,2,3,2,{"$f":"#REF!+#REF!+D204","v":{"$error":"#REF!"}},{"$f":"#REF!+#REF!+E204","v":{"$error":"#REF!"}},{"$f":"#REF!+#REF!+F204","v":{"$error":"#REF!"}},{"$f":"#REF!+#REF!+G204","v":{"$error":"#REF!"}},{"$f":"#REF!+#REF!+H204","v":{"$error":"#REF!"}},{"$f":"#REF!+#REF!+I204","v":{"$error":"#REF!"}}]
[16,450,"Bellevue Sail & Power Sqd",61,77,54,73,54,73,{"$f":"#REF!+#REF!+D205","v":{"$error":"#REF!"}},{"$f":"#REF!+#REF!+E205","v":{"$error":"#REF!"}},{"$f":"#REF!+#REF!+F205","v":{"$error":"#REF!"}},{"$f":"#REF!+#REF!+G205","v":{"$error":"#REF!"}},{"$f":"#REF!+#REF!+H205","v":{"$error":"#REF!"}},{"$f":"#REF!+#REF!+I205","v":{"$error":"#REF!"}}]
[16,465,"Bellingham Sail & Power  ",49,57,46,55,46,55,{"$f":"#REF!+#REF!+D206","v":{"$error":"#REF!"}},{"$f":"#REF!+#REF!+E206","v":{"$error":"#REF!"}},{"$f":"#REF!+#REF!+F206","v":{"$error":"#REF!"}},{"$f":"#REF!+#REF!+G206","v":{"$error":"#REF!"}},{"$f":"#REF!+#REF!+H206","v":{"$error":"#REF!"}},{"$f":"#REF!+#REF!+I206","v":{"$error":"#REF!"}}]
[16,630,"Bremerton Sail & Power Sq",37,23,28,20,28,20,{"$f":"#REF!+#REF!+D207","v":{"$error":"#REF!"}},{"$f":"#REF!+#REF!+E207","v":{"$error":"#REF!"}},{"$f":"#REF!+#REF!+F207","v":{"$error":"#REF!"}},{"$f":"#REF!+#REF!+G207","v":{"$error":"#REF!"}},{"$f":"#REF!+#REF!+H207","v":{"$error":"#REF!"}},{"$f":"#REF!+#REF!+I207","v":{"$error":"#REF!"}}]
[16,1430,"Deception Pass Sail &    ",23,15,23,14,23,14,{"$f":"#REF!+#REF!+D208","v":{"$error":"#REF!"}},{"$f":"#REF!+#REF!+E208","v":{"$error":"#REF!"}},{"$f":"#REF!+#REF!+F208","v":{"$error":"#REF!"}},{"$f":"#REF!+#REF!+G208","v":{"$error":"#REF!"}},{"$f":"#REF!+#REF!+H208","v":{"$error":"#REF!"}},{"$f":"#REF!+#REF!+I208","v":{"$error":"#REF!"}}]
[16,1680,"Everett Sail & Power Sqd ",37,35,37,32,37,32,{"$f":"#REF!+#REF!+D209","v":{"$error":"#REF!"}},{"$f":"#REF!+#REF!+E209","v":{"$error":"#REF!"}},{"$f":"#REF!+#REF!+F209","v":{"$error":"#REF!"}},{"$f":"#REF!+#REF!+G209","v":{"$error":"#REF!"}},{"$f":"#REF!+#REF!+H209","v":{"$error":"#REF!"}},{"$f":"#REF!+#REF!+I209","v":{"$error":"#REF!"}}]
[16,1955,"Friday Harbor Power Squad",93,45,85,38,85,38,{"$f":"#REF!+#REF!+D210","v":{"$error":"#REF!"}},{"$f":"#REF!+#REF!+E210","v":{"$error":"#REF!"}},{"$f":"#REF!+#REF!+F210","v":{"$error":"#REF!"}},{"$f":"#REF!+#REF!+G210","v":{"$error":"#REF!"}},{"$f":"#REF!+#REF!+H210","v":{"$error":"#REF!"}},{"$f":"#REF!+#REF!+I210","v":{"$error":"#REF!"}}]
[16,3875,"North Olympic Sail &     ",52,14,47,13,47,13,{"$f":"#REF!+#REF!+D211","v":{"$error":"#REF!"}},{"$f":"#REF!+#REF!+E211","v":{"$error":"#REF!"}},{"$f":"#REF!+#REF!+F211","v":{"$error":"#REF!"}},{"$f":"#REF!+#REF!+G211","v":{"$error":"#REF!"}},{"$f":"#REF!+#REF!+H211","v":{"$error":"#REF!"}},{"$f":"#REF!+#REF!+I211","v":{"$error":"#REF!"}}]
[16,76,"North Star Sail &        ",0,0,0,0,0,0,{"$f":"#REF!+#REF!+D212","v":{"$error":"#REF!"}},{"$f":"#REF!+#REF!+E212","v":{"$error":"#REF!"}},{"$f":"#REF!+#REF!+F212","v":{"$error":"#REF!"}},{"$f":"#REF!+#REF!+G212","v":{"$error":"#REF!"}},{"$f":"#REF!+#REF!+H212","v":{"$error":"#REF!"}},{"$f":"#REF!+#REF!+I212","v":{"$error":"#REF!"}}]
[16,4050,"Olympia Sail & Power Sqd ",9,39,9,36,9,34,{"$f":"#REF!+#REF!+D213","v":{"$error":"#REF!"}},{"$f":"#REF!+#REF!+E213","v":{"$error":"#REF!"}},{"$f":"#REF!+#REF!+F213","v":{"$error":"#REF!"}},{"$f":"#REF!+#REF!+G213","v":{"$error":"#REF!"}},{"$f":"#REF!+#REF!+H213","v":{"$error":"#REF!"}},{"$f":"#REF!+#REF!+I213","v":{"$error":"#REF!"}}]
[16,4560,"Poverty Bay Sail & Power ",57,44,57,43,57,43,{"$f":"#REF!+#REF!+D214","v":{"$error":"#REF!"}},{"$f":"#REF!+#REF!+E214","v":{"$error":"#REF!"}},{"$f":"#REF!+#REF!+F214","v":{"$error":"#REF!"}},{"$f":"#REF!+#REF!+G214","v":{"$error":"#REF!"}},{"$f":"#REF!+#REF!+H214","v":{"$error":"#REF!"}},{"$f":"#REF!+#REF!+I214","v":{"$error":"#REF!"}}]
[16,4396,"Pt. Wilson Sail & Power  ",16,20,15,19,15,19,{"$f":"#REF!+#REF!+D215","v":{"$error":"#REF!"}},{"$f":"#REF!+#REF!+E215","v":{"$error":"#REF!"}},{"$f":"#REF!+#REF!+F215","v":{"$error":"#REF!"}},{"$f":"#REF!+#REF!+G215","v":{"$error":"#REF!"}},{"$f":"#REF!+#REF!+H215","v":{"$error":"#REF!"}},{"$f":"#REF!+#REF!+I215","v":{"$error":"#REF!"}}]
[16,5370,"Seattle Sail & Power Sqd ",137,62,130,57,130,53,{"$f":"#REF!+#REF!+D216","v":{"$error":"#REF!"}},{"$f":"#REF!+#REF!+E216","v":{"$error":"#REF!"}},{"$f":"#REF!+#REF!+F216","v":{"$error":"#REF!"}},{"$f":"#REF!+#REF!+G216","v":{"$error":"#REF!"}},{"$f":"#REF!+#REF!+H216","v":{"$error":"#REF!"}},{"$f":"#REF!+#REF!+I216","v":{"$error":"#REF!"}}]
[16,5495,"Skagit Bay Sail & Power  ",12,19,6,18,6,18,{"$f":"#REF!+#REF!+D217","v":{"$error":"#REF!"}},{"$f":"#REF!+#REF!+E217","v":{"$error":"#REF!"}},{"$f":"#REF!+#REF!+F217","v":{"$error":"#REF!"}},{"$f":"#REF!+#REF!+G217","v":{"$error":"#REF!"}},{"$f":"#REF!+#REF!+H217","v":{"$error":"#REF!"}},{"$f":"#REF!+#REF!+I217","v":{"$error":"#REF!"}}]
[16,5565,"Spokane Sail & Power Sqd ",2,10,2,10,2,10,{"$f":"#REF!+#REF!+D218","v":{"$error":"#REF!"}},{"$f":"#REF!+#REF!+E218","v":{"$error":"#REF!"}},{"$f":"#REF!+#REF!+F218","v":{"$error":"#REF!"}},{"$f":"#REF!+#REF!+G218","v":{"$error":"#REF!"}},{"$f":"#REF!+#REF!+H218","v":{"$error":"#REF!"}},{"$f":"#REF!+#REF!+I218","v":{"$error":"#REF!"}}]
[16,5805,"Tacoma Power Squadron    ",16,16,12,13,12,13,{"$f":"#REF!+#REF!+D219","v":{"$error":"#REF!"}},{"$f":"#REF!+#REF!+E219","v":{"$error":"#REF!"}},{"$f":"#REF!+#REF!+F219","v":{"$error":"#REF!"}},{"$f":"#REF!+#REF!+G219","v":{"$error":"#REF!"}},{"$f":"#REF!+#REF!+H219","v":{"$error":"#REF!"}},{"$f":"#REF!+#REF!+I219","v":{"$error":"#REF!"}}]
[17,240,"Atlanta Sail & Power Sqd ",94,17,94,15,94,15,{"$f":"#REF!+#REF!+D220","v":{"$error":"#REF!"}},{"$f":"#REF!+#REF!+E220","v":{"$error":"#REF!"}},{"$f":"#REF!+#REF!+F220","v":{"$error":"#REF!"}},{"$f":"#REF!+#REF!+G220","v":{"$error":"#REF!"}},{"$f":"#REF!+#REF!+H220","v":{"$error":"#REF!"}},{"$f":"#REF!+#REF!+I220","v":{"$error":"#REF!"}}]
[17,210,"Blue Ridge Sail & Power  ",0,0,0,0,0,0,{"$f":"#REF!+#REF!+D221","v":{"$error":"#REF!"}},{"$f":"#REF!+#REF!+E221","v":{"$error":"#REF!"}},{"$f":"#REF!+#REF!+F221","v":{"$error":"#REF!"}},{"$f":"#REF!+#REF!+G221","v":{"$error":"#REF!"}},{"$f":"#REF!+#REF!+H221","v":{"$error":"#REF!"}},{"$f":"#REF!+#REF!+I221","v":{"$error":"#REF!"}}]
[17,1050,"Chattanooga Power Squad  ",6,8,5,8,5,8,{"$f":"#REF!+#REF!+D222","v":{"$error":"#REF!"}},{"$f":"#REF!+#REF!+E222","v":{"$error":"#REF!"}},{"$f":"#REF!+#REF!+F222","v":{"$error":"#REF!"}},{"$f":"#REF!+#REF!+G222","v":{"$error":"#REF!"}},{"$f":"#REF!+#REF!+H222","v":{"$error":"#REF!"}},{"$f":"#REF!+#REF!+I222","v":{"$error":"#REF!"}}]
[17,2400,"Huntsville Power Squadron",22,10,21,10,21,10,{"$f":"#REF!+#REF!+D223","v":{"$error":"#REF!"}},{"$f":"#REF!+#REF!+E223","v":{"$error":"#REF!"}},{"$f":"#REF!+#REF!+F223","v":{"$error":"#REF!"}},{"$f":"#REF!+#REF!+G223","v":{"$error":"#REF!"}},{"$f":"#REF!+#REF!+H223","v":{"$error":"#REF!"}},{"$f":"#REF!+#REF!+I223","v":{"$error":"#REF!"}}]
[17,2505,"Johnson City Power Squad ",0,0,0,0,0,0,{"$f":"#REF!+#REF!+D224","v":{"$error":"#REF!"}},{"$f":"#REF!+#REF!+E224","v":{"$error":"#REF!"}},{"$f":"#REF!+#REF!+F224","v":{"$error":"#REF!"}},{"$f":"#REF!+#REF!+G224","v":{"$error":"#REF!"}},{"$f":"#REF!+#REF!+H224","v":{"$error":"#REF!"}},{"$f":"#REF!+#REF!+I224","v":{"$error":"#REF!"}}]
[17,2700,"Knoxville Power Squadron ",16,5,14,4,14,4,{"$f":"#REF!+#REF!+D225","v":{"$error":"#REF!"}},{"$f":"#REF!+#REF!+E225","v":{"$error":"#REF!"}},{"$f":"#REF!+#REF!+F225","v":{"$error":"#REF!"}},{"$f":"#REF!+#REF!+G225","v":{"$error":"#REF!"}},{"$f":"#REF!+#REF!+H225","v":{"$error":"#REF!"}},{"$f":"#REF!+#REF!+I225","v":{"$error":"#REF!"}}]
[17,3195,"Memphis Sail & Power     ",0,0,0,0,0,0,{"$f":"#REF!+#REF!+D226","v":{"$error":"#REF!"}},{"$f":"#REF!+#REF!+E226","v":{"$error":"#REF!"}},{"$f":"#REF!+#REF!+F226","v":{"$error":"#REF!"}},{"$f":"#REF!+#REF!+G226","v":{"$error":"#REF!"}},{"$f":"#REF!+#REF!+H226","v":{"$error":"#REF!"}},{"$f":"#REF!+#REF!+I226","v":{"$error":"#REF!"}}]
[17,3585,"Montgomery Power Squadron",0,0,0,0,0,0,{"$f":"#REF!+#REF!+D227","v":{"$error":"#REF!"}},{"$f":"#REF!+#REF!+E227","v":{"$error":"#REF!"}},{"$f":"#REF!+#REF!+F227","v":{"$error":"#REF!"}},{"$f":"#REF!+#REF!+G227","v":{"$error":"#REF!"}},{"$f":"#REF!+#REF!+H227","v":{"$error":"#REF!"}},{"$f":"#REF!+#REF!+I227","v":{"$error":"#REF!"}}]
[17,3555,"Muscogee Sail & Power Sqd",0,0,0,0,0,0,{"$f":"#REF!+#REF!+D228","v":{"$error":"#REF!"}},{"$f":"#REF!+#REF!+E228","v":{"$error":"#REF!"}},{"$f":"#REF!+#REF!+F228","v":{"$error":"#REF!"}},{"$f":"#REF!+#REF!+G228","v":{"$error":"#REF!"}},{"$f":"#REF!+#REF!+H228","v":{"$error":"#REF!"}},{"$f":"#REF!+#REF!+I228","v":{"$error":"#REF!"}}]
[17,3560,"Music City               ",9,8,9,7,9,7,{"$f":"#REF!+#REF!+D229","v":{"$error":"#REF!"}},{"$f":"#REF!+#REF!+E229","v":{"$error":"#REF!"}},{"$f":"#REF!+#REF!+F229","v":{"$error":"#REF!"}},{"$f":"#REF!+#REF!+G229","v":{"$error":"#REF!"}},{"$f":"#REF!+#REF!+H229","v":{"$error":"#REF!"}},{"$f":"#REF!+#REF!+I229","v":{"$error":"#REF!"}}]
[17,3960,"Oak Ridge Power Squadron ",0,0,0,0,0,0,{"$f":"#REF!+#REF!+D230","v":{"$error":"#REF!"}},{"$f":"#REF!+#REF!+E230","v":{"$error":"#REF!"}},{"$f":"#REF!+#REF!+F230","v":{"$error":"#REF!"}},{"$f":"#REF!+#REF!+G230","v":{"$error":"#REF!"}},{"$f":"#REF!+#REF!+H230","v":{"$error":"#REF!"}},{"$f":"#REF!+#REF!+I230","v":{"$error":"#REF!"}}]
[17,6105,"Vulcan Power Squadron    ",4,0,4,0,4,0,{"$f":"#REF!+#REF!+D231","v":{"$error":"#REF!"}},{"$f":"#REF!+#REF!+E231","v":{"$error":"#REF!"}},{"$f":"#REF!+#REF!+F231","v":{"$error":"#REF!"}},{"$f":"#REF!+#REF!+G231","v":{"$error":"#REF!"}},{"$f":"#REF!+#REF!+H231","v":{"$error":"#REF!"}},{"$f":"#REF!+#REF!+I231","v":{"$error":"#REF!"}}]
[19,105,"Amoskeag Power Squadron  ",8,49,8,41,8,41,{"$f":"#REF!+#REF!+D232","v":{"$error":"#REF!"}},{"$f":"#REF!+#REF!+E232","v":{"$error":"#REF!"}},{"$f":"#REF!+#REF!+F232","v":{"$error":"#REF!"}},{"$f":"#REF!+#REF!+G232","v":{"$error":"#REF!"}},{"$f":"#REF!+#REF!+H232","v":{"$error":"#REF!"}},{"$f":"#REF!+#REF!+I232","v":{"$error":"#REF!"}}]
[19,193,"Aroostook Valley Sail &  ",0,0,0,0,0,0,{"$f":"#REF!+#REF!+D233","v":{"$error":"#REF!"}},{"$f":"#REF!+#REF!+E233","v":{"$error":"#REF!"}},{"$f":"#REF!+#REF!+F233","v":{"$error":"#REF!"}},{"$f":"#REF!+#REF!+G233","v":{"$error":"#REF!"}},{"$f":"#REF!+#REF!+H233","v":{"$error":"#REF!"}},{"$f":"#REF!+#REF!+I233","v":{"$error":"#REF!"}}]
[19,2580,"Kennebec River Sail &    ",14,0,14,0,14,0,{"$f":"#REF!+#REF!+D234","v":{"$error":"#REF!"}},{"$f":"#REF!+#REF!+E234","v":{"$error":"#REF!"}},{"$f":"#REF!+#REF!+F234","v":{"$error":"#REF!"}},{"$f":"#REF!+#REF!+G234","v":{"$error":"#REF!"}},{"$f":"#REF!+#REF!+H234","v":{"$error":"#REF!"}},{"$f":"#REF!+#REF!+I234","v":{"$error":"#REF!"}}]
[19,2794,"Lakes Region Sail & Power",55,38,55,38,55,37,{"$f":"#REF!+#REF!+D235","v":{"$error":"#REF!"}},{"$f":"#REF!+#REF!+E235","v":{"$error":"#REF!"}},{"$f":"#REF!+#REF!+F235","v":{"$error":"#REF!"}},{"$f":"#REF!+#REF!+G235","v":{"$error":"#REF!"}},{"$f":"#REF!+#REF!+H235","v":{"$error":"#REF!"}},{"$f":"#REF!+#REF!+I235","v":{"$error":"#REF!"}}]
[19,3225,"Merrimac River Sail &    ",14,0,13,0,13,0,{"$f":"#REF!+#REF!+D236","v":{"$error":"#REF!"}},{"$f":"#REF!+#REF!+E236","v":{"$error":"#REF!"}},{"$f":"#REF!+#REF!+F236","v":{"$error":"#REF!"}},{"$f":"#REF!+#REF!+G236","v":{"$error":"#REF!"}},{"$f":"#REF!+#REF!+H236","v":{"$error":"#REF!"}},{"$f":"#REF!+#REF!+I236","v":{"$error":"#REF!"}}]
[19,3305,"Mid-Coast Sail & Power Sq",0,0,0,0,0,0,{"$f":"#REF!+#REF!+D237","v":{"$error":"#REF!"}},{"$f":"#REF!+#REF!+E237","v":{"$error":"#REF!"}},{"$f":"#REF!+#REF!+F237","v":{"$error":"#REF!"}},{"$f":"#REF!+#REF!+G237","v":{"$error":"#REF!"}},{"$f":"#REF!+#REF!+H237","v":{"$error":"#REF!"}},{"$f":"#REF!+#REF!+I237","v":{"$error":"#REF!"}}]
[19,4305,"Penobscot Bay Sail &     ",13,14,12,14,10,13,{"$f":"#REF!+#REF!+D238","v":{"$error":"#REF!"}},{"$f":"#REF!+#REF!+E238","v":{"$error":"#REF!"}},{"$f":"#REF!+#REF!+F238","v":{"$error":"#REF!"}},{"$f":"#REF!+#REF!+G238","v":{"$error":"#REF!"}},{"$f":"#REF!+#REF!+H238","v":{"$error":"#REF!"}},{"$f":"#REF!+#REF!+I238","v":{"$error":"#REF!"}}]
[19,4505,"Portland Head Sail &     ",0,5,0,2,0,2,{"$f":"#REF!+#REF!+D239","v":{"$error":"#REF!"}},{"$f":"#REF!+#REF!+E239","v":{"$error":"#REF!"}},{"$f":"#REF!+#REF!+F239","v":{"$error":"#REF!"}},{"$f":"#REF!+#REF!+G239","v":{"$error":"#REF!"}},{"$f":"#REF!+#REF!+H239","v":{"$error":"#REF!"}},{"$f":"#REF!+#REF!+I239","v":{"$error":"#REF!"}}]
[19,4515,"Portsmouth Power Squadron",9,0,8,0,8,0,{"$f":"#REF!+#REF!+D240","v":{"$error":"#REF!"}},{"$f":"#REF!+#REF!+E240","v":{"$error":"#REF!"}},{"$f":"#REF!+#REF!+F240","v":{"$error":"#REF!"}},{"$f":"#REF!+#REF!+G240","v":{"$error":"#REF!"}},{"$f":"#REF!+#REF!+H240","v":{"$error":"#REF!"}},{"$f":"#REF!+#REF!+I240","v":{"$error":"#REF!"}}]
[19,6210,"Wawenock Sail & Power Sqd",37,74,29,71,29,70,{"$f":"#REF!+#REF!+D241","v":{"$error":"#REF!"}},{"$f":"#REF!+#REF!+E241","v":{"$error":"#REF!"}},{"$f":"#REF!+#REF!+F241","v":{"$error":"#REF!"}},{"$f":"#REF!+#REF!+G241","v":{"$error":"#REF!"}},{"$f":"#REF!+#REF!+H241","v":{"$error":"#REF!"}},{"$f":"#REF!+#REF!+I241","v":{"$error":"#REF!"}}]
[20,975,"Chain-O-Lakes Sail &     ",5,2,3,2,3,2,{"$f":"#REF!+#REF!+D242","v":{"$error":"#REF!"}},{"$f":"#REF!+#REF!+E242","v":{"$error":"#REF!"}},{"$f":"#REF!+#REF!+F242","v":{"$error":"#REF!"}},{"$f":"#REF!+#REF!+G242","v":{"$error":"#REF!"}},{"$f":"#REF!+#REF!+H242","v":{"$error":"#REF!"}},{"$f":"#REF!+#REF!+I242","v":{"$error":"#REF!"}}]
[20,1080,"Chicago Power Squadron   ",30,10,18,8,18,8,{"$f":"#REF!+#REF!+D243","v":{"$error":"#REF!"}},{"$f":"#REF!+#REF!+E243","v":{"$error":"#REF!"}},{"$f":"#REF!+#REF!+F243","v":{"$error":"#REF!"}},{"$f":"#REF!+#REF!+G243","v":{"$error":"#REF!"}},{"$f":"#REF!+#REF!+H243","v":{"$error":"#REF!"}},{"$f":"#REF!+#REF!+I243","v":{"$error":"#REF!"}}]
[20,1425,"Decatur Power Squadron   ",0,0,0,0,0,0,{"$f":"#REF!+#REF!+D244","v":{"$error":"#REF!"}},{"$f":"#REF!+#REF!+E244","v":{"$error":"#REF!"}},{"$f":"#REF!+#REF!+F244","v":{"$error":"#REF!"}},{"$f":"#REF!+#REF!+G244","v":{"$error":"#REF!"}},{"$f":"#REF!+#REF!+H244","v":{"$error":"#REF!"}},{"$f":"#REF!+#REF!+I244","v":{"$error":"#REF!"}}]
[20,1575,"DuPage Sail & Power Squad",0,0,0,0,0,0,{"$f":"#REF!+#REF!+D245","v":{"$error":"#REF!"}},{"$f":"#REF!+#REF!+E245","v":{"$error":"#REF!"}},{"$f":"#REF!+#REF!+F245","v":{"$error":"#REF!"}},{"$f":"#REF!+#REF!+G245","v":{"$error":"#REF!"}},{"$f":"#REF!+#REF!+H245","v":{"$error":"#REF!"}},{"$f":"#REF!+#REF!+I245","v":{"$error":"#REF!"}}]
[20,1935,"Fox Valley Power Squadron",20,4,11,0,11,0,{"$f":"#REF!+#REF!+D246","v":{"$error":"#REF!"}},{"$f":"#REF!+#REF!+E246","v":{"$error":"#REF!"}},{"$f":"#REF!+#REF!+F246","v":{"$error":"#REF!"}},{"$f":"#REF!+#REF!+G246","v":{"$error":"#REF!"}},{"$f":"#REF!+#REF!+H246","v":{"$error":"#REF!"}},{"$f":"#REF!+#REF!+I246","v":{"$error":"#REF!"}}]
[20,2430,"Illinois Valley Power Sqd",4,8,4,8,4,8,{"$f":"#REF!+#REF!+D247","v":{"$error":"#REF!"}},{"$f":"#REF!+#REF!+E247","v":{"$error":"#REF!"}},{"$f":"#REF!+#REF!+F247","v":{"$error":"#REF!"}},{"$f":"#REF!+#REF!+G247","v":{"$error":"#REF!"}},{"$f":"#REF!+#REF!+H247","v":{"$error":"#REF!"}},{"$f":"#REF!+#REF!+I247","v":{"$error":"#REF!"}}]
[20,2560,"Kankakee Valley Sail &   ",0,7,0,7,0,7,{"$f":"#REF!+#REF!+D248","v":{"$error":"#REF!"}},{"$f":"#REF!+#REF!+E248","v":{"$error":"#REF!"}},{"$f":"#REF!+#REF!+F248","v":{"$error":"#REF!"}},{"$f":"#REF!+#REF!+G248","v":{"$error":"#REF!"}},{"$f":"#REF!+#REF!+H248","v":{"$error":"#REF!"}},{"$f":"#REF!+#REF!+I248","v":{"$error":"#REF!"}}]
[20,2805,"Land of Lincoln Power Sqd",8,22,7,21,7,21,{"$f":"#REF!+#REF!+D249","v":{"$error":"#REF!"}},{"$f":"#REF!+#REF!+E249","v":{"$error":"#REF!"}},{"$f":"#REF!+#REF!+F249","v":{"$error":"#REF!"}},{"$f":"#REF!+#REF!+G249","v":{"$error":"#REF!"}},{"$f":"#REF!+#REF!+H249","v":{"$error":"#REF!"}},{"$f":"#REF!+#REF!+I249","v":{"$error":"#REF!"}}]
[20,3285,"Michigan City Power Squad",7,12,7,12,7,12,{"$f":"#REF!+#REF!+D250","v":{"$error":"#REF!"}},{"$f":"#REF!+#REF!+E250","v":{"$error":"#REF!"}},{"$f":"#REF!+#REF!+F250","v":{"$error":"#REF!"}},{"$f":"#REF!+#REF!+G250","v":{"$error":"#REF!"}},{"$f":"#REF!+#REF!+H250","v":{"$error":"#REF!"}},{"$f":"#REF!+#REF!+I250","v":{"$error":"#REF!"}}]
[20,3316,"Mid Illini Power Squadron",0,15,0,15,0,15,{"$f":"#REF!+#REF!+D251","v":{"$error":"#REF!"}},{"$f":"#REF!+#REF!+E251","v":{"$error":"#REF!"}},{"$f":"#REF!+#REF!+F251","v":{"$error":"#REF!"}},{"$f":"#REF!+#REF!+G251","v":{"$error":"#REF!"}},{"$f":"#REF!+#REF!+H251","v":{"$error":"#REF!"}},{"$f":"#REF!+#REF!+I251","v":{"$error":"#REF!"}}]
[20,4635,"Racine Sail & Power Squad",0,0,0,0,0,0,{"$f":"#REF!+#REF!+D252","v":{"$error":"#REF!"}},{"$f":"#REF!+#REF!+E252","v":{"$error":"#REF!"}},{"$f":"#REF!+#REF!+F252","v":{"$error":"#REF!"}},{"$f":"#REF!+#REF!+G252","v":{"$error":"#REF!"}},{"$f":"#REF!+#REF!+H252","v":{"$error":"#REF!"}},{"$f":"#REF!+#REF!+I252","v":{"$error":"#REF!"}}]
[20,4770,"Rockford Power Squadron  ",7,10,7,10,7,9,{"$f":"#REF!+#REF!+D253","v":{"$error":"#REF!"}},{"$f":"#REF!+#REF!+E253","v":{"$error":"#REF!"}},{"$f":"#REF!+#REF!+F253","v":{"$error":"#REF!"}},{"$f":"#REF!+#REF!+G253","v":{"$error":"#REF!"}},{"$f":"#REF!+#REF!+H253","v":{"$error":"#REF!"}},{"$f":"#REF!+#REF!+I253","v":{"$error":"#REF!"}}]
[20,5505,"Skokie Valley Power Squad",21,1,18,0,18,0,{"$f":"#REF!+#REF!+D254","v":{"$error":"#REF!"}},{"$f":"#REF!+#REF!+E254","v":{"$error":"#REF!"}},{"$f":"#REF!+#REF!+F254","v":{"$error":"#REF!"}},{"$f":"#REF!+#REF!+G254","v":{"$error":"#REF!"}},{"$f":"#REF!+#REF!+H254","v":{"$error":"#REF!"}},{"$f":"#REF!+#REF!+I254","v":{"$error":"#REF!"}}]
[20,1140,"Two Rivers Power Squadron",0,0,0,0,0,0,{"$f":"#REF!+#REF!+D255","v":{"$error":"#REF!"}},{"$f":"#REF!+#REF!+E255","v":{"$error":"#REF!"}},{"$f":"#REF!+#REF!+F255","v":{"$error":"#REF!"}},{"$f":"#REF!+#REF!+G255","v":{"$error":"#REF!"}},{"$f":"#REF!+#REF!+H255","v":{"$error":"#REF!"}},{"$f":"#REF!+#REF!+I255","v":{"$error":"#REF!"}}]
[20,6195,"Waukegan Sail & Power Sqd",12,0,11,0,11,0,{"$f":"#REF!+#REF!+D256","v":{"$error":"#REF!"}},{"$f":"#REF!+#REF!+E256","v":{"$error":"#REF!"}},{"$f":"#REF!+#REF!+F256","v":{"$error":"#REF!"}},{"$f":"#REF!+#REF!+G256","v":{"$error":"#REF!"}},{"$f":"#REF!+#REF!+H256","v":{"$error":"#REF!"}},{"$f":"#REF!+#REF!+I256","v":{"$error":"#REF!"}}]
[21,285,"Austin Power Squadron    ",13,14,12,14,12,14,{"$f":"#REF!+#REF!+D257","v":{"$error":"#REF!"}},{"$f":"#REF!+#REF!+E257","v":{"$error":"#REF!"}},{"$f":"#REF!+#REF!+F257","v":{"$error":"#REF!"}},{"$f":"#REF!+#REF!+G257","v":{"$error":"#REF!"}},{"$f":"#REF!+#REF!+H257","v":{"$error":"#REF!"}},{"$f":"#REF!+#REF!+I257","v":{"$error":"#REF!"}}]
[21,1335,"Dallas Sail & Power Squad",3,15,1,13,1,10,{"$f":"#REF!+#REF!+D258","v":{"$error":"#REF!"}},{"$f":"#REF!+#REF!+E258","v":{"$error":"#REF!"}},{"$f":"#REF!+#REF!+F258","v":{"$error":"#REF!"}},{"$f":"#REF!+#REF!+G258","v":{"$error":"#REF!"}},{"$f":"#REF!+#REF!+H258","v":{"$error":"#REF!"}},{"$f":"#REF!+#REF!+I258","v":{"$error":"#REF!"}}]
[21,1890,"Ft. Worth Power Squadron ",4,0,4,0,4,0,{"$f":"#REF!+#REF!+D259","v":{"$error":"#REF!"}},{"$f":"#REF!+#REF!+E259","v":{"$error":"#REF!"}},{"$f":"#REF!+#REF!+F259","v":{"$error":"#REF!"}},{"$f":"#REF!+#REF!+G259","v":{"$error":"#REF!"}},{"$f":"#REF!+#REF!+H259","v":{"$error":"#REF!"}},{"$f":"#REF!+#REF!+I259","v":{"$error":"#REF!"}}]
[21,1980,"Galveston Bay Power Squad",25,18,15,17,15,17,{"$f":"#REF!+#REF!+D260","v":{"$error":"#REF!"}},{"$f":"#REF!+#REF!+E260","v":{"$error":"#REF!"}},{"$f":"#REF!+#REF!+F260","v":{"$error":"#REF!"}},{"$f":"#REF!+#REF!+G260","v":{"$error":"#REF!"}},{"$f":"#REF!+#REF!+H260","v":{"$error":"#REF!"}},{"$f":"#REF!+#REF!+I260","v":{"$error":"#REF!"}}]
[21,2370,"Houston Sail & Power Sqd ",116,87,116,87,116,86,{"$f":"#REF!+#REF!+D261","v":{"$error":"#REF!"}},{"$f":"#REF!+#REF!+E261","v":{"$error":"#REF!"}},{"$f":"#REF!+#REF!+F261","v":{"$error":"#REF!"}},{"$f":"#REF!+#REF!+G261","v":{"$error":"#REF!"}},{"$f":"#REF!+#REF!+H261","v":{"$error":"#REF!"}},{"$f":"#REF!+#REF!+I261","v":{"$error":"#REF!"}}]
[21,2745,"Lake Charles Sail &      ",4,36,4,36,4,36,{"$f":"#REF!+#REF!+D262","v":{"$error":"#REF!"}},{"$f":"#REF!+#REF!+E262","v":{"$error":"#REF!"}},{"$f":"#REF!+#REF!+F262","v":{"$error":"#REF!"}},{"$f":"#REF!+#REF!+G262","v":{"$error":"#REF!"}},{"$f":"#REF!+#REF!+H262","v":{"$error":"#REF!"}},{"$f":"#REF!+#REF!+I262","v":{"$error":"#REF!"}}]
[21,3005,"Lower Rio Grande Valley  ",4,0,4,0,2,0,{"$f":"#REF!+#REF!+D263","v":{"$error":"#REF!"}},{"$f":"#REF!+#REF!+E263","v":{"$error":"#REF!"}},{"$f":"#REF!+#REF!+F263","v":{"$error":"#REF!"}},{"$f":"#REF!+#REF!+G263","v":{"$error":"#REF!"}},{"$f":"#REF!+#REF!+H263","v":{"$error":"#REF!"}},{"$f":"#REF!+#REF!+I263","v":{"$error":"#REF!"}}]
[21,4005,"Oklahoma City Sail &     ",0,6,0,2,0,2,{"$f":"#REF!+#REF!+D264","v":{"$error":"#REF!"}},{"$f":"#REF!+#REF!+E264","v":{"$error":"#REF!"}},{"$f":"#REF!+#REF!+F264","v":{"$error":"#REF!"}},{"$f":"#REF!+#REF!+G264","v":{"$error":"#REF!"}},{"$f":"#REF!+#REF!+H264","v":{"$error":"#REF!"}},{"$f":"#REF!+#REF!+I264","v":{"$error":"#REF!"}}]
[21,4110,"Ouachita Power Squadron  ",4,7,4,7,4,7,{"$f":"#REF!+#REF!+D265","v":{"$error":"#REF!"}},{"$f":"#REF!+#REF!+E265","v":{"$error":"#REF!"}},{"$f":"#REF!+#REF!+F265","v":{"$error":"#REF!"}},{"$f":"#REF!+#REF!+G265","v":{"$error":"#REF!"}},{"$f":"#REF!+#REF!+H265","v":{"$error":"#REF!"}},{"$f":"#REF!+#REF!+I265","v":{"$error":"#REF!"}}]
[21,4850,"Sabine Sail &            ",0,0,0,0,0,0,{"$f":"#REF!+#REF!+D266","v":{"$error":"#REF!"}},{"$f":"#REF!+#REF!+E266","v":{"$error":"#REF!"}},{"$f":"#REF!+#REF!+F266","v":{"$error":"#REF!"}},{"$f":"#REF!+#REF!+G266","v":{"$error":"#REF!"}},{"$f":"#REF!+#REF!+H266","v":{"$error":"#REF!"}},{"$f":"#REF!+#REF!+I266","v":{"$error":"#REF!"}}]
[21,5085,"San Antonio Sail & Power ",0,0,0,0,0,0,{"$f":"#REF!+#REF!+D267","v":{"$error":"#REF!"}},{"$f":"#REF!+#REF!+E267","v":{"$error":"#REF!"}},{"$f":"#REF!+#REF!+F267","v":{"$error":"#REF!"}},{"$f":"#REF!+#REF!+G267","v":{"$error":"#REF!"}},{"$f":"#REF!+#REF!+H267","v":{"$error":"#REF!"}},{"$f":"#REF!+#REF!+I267","v":{"$error":"#REF!"}}]
[21,5460,"Shreveport Power Squadron",5,11,5,11,5,11,{"$f":"#REF!+#REF!+D268","v":{"$error":"#REF!"}},{"$f":"#REF!+#REF!+E268","v":{"$error":"#REF!"}},{"$f":"#REF!+#REF!+F268","v":{"$error":"#REF!"}},{"$f":"#REF!+#REF!+G268","v":{"$error":"#REF!"}},{"$f":"#REF!+#REF!+H268","v":{"$error":"#REF!"}},{"$f":"#REF!+#REF!+I268","v":{"$error":"#REF!"}}]
[22,150,"Anna Maria Island Power  ",27,51,25,45,24,45,{"$f":"#REF!+#REF!+D269","v":{"$error":"#REF!"}},{"$f":"#REF!+#REF!+E269","v":{"$error":"#REF!"}},{"$f":"#REF!+#REF!+F269","v":{"$error":"#REF!"}},{"$f":"#REF!+#REF!+G269","v":{"$error":"#REF!"}},{"$f":"#REF!+#REF!+H269","v":{"$error":"#REF!"}},{"$f":"#REF!+#REF!+I269","v":{"$error":"#REF!"}}]
[22,585,"Boca Ciega Sail & Power  ",8,17,8,15,8,15,{"$f":"#REF!+#REF!+D270","v":{"$error":"#REF!"}},{"$f":"#REF!+#REF!+E270","v":{"$error":"#REF!"}},{"$f":"#REF!+#REF!+F270","v":{"$error":"#REF!"}},{"$f":"#REF!+#REF!+G270","v":{"$error":"#REF!"}},{"$f":"#REF!+#REF!+H270","v":{"$error":"#REF!"}},{"$f":"#REF!+#REF!+I270","v":{"$error":"#REF!"}}]
[22,840,"Cape Coral Power Squadron",333,374,318,352,317,352,{"$f":"#REF!+#REF!+D271","v":{"$error":"#REF!"}},{"$f":"#REF!+#REF!+E271","v":{"$error":"#REF!"}},{"$f":"#REF!+#REF!+F271","v":{"$error":"#REF!"}},{"$f":"#REF!+#REF!+G271","v":{"$error":"#REF!"}},{"$f":"#REF!+#REF!+H271","v":{"$error":"#REF!"}},{"$f":"#REF!+#REF!+I271","v":{"$error":"#REF!"}}]
[22,1110,"Clearwater Sail & Power  ",43,4,25,4,25,4,{"$f":"#REF!+#REF!+D272","v":{"$error":"#REF!"}},{"$f":"#REF!+#REF!+E272","v":{"$error":"#REF!"}},{"$f":"#REF!+#REF!+F272","v":{"$error":"#REF!"}},{"$f":"#REF!+#REF!+G272","v":{"$error":"#REF!"}},{"$f":"#REF!+#REF!+H272","v":{"$error":"#REF!"}},{"$f":"#REF!+#REF!+I272","v":{"$error":"#REF!"}}]
[22,1305,"Crystal River Power Squad",15,14,12,11,12,11,{"$f":"#REF!+#REF!+D273","v":{"$error":"#REF!"}},{"$f":"#REF!+#REF!+E273","v":{"$error":"#REF!"}},{"$f":"#REF!+#REF!+F273","v":{"$error":"#REF!"}},{"$f":"#REF!+#REF!+G273","v":{"$error":"#REF!"}},{"$f":"#REF!+#REF!+H273","v":{"$error":"#REF!"}},{"$f":"#REF!+#REF!+I273","v":{"$error":"#REF!"}}]
[22,1815,"Ft. Myers Power Squadron ",31,19,23,16,23,16,{"$f":"#REF!+#REF!+D274","v":{"$error":"#REF!"}},{"$f":"#REF!+#REF!+E274","v":{"$error":"#REF!"}},{"$f":"#REF!+#REF!+F274","v":{"$error":"#REF!"}},{"$f":"#REF!+#REF!+G274","v":{"$error":"#REF!"}},{"$f":"#REF!+#REF!+H274","v":{"$error":"#REF!"}},{"$f":"#REF!+#REF!+I274","v":{"$error":"#REF!"}}]
[22,2775,"Lakeland Sail & Power Sqd",44,23,36,18,36,18,{"$f":"#REF!+#REF!+D275","v":{"$error":"#REF!"}},{"$f":"#REF!+#REF!+E275","v":{"$error":"#REF!"}},{"$f":"#REF!+#REF!+F275","v":{"$error":"#REF!"}},{"$f":"#REF!+#REF!+G275","v":{"$error":"#REF!"}},{"$f":"#REF!+#REF!+H275","v":{"$error":"#REF!"}},{"$f":"#REF!+#REF!+I275","v":{"$error":"#REF!"}}]
[22,3055,"Manatee Sail & Power Sqd ",89,51,88,51,88,51,{"$f":"#REF!+#REF!+D276","v":{"$error":"#REF!"}},{"$f":"#REF!+#REF!+E276","v":{"$error":"#REF!"}},{"$f":"#REF!+#REF!+F276","v":{"$error":"#REF!"}},{"$f":"#REF!+#REF!+G276","v":{"$error":"#REF!"}},{"$f":"#REF!+#REF!+H276","v":{"$error":"#REF!"}},{"$f":"#REF!+#REF!+I276","v":{"$error":"#REF!"}}]
[22,3125,"Marco Island Sail & Power",39,36,37,32,36,32,{"$f":"#REF!+#REF!+D277","v":{"$error":"#REF!"}},{"$f":"#REF!+#REF!+E277","v":{"$error":"#REF!"}},{"$f":"#REF!+#REF!+F277","v":{"$error":"#REF!"}},{"$f":"#REF!+#REF!+G277","v":{"$error":"#REF!"}},{"$f":"#REF!+#REF!+H277","v":{"$error":"#REF!"}},{"$f":"#REF!+#REF!+I277","v":{"$error":"#REF!"}}]
[22,3615,"Naples Sail & Power Squad",6,25,5,21,5,21,{"$f":"#REF!+#REF!+D278","v":{"$error":"#REF!"}},{"$f":"#REF!+#REF!+E278","v":{"$error":"#REF!"}},{"$f":"#REF!+#REF!+F278","v":{"$error":"#REF!"}},{"$f":"#REF!+#REF!+G278","v":{"$error":"#REF!"}},{"$f":"#REF!+#REF!+H278","v":{"$error":"#REF!"}},{"$f":"#REF!+#REF!+I278","v":{"$error":"#REF!"}}]
[22,4245,"Peace River Sail & Power ",98,85,86,75,86,75,{"$f":"#REF!+#REF!+D279","v":{"$error":"#REF!"}},{"$f":"#REF!+#REF!+E279","v":{"$error":"#REF!"}},{"$f":"#REF!+#REF!+F279","v":{"$error":"#REF!"}},{"$f":"#REF!+#REF!+G279","v":{"$error":"#REF!"}},{"$f":"#REF!+#REF!+H279","v":{"$error":"#REF!"}},{"$f":"#REF!+#REF!+I279","v":{"$error":"#REF!"}}]
[22,5100,"San Carlos Bay Sail &    ",74,75,72,64,72,64,{"$f":"#REF!+#REF!+D280","v":{"$error":"#REF!"}},{"$f":"#REF!+#REF!+E280","v":{"$error":"#REF!"}},{"$f":"#REF!+#REF!+F280","v":{"$error":"#REF!"}},{"$f":"#REF!+#REF!+G280","v":{"$error":"#REF!"}},{"$f":"#REF!+#REF!+H280","v":{"$error":"#REF!"}},{"$f":"#REF!+#REF!+I280","v":{"$error":"#REF!"}}]
[22,5071,"Sanibel Captiva Sail &   ",41,64,37,60,37,59,{"$f":"#REF!+#REF!+D281","v":{"$error":"#REF!"}},{"$f":"#REF!+#REF!+E281","v":{"$error":"#REF!"}},{"$f":"#REF!+#REF!+F281","v":{"$error":"#REF!"}},{"$f":"#REF!+#REF!+G281","v":{"$error":"#REF!"}},{"$f":"#REF!+#REF!+H281","v":{"$error":"#REF!"}},{"$f":"#REF!+#REF!+I281","v":{"$error":"#REF!"}}]
[22,5295,"Sarasota Power Squadron  ",122,90,114,87,114,87,{"$f":"#REF!+#REF!+D282","v":{"$error":"#REF!"}},{"$f":"#REF!+#REF!+E282","v":{"$error":"#REF!"}},{"$f":"#REF!+#REF!+F282","v":{"$error":"#REF!"}},{"$f":"#REF!+#REF!+G282","v":{"$error":"#REF!"}},{"$f":"#REF!+#REF!+H282","v":{"$error":"#REF!"}},{"$f":"#REF!+#REF!+I282","v":{"$error":"#REF!"}}]
[22,5040,"St. Petersburg Sail &    ",61,77,49,31,49,31,{"$f":"#REF!+#REF!+D283","v":{"$error":"#REF!"}},{"$f":"#REF!+#REF!+E283","v":{"$error":"#REF!"}},{"$f":"#REF!+#REF!+F283","v":{"$error":"#REF!"}},{"$f":"#REF!+#REF!+G283","v":{"$error":"#REF!"}},{"$f":"#REF!+#REF!+H283","v":{"$error":"#REF!"}},{"$f":"#REF!+#REF!+I283","v":{"$error":"#REF!"}}]
[22,5835,"Tampa Power Squadron     ",10,20,8,17,8,17,{"$f":"#REF!+#REF!+D284","v":{"$error":"#REF!"}},{"$f":"#REF!+#REF!+E284","v":{"$error":"#REF!"}},{"$f":"#REF!+#REF!+F284","v":{"$error":"#REF!"}},{"$f":"#REF!+#REF!+G284","v":{"$error":"#REF!"}},{"$f":"#REF!+#REF!+H284","v":{"$error":"#REF!"}},{"$f":"#REF!+#REF!+I284","v":{"$error":"#REF!"}}]
[22,6030,"Venice Sail & Power Squad",29,34,27,34,27,34,{"$f":"#REF!+#REF!+D285","v":{"$error":"#REF!"}},{"$f":"#REF!+#REF!+E285","v":{"$error":"#REF!"}},{"$f":"#REF!+#REF!+F285","v":{"$error":"#REF!"}},{"$f":"#REF!+#REF!+G285","v":{"$error":"#REF!"}},{"$f":"#REF!+#REF!+H285","v":{"$error":"#REF!"}},{"$f":"#REF!+#REF!+I285","v":{"$error":"#REF!"}}]
[23,330,"Banana River Sail & Power",21,23,16,23,16,23,{"$f":"#REF!+#REF!+D286","v":{"$error":"#REF!"}},{"$f":"#REF!+#REF!+E286","v":{"$error":"#REF!"}},{"$f":"#REF!+#REF!+F286","v":{"$error":"#REF!"}},{"$f":"#REF!+#REF!+G286","v":{"$error":"#REF!"}},{"$f":"#REF!+#REF!+H286","v":{"$error":"#REF!"}},{"$f":"#REF!+#REF!+I286","v":{"$error":"#REF!"}}]
[23,935,"Central Florida Sail &   ",34,49,28,35,26,34,{"$f":"#REF!+#REF!+D287","v":{"$error":"#REF!"}},{"$f":"#REF!+#REF!+E287","v":{"$error":"#REF!"}},{"$f":"#REF!+#REF!+F287","v":{"$error":"#REF!"}},{"$f":"#REF!+#REF!+G287","v":{"$error":"#REF!"}},{"$f":"#REF!+#REF!+H287","v":{"$error":"#REF!"}},{"$f":"#REF!+#REF!+I287","v":{"$error":"#REF!"}}]
[23,1155,"Cocoa Beach Power Squad  ",50,27,48,24,46,24,{"$f":"#REF!+#REF!+D288","v":{"$error":"#REF!"}},{"$f":"#REF!+#REF!+E288","v":{"$error":"#REF!"}},{"$f":"#REF!+#REF!+F288","v":{"$error":"#REF!"}},{"$f":"#REF!+#REF!+G288","v":{"$error":"#REF!"}},{"$f":"#REF!+#REF!+H288","v":{"$error":"#REF!"}},{"$f":"#REF!+#REF!+I288","v":{"$error":"#REF!"}}]
[23,1395,"Daytona Beach Power Squad",0,0,0,0,0,0,{"$f":"#REF!+#REF!+D289","v":{"$error":"#REF!"}},{"$f":"#REF!+#REF!+E289","v":{"$error":"#REF!"}},{"$f":"#REF!+#REF!+F289","v":{"$error":"#REF!"}},{"$f":"#REF!+#REF!+G289","v":{"$error":"#REF!"}},{"$f":"#REF!+#REF!+H289","v":{"$error":"#REF!"}},{"$f":"#REF!+#REF!+I289","v":{"$error":"#REF!"}}]
[23,1965,"Gainesville Sail & Power ",0,0,0,0,0,0,{"$f":"#REF!+#REF!+D290","v":{"$error":"#REF!"}},{"$f":"#REF!+#REF!+E290","v":{"$error":"#REF!"}},{"$f":"#REF!+#REF!+F290","v":{"$error":"#REF!"}},{"$f":"#REF!+#REF!+G290","v":{"$error":"#REF!"}},{"$f":"#REF!+#REF!+H290","v":{"$error":"#REF!"}},{"$f":"#REF!+#REF!+I290","v":{"$error":"#REF!"}}]
[23,2210,"Harris Chain Sail & Power",67,60,56,37,56,37,{"$f":"#REF!+#REF!+D291","v":{"$error":"#REF!"}},{"$f":"#REF!+#REF!+E291","v":{"$error":"#REF!"}},{"$f":"#REF!+#REF!+F291","v":{"$error":"#REF!"}},{"$f":"#REF!+#REF!+G291","v":{"$error":"#REF!"}},{"$f":"#REF!+#REF!+H291","v":{"$error":"#REF!"}},{"$f":"#REF!+#REF!+I291","v":{"$error":"#REF!"}}]
[23,2490,"Jacksonville Sail & Power",49,27,45,27,45,27,{"$f":"#REF!+#REF!+D292","v":{"$error":"#REF!"}},{"$f":"#REF!+#REF!+E292","v":{"$error":"#REF!"}},{"$f":"#REF!+#REF!+F292","v":{"$error":"#REF!"}},{"$f":"#REF!+#REF!+G292","v":{"$error":"#REF!"}},{"$f":"#REF!+#REF!+H292","v":{"$error":"#REF!"}},{"$f":"#REF!+#REF!+I292","v":{"$error":"#REF!"}}]
[23,5905,"Titusville Sail & Power  ",0,2,0,2,0,2,{"$f":"#REF!+#REF!+D293","v":{"$error":"#REF!"}},{"$f":"#REF!+#REF!+E293","v":{"$error":"#REF!"}},{"$f":"#REF!+#REF!+F293","v":{"$error":"#REF!"}},{"$f":"#REF!+#REF!+G293","v":{"$error":"#REF!"}},{"$f":"#REF!+#REF!+H293","v":{"$error":"#REF!"}},{"$f":"#REF!+#REF!+I293","v":{"$error":"#REF!"}}]
[24,570,"Bluegrass Power Squadron ",5,7,5,3,5,3,{"$f":"#REF!+#REF!+D294","v":{"$error":"#REF!"}},{"$f":"#REF!+#REF!+E294","v":{"$error":"#REF!"}},{"$f":"#REF!+#REF!+F294","v":{"$error":"#REF!"}},{"$f":"#REF!+#REF!+G294","v":{"$error":"#REF!"}},{"$f":"#REF!+#REF!+H294","v":{"$error":"#REF!"}},{"$f":"#REF!+#REF!+I294","v":{"$error":"#REF!"}}]
[24,1095,"Cincinnati Sail & Power  ",7,3,7,3,7,3,{"$f":"#REF!+#REF!+D295","v":{"$error":"#REF!"}},{"$f":"#REF!+#REF!+E295","v":{"$error":"#REF!"}},{"$f":"#REF!+#REF!+F295","v":{"$error":"#REF!"}},{"$f":"#REF!+#REF!+G295","v":{"$error":"#REF!"}},{"$f":"#REF!+#REF!+H295","v":{"$error":"#REF!"}},{"$f":"#REF!+#REF!+I295","v":{"$error":"#REF!"}}]
[24,1380,"Dayton Sail & Power Squad",0,15,0,13,0,12,{"$f":"#REF!+#REF!+D296","v":{"$error":"#REF!"}},{"$f":"#REF!+#REF!+E296","v":{"$error":"#REF!"}},{"$f":"#REF!+#REF!+F296","v":{"$error":"#REF!"}},{"$f":"#REF!+#REF!+G296","v":{"$error":"#REF!"}},{"$f":"#REF!+#REF!+H296","v":{"$error":"#REF!"}},{"$f":"#REF!+#REF!+I296","v":{"$error":"#REF!"}}]
[24,1670,"Evansville Bend Power Sqd",2,0,2,0,2,0,{"$f":"#REF!+#REF!+D297","v":{"$error":"#REF!"}},{"$f":"#REF!+#REF!+E297","v":{"$error":"#REF!"}},{"$f":"#REF!+#REF!+F297","v":{"$error":"#REF!"}},{"$f":"#REF!+#REF!+G297","v":{"$error":"#REF!"}},{"$f":"#REF!+#REF!+H297","v":{"$error":"#REF!"}},{"$f":"#REF!+#REF!+I297","v":{"$error":"#REF!"}}]
[24,2325,"Hoosier Sail & Power Sqd ",0,0,0,0,0,0,{"$f":"#REF!+#REF!+D298","v":{"$error":"#REF!"}},{"$f":"#REF!+#REF!+E298","v":{"$error":"#REF!"}},{"$f":"#REF!+#REF!+F298","v":{"$error":"#REF!"}},{"$f":"#REF!+#REF!+G298","v":{"$error":"#REF!"}},{"$f":"#REF!+#REF!+H298","v":{"$error":"#REF!"}},{"$f":"#REF!+#REF!+I298","v":{"$error":"#REF!"}}]
[24,2970,"Louisville Sail & Power  ",17,44,16,37,16,37,{"$f":"#REF!+#REF!+D299","v":{"$error":"#REF!"}},{"$f":"#REF!+#REF!+E299","v":{"$error":"#REF!"}},{"$f":"#REF!+#REF!+F299","v":{"$error":"#REF!"}},{"$f":"#REF!+#REF!+G299","v":{"$error":"#REF!"}},{"$f":"#REF!+#REF!+H299","v":{"$error":"#REF!"}},{"$f":"#REF!+#REF!+I299","v":{"$error":"#REF!"}}]
[24,6120,"Wabash Valley Power Squad",6,0,3,0,3,0,{"$f":"#REF!+#REF!+D300","v":{"$error":"#REF!"}},{"$f":"#REF!+#REF!+E300","v":{"$error":"#REF!"}},{"$f":"#REF!+#REF!+F300","v":{"$error":"#REF!"}},{"$f":"#REF!+#REF!+G300","v":{"$error":"#REF!"}},{"$f":"#REF!+#REF!+H300","v":{"$error":"#REF!"}},{"$f":"#REF!+#REF!+I300","v":{"$error":"#REF!"}}]
[25,1530,"Diablo Sail & Power Squad",6,0,6,0,5,0,{"$f":"#REF!+#REF!+D301","v":{"$error":"#REF!"}},{"$f":"#REF!+#REF!+E301","v":{"$error":"#REF!"}},{"$f":"#REF!+#REF!+F301","v":{"$error":"#REF!"}},{"$f":"#REF!+#REF!+G301","v":{"$error":"#REF!"}},{"$f":"#REF!+#REF!+H301","v":{"$error":"#REF!"}},{"$f":"#REF!+#REF!+I301","v":{"$error":"#REF!"}}]
[25,3487,"Monterey Bay Sail & Power",0,0,0,0,0,0,{"$f":"#REF!+#REF!+D302","v":{"$error":"#REF!"}},{"$f":"#REF!+#REF!+E302","v":{"$error":"#REF!"}},{"$f":"#REF!+#REF!+F302","v":{"$error":"#REF!"}},{"$f":"#REF!+#REF!+G302","v":{"$error":"#REF!"}},{"$f":"#REF!+#REF!+H302","v":{"$error":"#REF!"}},{"$f":"#REF!+#REF!+I302","v":{"$error":"#REF!"}}]
[25,4350,"Peralta Sail & Power Sqd ",18,33,12,29,12,28,{"$f":"#REF!+#REF!+D303","v":{"$error":"#REF!"}},{"$f":"#REF!+#REF!+E303","v":{"$error":"#REF!"}},{"$f":"#REF!+#REF!+F303","v":{"$error":"#REF!"}},{"$f":"#REF!+#REF!+G303","v":{"$error":"#REF!"}},{"$f":"#REF!+#REF!+H303","v":{"$error":"#REF!"}},{"$f":"#REF!+#REF!+I303","v":{"$error":"#REF!"}}]
[25,4700,"Redwood Power Squadron   ",0,0,0,0,0,0,{"$f":"#REF!+#REF!+D304","v":{"$error":"#REF!"}},{"$f":"#REF!+#REF!+E304","v":{"$error":"#REF!"}},{"$f":"#REF!+#REF!+F304","v":{"$error":"#REF!"}},{"$f":"#REF!+#REF!+G304","v":{"$error":"#REF!"}},{"$f":"#REF!+#REF!+H304","v":{"$error":"#REF!"}},{"$f":"#REF!+#REF!+I304","v":{"$error":"#REF!"}}]
[25,4890,"Sacramento Power Squadron",11,1,10,1,7,1,{"$f":"#REF!+#REF!+D305","v":{"$error":"#REF!"}},{"$f":"#REF!+#REF!+E305","v":{"$error":"#REF!"}},{"$f":"#REF!+#REF!+F305","v":{"$error":"#REF!"}},{"$f":"#REF!+#REF!+G305","v":{"$error":"#REF!"}},{"$f":"#REF!+#REF!+H305","v":{"$error":"#REF!"}},{"$f":"#REF!+#REF!+I305","v":{"$error":"#REF!"}}]
[25,5190,"San Joaquin Delta        ",14,21,8,20,8,20,{"$f":"#REF!+#REF!+D306","v":{"$error":"#REF!"}},{"$f":"#REF!+#REF!+E306","v":{"$error":"#REF!"}},{"$f":"#REF!+#REF!+F306","v":{"$error":"#REF!"}},{"$f":"#REF!+#REF!+G306","v":{"$error":"#REF!"}},{"$f":"#REF!+#REF!+H306","v":{"$error":"#REF!"}},{"$f":"#REF!+#REF!+I306","v":{"$error":"#REF!"}}]
[25,5250,"Santa Clara Power Squad  ",18,28,11,23,11,23,{"$f":"#REF!+#REF!+D307","v":{"$error":"#REF!"}},{"$f":"#REF!+#REF!+E307","v":{"$error":"#REF!"}},{"$f":"#REF!+#REF!+F307","v":{"$error":"#REF!"}},{"$f":"#REF!+#REF!+G307","v":{"$error":"#REF!"}},{"$f":"#REF!+#REF!+H307","v":{"$error":"#REF!"}},{"$f":"#REF!+#REF!+I307","v":{"$error":"#REF!"}}]
[26,405,"Beaufort Sail & Power Sqd",48,23,44,21,44,21,{"$f":"#REF!+#REF!+D308","v":{"$error":"#REF!"}},{"$f":"#REF!+#REF!+E308","v":{"$error":"#REF!"}},{"$f":"#REF!+#REF!+F308","v":{"$error":"#REF!"}},{"$f":"#REF!+#REF!+G308","v":{"$error":"#REF!"}},{"$f":"#REF!+#REF!+H308","v":{"$error":"#REF!"}},{"$f":"#REF!+#REF!+I308","v":{"$error":"#REF!"}}]
[26,1020,"Charleston Sail & Power  ",53,61,45,48,45,47,{"$f":"#REF!+#REF!+D309","v":{"$error":"#REF!"}},{"$f":"#REF!+#REF!+E309","v":{"$error":"#REF!"}},{"$f":"#REF!+#REF!+F309","v":{"$error":"#REF!"}},{"$f":"#REF!+#REF!+G309","v":{"$error":"#REF!"}},{"$f":"#REF!+#REF!+H309","v":{"$error":"#REF!"}},{"$f":"#REF!+#REF!+I309","v":{"$error":"#REF!"}}]
[26,1540,"Dreher Shoals Provis     ",0,4,0,4,0,4,{"$f":"#REF!+#REF!+D310","v":{"$error":"#REF!"}},{"$f":"#REF!+#REF!+E310","v":{"$error":"#REF!"}},{"$f":"#REF!+#REF!+F310","v":{"$error":"#REF!"}},{"$f":"#REF!+#REF!+G310","v":{"$error":"#REF!"}},{"$f":"#REF!+#REF!+H310","v":{"$error":"#REF!"}},{"$f":"#REF!+#REF!+I310","v":{"$error":"#REF!"}}]
[26,5896,"Golden Corner Lakes Sail ",27,44,24,34,24,34,{"$f":"#REF!+#REF!+D311","v":{"$error":"#REF!"}},{"$f":"#REF!+#REF!+E311","v":{"$error":"#REF!"}},{"$f":"#REF!+#REF!+F311","v":{"$error":"#REF!"}},{"$f":"#REF!+#REF!+G311","v":{"$error":"#REF!"}},{"$f":"#REF!+#REF!+H311","v":{"$error":"#REF!"}},{"$f":"#REF!+#REF!+I311","v":{"$error":"#REF!"}}]
[26,2000,"Golden Isles Sail & Power",8,13,8,13,8,13,{"$f":"#REF!+#REF!+D312","v":{"$error":"#REF!"}},{"$f":"#REF!+#REF!+E312","v":{"$error":"#REF!"}},{"$f":"#REF!+#REF!+F312","v":{"$error":"#REF!"}},{"$f":"#REF!+#REF!+G312","v":{"$error":"#REF!"}},{"$f":"#REF!+#REF!+H312","v":{"$error":"#REF!"}},{"$f":"#REF!+#REF!+I312","v":{"$error":"#REF!"}}]
[26,2270,"Hilton Head Sail & Power ",53,41,52,39,52,39,{"$f":"#REF!+#REF!+D313","v":{"$error":"#REF!"}},{"$f":"#REF!+#REF!+E313","v":{"$error":"#REF!"}},{"$f":"#REF!+#REF!+F313","v":{"$error":"#REF!"}},{"$f":"#REF!+#REF!+G313","v":{"$error":"#REF!"}},{"$f":"#REF!+#REF!+H313","v":{"$error":"#REF!"}},{"$f":"#REF!+#REF!+I313","v":{"$error":"#REF!"}}]
[26,2100,"Lake Hartwell Sail &     ",25,49,22,44,20,43,{"$f":"#REF!+#REF!+D314","v":{"$error":"#REF!"}},{"$f":"#REF!+#REF!+E314","v":{"$error":"#REF!"}},{"$f":"#REF!+#REF!+F314","v":{"$error":"#REF!"}},{"$f":"#REF!+#REF!+G314","v":{"$error":"#REF!"}},{"$f":"#REF!+#REF!+H314","v":{"$error":"#REF!"}},{"$f":"#REF!+#REF!+I314","v":{"$error":"#REF!"}}]
[26,2785,"Lake Murray Power Squad  ",38,36,38,34,38,34,{"$f":"#REF!+#REF!+D315","v":{"$error":"#REF!"}},{"$f":"#REF!+#REF!+E315","v":{"$error":"#REF!"}},{"$f":"#REF!+#REF!+F315","v":{"$error":"#REF!"}},{"$f":"#REF!+#REF!+G315","v":{"$error":"#REF!"}},{"$f":"#REF!+#REF!+H315","v":{"$error":"#REF!"}},{"$f":"#REF!+#REF!+I315","v":{"$error":"#REF!"}}]
[26,2910,"Long Bay Power Squadron  ",14,16,14,16,14,16,{"$f":"#REF!+#REF!+D316","v":{"$error":"#REF!"}},{"$f":"#REF!+#REF!+E316","v":{"$error":"#REF!"}},{"$f":"#REF!+#REF!+F316","v":{"$error":"#REF!"}},{"$f":"#REF!+#REF!+G316","v":{"$error":"#REF!"}},{"$f":"#REF!+#REF!+H316","v":{"$error":"#REF!"}},{"$f":"#REF!+#REF!+I316","v":{"$error":"#REF!"}}]
[26,3890,"North Strand Sail & Power",47,29,36,29,36,29,{"$f":"#REF!+#REF!+D317","v":{"$error":"#REF!"}},{"$f":"#REF!+#REF!+E317","v":{"$error":"#REF!"}},{"$f":"#REF!+#REF!+F317","v":{"$error":"#REF!"}},{"$f":"#REF!+#REF!+G317","v":{"$error":"#REF!"}},{"$f":"#REF!+#REF!+H317","v":{"$error":"#REF!"}},{"$f":"#REF!+#REF!+I317","v":{"$error":"#REF!"}}]
[26,5325,"Savannah River Sail &    ",0,5,0,5,0,5,{"$f":"#REF!+#REF!+D318","v":{"$error":"#REF!"}},{"$f":"#REF!+#REF!+E318","v":{"$error":"#REF!"}},{"$f":"#REF!+#REF!+F318","v":{"$error":"#REF!"}},{"$f":"#REF!+#REF!+G318","v":{"$error":"#REF!"}},{"$f":"#REF!+#REF!+H318","v":{"$error":"#REF!"}},{"$f":"#REF!+#REF!+I318","v":{"$error":"#REF!"}}]
[26,5765,"Swamp Fox Power Squadron ",0,0,0,0,0,0,{"$f":"#REF!+#REF!+D319","v":{"$error":"#REF!"}},{"$f":"#REF!+#REF!+E319","v":{"$error":"#REF!"}},{"$f":"#REF!+#REF!+F319","v":{"$error":"#REF!"}},{"$f":"#REF!+#REF!+G319","v":{"$error":"#REF!"}},{"$f":"#REF!+#REF!+H319","v":{"$error":"#REF!"}},{"$f":"#REF!+#REF!+I319","v":{"$error":"#REF!"}}]
[26,5897,"Thurmond Lake Sail &     ",13,19,11,19,11,19,{"$f":"#REF!+#REF!+D320","v":{"$error":"#REF!"}},{"$f":"#REF!+#REF!+E320","v":{"$error":"#REF!"}},{"$f":"#REF!+#REF!+F320","v":{"$error":"#REF!"}},{"$f":"#REF!+#REF!+G320","v":{"$error":"#REF!"}},{"$f":"#REF!+#REF!+H320","v":{"$error":"#REF!"}},{"$f":"#REF!+#REF!+I320","v":{"$error":"#REF!"}}]
[26,5970,"Tybee Light Sail & Power ",36,31,35,30,35,30,{"$f":"#REF!+#REF!+D321","v":{"$error":"#REF!"}},{"$f":"#REF!+#REF!+E321","v":{"$error":"#REF!"}},{"$f":"#REF!+#REF!+F321","v":{"$error":"#REF!"}},{"$f":"#REF!+#REF!+G321","v":{"$error":"#REF!"}},{"$f":"#REF!+#REF!+H321","v":{"$error":"#REF!"}},{"$f":"#REF!+#REF!+I321","v":{"$error":"#REF!"}}]
[27,80,"Albemarle Sail & Power Sq",0,7,0,6,0,6,{"$f":"#REF!+#REF!+D322","v":{"$error":"#REF!"}},{"$f":"#REF!+#REF!+E322","v":{"$error":"#REF!"}},{"$f":"#REF!+#REF!+F322","v":{"$error":"#REF!"}},{"$f":"#REF!+#REF!+G322","v":{"$error":"#REF!"}},{"$f":"#REF!+#REF!+H322","v":{"$error":"#REF!"}},{"$f":"#REF!+#REF!+I322","v":{"$error":"#REF!"}}]
[27,855,"Cape Fear Sail & Power Sq",172,107,121,97,121,97,{"$f":"#REF!+#REF!+D323","v":{"$error":"#REF!"}},{"$f":"#REF!+#REF!+E323","v":{"$error":"#REF!"}},{"$f":"#REF!+#REF!+F323","v":{"$error":"#REF!"}},{"$f":"#REF!+#REF!+G323","v":{"$error":"#REF!"}},{"$f":"#REF!+#REF!+H323","v":{"$error":"#REF!"}},{"$f":"#REF!+#REF!+I323","v":{"$error":"#REF!"}}]
[27,870,"Cape Lookout Sail & Power",8,16,8,14,8,14,{"$f":"#REF!+#REF!+D324","v":{"$error":"#REF!"}},{"$f":"#REF!+#REF!+E324","v":{"$error":"#REF!"}},{"$f":"#REF!+#REF!+F324","v":{"$error":"#REF!"}},{"$f":"#REF!+#REF!+G324","v":{"$error":"#REF!"}},{"$f":"#REF!+#REF!+H324","v":{"$error":"#REF!"}},{"$f":"#REF!+#REF!+I324","v":{"$error":"#REF!"}}]
[27,930,"Catawba Power Squadron   ",31,18,27,18,27,18,{"$f":"#REF!+#REF!+D325","v":{"$error":"#REF!"}},{"$f":"#REF!+#REF!+E325","v":{"$error":"#REF!"}},{"$f":"#REF!+#REF!+F325","v":{"$error":"#REF!"}},{"$f":"#REF!+#REF!+G325","v":{"$error":"#REF!"}},{"$f":"#REF!+#REF!+H325","v":{"$error":"#REF!"}},{"$f":"#REF!+#REF!+I325","v":{"$error":"#REF!"}}]
[27,1035,"Charlotte Power Squadron ",14,31,13,31,13,31,{"$f":"#REF!+#REF!+D326","v":{"$error":"#REF!"}},{"$f":"#REF!+#REF!+E326","v":{"$error":"#REF!"}},{"$f":"#REF!+#REF!+F326","v":{"$error":"#REF!"}},{"$f":"#REF!+#REF!+G326","v":{"$error":"#REF!"}},{"$f":"#REF!+#REF!+H326","v":{"$error":"#REF!"}},{"$f":"#REF!+#REF!+I326","v":{"$error":"#REF!"}}]
[27,1590,"Durham Sail & Power Squad",8,8,7,8,7,8,{"$f":"#REF!+#REF!+D327","v":{"$error":"#REF!"}},{"$f":"#REF!+#REF!+E327","v":{"$error":"#REF!"}},{"$f":"#REF!+#REF!+F327","v":{"$error":"#REF!"}},{"$f":"#REF!+#REF!+G327","v":{"$error":"#REF!"}},{"$f":"#REF!+#REF!+H327","v":{"$error":"#REF!"}},{"$f":"#REF!+#REF!+I327","v":{"$error":"#REF!"}}]
[27,1740,"Fayetteville Sail & Power",0,7,0,6,0,6,{"$f":"#REF!+#REF!+D328","v":{"$error":"#REF!"}},{"$f":"#REF!+#REF!+E328","v":{"$error":"#REF!"}},{"$f":"#REF!+#REF!+F328","v":{"$error":"#REF!"}},{"$f":"#REF!+#REF!+G328","v":{"$error":"#REF!"}},{"$f":"#REF!+#REF!+H328","v":{"$error":"#REF!"}},{"$f":"#REF!+#REF!+I328","v":{"$error":"#REF!"}}]
[27,1810,"Fort Macon Sail & Power  ",33,14,25,8,25,6,{"$f":"#REF!+#REF!+D329","v":{"$error":"#REF!"}},{"$f":"#REF!+#REF!+E329","v":{"$error":"#REF!"}},{"$f":"#REF!+#REF!+F329","v":{"$error":"#REF!"}},{"$f":"#REF!+#REF!+G329","v":{"$error":"#REF!"}},{"$f":"#REF!+#REF!+H329","v":{"$error":"#REF!"}},{"$f":"#REF!+#REF!+I329","v":{"$error":"#REF!"}}]
[27,2005,"Goldsboro Sail & Power Sq",9,6,6,6,6,6,{"$f":"#REF!+#REF!+D330","v":{"$error":"#REF!"}},{"$f":"#REF!+#REF!+E330","v":{"$error":"#REF!"}},{"$f":"#REF!+#REF!+F330","v":{"$error":"#REF!"}},{"$f":"#REF!+#REF!+G330","v":{"$error":"#REF!"}},{"$f":"#REF!+#REF!+H330","v":{"$error":"#REF!"}},{"$f":"#REF!+#REF!+I330","v":{"$error":"#REF!"}}]
[27,2090,"Greensboro Power Squadron",41,7,32,7,32,7,{"$f":"#REF!+#REF!+D331","v":{"$error":"#REF!"}},{"$f":"#REF!+#REF!+E331","v":{"$error":"#REF!"}},{"$f":"#REF!+#REF!+F331","v":{"$error":"#REF!"}},{"$f":"#REF!+#REF!+G331","v":{"$error":"#REF!"}},{"$f":"#REF!+#REF!+H331","v":{"$error":"#REF!"}},{"$f":"#REF!+#REF!+I331","v":{"$error":"#REF!"}}]
[27,2655,"Kinston Power Squadron   ",1,2,0,2,0,2,{"$f":"#REF!+#REF!+D332","v":{"$error":"#REF!"}},{"$f":"#REF!+#REF!+E332","v":{"$error":"#REF!"}},{"$f":"#REF!+#REF!+F332","v":{"$error":"#REF!"}},{"$f":"#REF!+#REF!+G332","v":{"$error":"#REF!"}},{"$f":"#REF!+#REF!+H332","v":{"$error":"#REF!"}},{"$f":"#REF!+#REF!+I332","v":{"$error":"#REF!"}}]
[27,2791,"Lake Norman Sail & Power ",152,132,150,129,147,129,{"$f":"#REF!+#REF!+D333","v":{"$error":"#REF!"}},{"$f":"#REF!+#REF!+E333","v":{"$error":"#REF!"}},{"$f":"#REF!+#REF!+F333","v":{"$error":"#REF!"}},{"$f":"#REF!+#REF!+G333","v":{"$error":"#REF!"}},{"$f":"#REF!+#REF!+H333","v":{"$error":"#REF!"}},{"$f":"#REF!+#REF!+I333","v":{"$error":"#REF!"}}]
[27,3765,"New River Sail & Power Sq",27,28,27,28,27,28,{"$f":"#REF!+#REF!+D334","v":{"$error":"#REF!"}},{"$f":"#REF!+#REF!+E334","v":{"$error":"#REF!"}},{"$f":"#REF!+#REF!+F334","v":{"$error":"#REF!"}},{"$f":"#REF!+#REF!+G334","v":{"$error":"#REF!"}},{"$f":"#REF!+#REF!+H334","v":{"$error":"#REF!"}},{"$f":"#REF!+#REF!+I334","v":{"$error":"#REF!"}}]
[27,4175,"Pamlico Sail & Power Sqd ",18,18,15,15,15,15,{"$f":"#REF!+#REF!+D335","v":{"$error":"#REF!"}},{"$f":"#REF!+#REF!+E335","v":{"$error":"#REF!"}},{"$f":"#REF!+#REF!+F335","v":{"$error":"#REF!"}},{"$f":"#REF!+#REF!+G335","v":{"$error":"#REF!"}},{"$f":"#REF!+#REF!+H335","v":{"$error":"#REF!"}},{"$f":"#REF!+#REF!+I335","v":{"$error":"#REF!"}}]
[27,4665,"Raleigh Sail & Power Sqd ",13,37,13,35,13,35,{"$f":"#REF!+#REF!+D336","v":{"$error":"#REF!"}},{"$f":"#REF!+#REF!+E336","v":{"$error":"#REF!"}},{"$f":"#REF!+#REF!+F336","v":{"$error":"#REF!"}},{"$f":"#REF!+#REF!+G336","v":{"$error":"#REF!"}},{"$f":"#REF!+#REF!+H336","v":{"$error":"#REF!"}},{"$f":"#REF!+#REF!+I336","v":{"$error":"#REF!"}}]
[27,4800,"Rocky Mount Power Squad  ",3,2,3,2,3,2,{"$f":"#REF!+#REF!+D337","v":{"$error":"#REF!"}},{"$f":"#REF!+#REF!+E337","v":{"$error":"#REF!"}},{"$f":"#REF!+#REF!+F337","v":{"$error":"#REF!"}},{"$f":"#REF!+#REF!+G337","v":{"$error":"#REF!"}},{"$f":"#REF!+#REF!+H337","v":{"$error":"#REF!"}},{"$f":"#REF!+#REF!+I337","v":{"$error":"#REF!"}}]
[27,5435,"Shallotte River Sail &   ",5,9,4,9,4,9,{"$f":"#REF!+#REF!+D338","v":{"$error":"#REF!"}},{"$f":"#REF!+#REF!+E338","v":{"$error":"#REF!"}},{"$f":"#REF!+#REF!+F338","v":{"$error":"#REF!"}},{"$f":"#REF!+#REF!+G338","v":{"$error":"#REF!"}},{"$f":"#REF!+#REF!+H338","v":{"$error":"#REF!"}},{"$f":"#REF!+#REF!+I338","v":{"$error":"#REF!"}}]
[27,5630,"Southport Sail & Power Sq",9,12,9,12,9,12,{"$f":"#REF!+#REF!+D339","v":{"$error":"#REF!"}},{"$f":"#REF!+#REF!+E339","v":{"$error":"#REF!"}},{"$f":"#REF!+#REF!+F339","v":{"$error":"#REF!"}},{"$f":"#REF!+#REF!+G339","v":{"$error":"#REF!"}},{"$f":"#REF!+#REF!+H339","v":{"$error":"#REF!"}},{"$f":"#REF!+#REF!+I339","v":{"$error":"#REF!"}}]
[27,5855,"Tar River Power Squadron ",11,20,11,18,11,18,{"$f":"#REF!+#REF!+D340","v":{"$error":"#REF!"}},{"$f":"#REF!+#REF!+E340","v":{"$error":"#REF!"}},{"$f":"#REF!+#REF!+F340","v":{"$error":"#REF!"}},{"$f":"#REF!+#REF!+G340","v":{"$error":"#REF!"}},{"$f":"#REF!+#REF!+H340","v":{"$error":"#REF!"}},{"$f":"#REF!+#REF!+I340","v":{"$error":"#REF!"}}]
[27,6320,"Winston Salem Sail &     ",7,2,7,2,7,2,{"$f":"#REF!+#REF!+D341","v":{"$error":"#REF!"}},{"$f":"#REF!+#REF!+E341","v":{"$error":"#REF!"}},{"$f":"#REF!+#REF!+F341","v":{"$error":"#REF!"}},{"$f":"#REF!+#REF!+G341","v":{"$error":"#REF!"}},{"$f":"#REF!+#REF!+H341","v":{"$error":"#REF!"}},{"$f":"#REF!+#REF!+I341","v":{"$error":"#REF!"}}]
[28,300,"Balboa Power Squadron    ",23,8,22,7,22,7,{"$f":"#REF!+#REF!+D342","v":{"$error":"#REF!"}},{"$f":"#REF!+#REF!+E342","v":{"$error":"#REF!"}},{"$f":"#REF!+#REF!+F342","v":{"$error":"#REF!"}},{"$f":"#REF!+#REF!+G342","v":{"$error":"#REF!"}},{"$f":"#REF!+#REF!+H342","v":{"$error":"#REF!"}},{"$f":"#REF!+#REF!+I342","v":{"$error":"#REF!"}}]
[28,4365,"Phoenix Sail & Power Sqd ",12,8,12,8,12,8,{"$f":"#REF!+#REF!+D343","v":{"$error":"#REF!"}},{"$f":"#REF!+#REF!+E343","v":{"$error":"#REF!"}},{"$f":"#REF!+#REF!+F343","v":{"$error":"#REF!"}},{"$f":"#REF!+#REF!+G343","v":{"$error":"#REF!"}},{"$f":"#REF!+#REF!+H343","v":{"$error":"#REF!"}},{"$f":"#REF!+#REF!+I343","v":{"$error":"#REF!"}}]
[28,5115,"San Diego Sail & Power   ",14,7,14,7,14,7,{"$f":"#REF!+#REF!+D344","v":{"$error":"#REF!"}},{"$f":"#REF!+#REF!+E344","v":{"$error":"#REF!"}},{"$f":"#REF!+#REF!+F344","v":{"$error":"#REF!"}},{"$f":"#REF!+#REF!+G344","v":{"$error":"#REF!"}},{"$f":"#REF!+#REF!+H344","v":{"$error":"#REF!"}},{"$f":"#REF!+#REF!+I344","v":{"$error":"#REF!"}}]
[28,5220,"San Luis Rey             ",22,25,16,23,16,23,{"$f":"#REF!+#REF!+D345","v":{"$error":"#REF!"}},{"$f":"#REF!+#REF!+E345","v":{"$error":"#REF!"}},{"$f":"#REF!+#REF!+F345","v":{"$error":"#REF!"}},{"$f":"#REF!+#REF!+G345","v":{"$error":"#REF!"}},{"$f":"#REF!+#REF!+H345","v":{"$error":"#REF!"}},{"$f":"#REF!+#REF!+I345","v":{"$error":"#REF!"}}]
[29,1185,"Columbus Sail & Power    ",28,49,26,47,26,47,{"$f":"#REF!+#REF!+D346","v":{"$error":"#REF!"}},{"$f":"#REF!+#REF!+E346","v":{"$error":"#REF!"}},{"$f":"#REF!+#REF!+F346","v":{"$error":"#REF!"}},{"$f":"#REF!+#REF!+G346","v":{"$error":"#REF!"}},{"$f":"#REF!+#REF!+H346","v":{"$error":"#REF!"}},{"$f":"#REF!+#REF!+I346","v":{"$error":"#REF!"}}]
[29,1905,"Findlay Sail & Power Sqd ",9,13,7,13,7,13,{"$f":"#REF!+#REF!+D347","v":{"$error":"#REF!"}},{"$f":"#REF!+#REF!+E347","v":{"$error":"#REF!"}},{"$f":"#REF!+#REF!+F347","v":{"$error":"#REF!"}},{"$f":"#REF!+#REF!+G347","v":{"$error":"#REF!"}},{"$f":"#REF!+#REF!+H347","v":{"$error":"#REF!"}},{"$f":"#REF!+#REF!+I347","v":{"$error":"#REF!"}}]
[29,1875,"Ft. Wayne Sail & Power Sq",0,0,0,0,0,0,{"$f":"#REF!+#REF!+D348","v":{"$error":"#REF!"}},{"$f":"#REF!+#REF!+E348","v":{"$error":"#REF!"}},{"$f":"#REF!+#REF!+F348","v":{"$error":"#REF!"}},{"$f":"#REF!+#REF!+G348","v":{"$error":"#REF!"}},{"$f":"#REF!+#REF!+H348","v":{"$error":"#REF!"}},{"$f":"#REF!+#REF!+I348","v":{"$error":"#REF!"}}]
[29,2850,"Lima Power Squadron      ",8,18,5,18,5,18,{"$f":"#REF!+#REF!+D349","v":{"$error":"#REF!"}},{"$f":"#REF!+#REF!+E349","v":{"$error":"#REF!"}},{"$f":"#REF!+#REF!+F349","v":{"$error":"#REF!"}},{"$f":"#REF!+#REF!+G349","v":{"$error":"#REF!"}},{"$f":"#REF!+#REF!+H349","v":{"$error":"#REF!"}},{"$f":"#REF!+#REF!+I349","v":{"$error":"#REF!"}}]
[29,4470,"Port Clinton Power Squad ",11,14,11,11,8,11,{"$f":"#REF!+#REF!+D350","v":{"$error":"#REF!"}},{"$f":"#REF!+#REF!+E350","v":{"$error":"#REF!"}},{"$f":"#REF!+#REF!+F350","v":{"$error":"#REF!"}},{"$f":"#REF!+#REF!+G350","v":{"$error":"#REF!"}},{"$f":"#REF!+#REF!+H350","v":{"$error":"#REF!"}},{"$f":"#REF!+#REF!+I350","v":{"$error":"#REF!"}}]
[29,5130,"Sandusky Power Squadron  ",17,15,11,14,11,14,{"$f":"#REF!+#REF!+D351","v":{"$error":"#REF!"}},{"$f":"#REF!+#REF!+E351","v":{"$error":"#REF!"}},{"$f":"#REF!+#REF!+F351","v":{"$error":"#REF!"}},{"$f":"#REF!+#REF!+G351","v":{"$error":"#REF!"}},{"$f":"#REF!+#REF!+H351","v":{"$error":"#REF!"}},{"$f":"#REF!+#REF!+I351","v":{"$error":"#REF!"}}]
[29,5910,"Toledo Power Squadron    ",30,58,29,55,29,55,{"$f":"#REF!+#REF!+D352","v":{"$error":"#REF!"}},{"$f":"#REF!+#REF!+E352","v":{"$error":"#REF!"}},{"$f":"#REF!+#REF!+F352","v":{"$error":"#REF!"}},{"$f":"#REF!+#REF!+G352","v":{"$error":"#REF!"}},{"$f":"#REF!+#REF!+H352","v":{"$error":"#REF!"}},{"$f":"#REF!+#REF!+I352","v":{"$error":"#REF!"}}]
[30,620,"Boulder Valley Sail &    ",0,0,0,0,0,0,{"$f":"#REF!+#REF!+D353","v":{"$error":"#REF!"}},{"$f":"#REF!+#REF!+E353","v":{"$error":"#REF!"}},{"$f":"#REF!+#REF!+F353","v":{"$error":"#REF!"}},{"$f":"#REF!+#REF!+G353","v":{"$error":"#REF!"}},{"$f":"#REF!+#REF!+H353","v":{"$error":"#REF!"}},{"$f":"#REF!+#REF!+I353","v":{"$error":"#REF!"}}]
[30,1500,"Des Moines Power Squadron",16,4,11,4,11,4,{"$f":"#REF!+#REF!+D354","v":{"$error":"#REF!"}},{"$f":"#REF!+#REF!+E354","v":{"$error":"#REF!"}},{"$f":"#REF!+#REF!+F354","v":{"$error":"#REF!"}},{"$f":"#REF!+#REF!+G354","v":{"$error":"#REF!"}},{"$f":"#REF!+#REF!+H354","v":{"$error":"#REF!"}},{"$f":"#REF!+#REF!+I354","v":{"$error":"#REF!"}}]
[30,945,"Four Rivers Power Squad  ",1,0,1,0,1,0,{"$f":"#REF!+#REF!+D355","v":{"$error":"#REF!"}},{"$f":"#REF!+#REF!+E355","v":{"$error":"#REF!"}},{"$f":"#REF!+#REF!+F355","v":{"$error":"#REF!"}},{"$f":"#REF!+#REF!+G355","v":{"$error":"#REF!"}},{"$f":"#REF!+#REF!+H355","v":{"$error":"#REF!"}},{"$f":"#REF!+#REF!+I355","v":{"$error":"#REF!"}}]
[30,2007,"Grand Lake Sail & Power  ",22,5,21,5,21,5,{"$f":"#REF!+#REF!+D356","v":{"$error":"#REF!"}},{"$f":"#REF!+#REF!+E356","v":{"$error":"#REF!"}},{"$f":"#REF!+#REF!+F356","v":{"$error":"#REF!"}},{"$f":"#REF!+#REF!+G356","v":{"$error":"#REF!"}},{"$f":"#REF!+#REF!+H356","v":{"$error":"#REF!"}},{"$f":"#REF!+#REF!+I356","v":{"$error":"#REF!"}}]
[30,2565,"Kansas City Power Squad  ",0,0,0,0,0,0,{"$f":"#REF!+#REF!+D357","v":{"$error":"#REF!"}},{"$f":"#REF!+#REF!+E357","v":{"$error":"#REF!"}},{"$f":"#REF!+#REF!+F357","v":{"$error":"#REF!"}},{"$f":"#REF!+#REF!+G357","v":{"$error":"#REF!"}},{"$f":"#REF!+#REF!+H357","v":{"$error":"#REF!"}},{"$f":"#REF!+#REF!+I357","v":{"$error":"#REF!"}}]
[30,4995,"St. Louis Power Squadron ",2,18,2,13,2,13,{"$f":"#REF!+#REF!+D358","v":{"$error":"#REF!"}},{"$f":"#REF!+#REF!+E358","v":{"$error":"#REF!"}},{"$f":"#REF!+#REF!+F358","v":{"$error":"#REF!"}},{"$f":"#REF!+#REF!+G358","v":{"$error":"#REF!"}},{"$f":"#REF!+#REF!+H358","v":{"$error":"#REF!"}},{"$f":"#REF!+#REF!+I358","v":{"$error":"#REF!"}}]
[30,6170,"Waterloo Sail & Power Sqd",0,0,0,0,0,0,{"$f":"#REF!+#REF!+D359","v":{"$error":"#REF!"}},{"$f":"#REF!+#REF!+E359","v":{"$error":"#REF!"}},{"$f":"#REF!+#REF!+F359","v":{"$error":"#REF!"}},{"$f":"#REF!+#REF!+G359","v":{"$error":"#REF!"}},{"$f":"#REF!+#REF!+H359","v":{"$error":"#REF!"}},{"$f":"#REF!+#REF!+I359","v":{"$error":"#REF!"}}]
[32,425,"Beaverton Sail &         ",4,6,4,6,4,5,{"$f":"#REF!+#REF!+D360","v":{"$error":"#REF!"}},{"$f":"#REF!+#REF!+E360","v":{"$error":"#REF!"}},{"$f":"#REF!+#REF!+F360","v":{"$error":"#REF!"}},{"$f":"#REF!+#REF!+G360","v":{"$error":"#REF!"}},{"$f":"#REF!+#REF!+H360","v":{"$error":"#REF!"}},{"$f":"#REF!+#REF!+I360","v":{"$error":"#REF!"}}]
[32,1215,"Coos Bay Power Squadron  ",17,28,16,26,16,26,{"$f":"#REF!+#REF!+D361","v":{"$error":"#REF!"}},{"$f":"#REF!+#REF!+E361","v":{"$error":"#REF!"}},{"$f":"#REF!+#REF!+F361","v":{"$error":"#REF!"}},{"$f":"#REF!+#REF!+G361","v":{"$error":"#REF!"}},{"$f":"#REF!+#REF!+H361","v":{"$error":"#REF!"}},{"$f":"#REF!+#REF!+I361","v":{"$error":"#REF!"}}]
[32,1845,"Ft. Vancouver Sail &     ",0,0,0,0,0,0,{"$f":"#REF!+#REF!+D362","v":{"$error":"#REF!"}},{"$f":"#REF!+#REF!+E362","v":{"$error":"#REF!"}},{"$f":"#REF!+#REF!+F362","v":{"$error":"#REF!"}},{"$f":"#REF!+#REF!+G362","v":{"$error":"#REF!"}},{"$f":"#REF!+#REF!+H362","v":{"$error":"#REF!"}},{"$f":"#REF!+#REF!+I362","v":{"$error":"#REF!"}}]
[32,3000,"Lower Columbia Power Sqd ",0,0,0,0,0,0,{"$f":"#REF!+#REF!+D363","v":{"$error":"#REF!"}},{"$f":"#REF!+#REF!+E363","v":{"$error":"#REF!"}},{"$f":"#REF!+#REF!+F363","v":{"$error":"#REF!"}},{"$f":"#REF!+#REF!+G363","v":{"$error":"#REF!"}},{"$f":"#REF!+#REF!+H363","v":{"$error":"#REF!"}},{"$f":"#REF!+#REF!+I363","v":{"$error":"#REF!"}}]
[32,4500,"Portland Power Squadron  ",0,0,0,0,0,0,{"$f":"#REF!+#REF!+D364","v":{"$error":"#REF!"}},{"$f":"#REF!+#REF!+E364","v":{"$error":"#REF!"}},{"$f":"#REF!+#REF!+F364","v":{"$error":"#REF!"}},{"$f":"#REF!+#REF!+G364","v":{"$error":"#REF!"}},{"$f":"#REF!+#REF!+H364","v":{"$error":"#REF!"}},{"$f":"#REF!+#REF!+I364","v":{"$error":"#REF!"}}]
[32,4955,"St. Helens Sail & Power  ",2,5,2,5,2,5,{"$f":"#REF!+#REF!+D365","v":{"$error":"#REF!"}},{"$f":"#REF!+#REF!+E365","v":{"$error":"#REF!"}},{"$f":"#REF!+#REF!+F365","v":{"$error":"#REF!"}},{"$f":"#REF!+#REF!+G365","v":{"$error":"#REF!"}},{"$f":"#REF!+#REF!+H365","v":{"$error":"#REF!"}},{"$f":"#REF!+#REF!+I365","v":{"$error":"#REF!"}}]
[33,192,"Arecibo Power Squadron   ",293,267,289,237,289,229,{"$f":"#REF!+#REF!+D366","v":{"$error":"#REF!"}},{"$f":"#REF!+#REF!+E366","v":{"$error":"#REF!"}},{"$f":"#REF!+#REF!+F366","v":{"$error":"#REF!"}},{"$f":"#REF!+#REF!+G366","v":{"$error":"#REF!"}},{"$f":"#REF!+#REF!+H366","v":{"$error":"#REF!"}},{"$f":"#REF!+#REF!+I366","v":{"$error":"#REF!"}}]
[33,595,"Boqueron Power Squadron  ",160,64,158,64,157,64,{"$f":"#REF!+#REF!+D367","v":{"$error":"#REF!"}},{"$f":"#REF!+#REF!+E367","v":{"$error":"#REF!"}},{"$f":"#REF!+#REF!+F367","v":{"$error":"#REF!"}},{"$f":"#REF!+#REF!+G367","v":{"$error":"#REF!"}},{"$f":"#REF!+#REF!+H367","v":{"$error":"#REF!"}},{"$f":"#REF!+#REF!+I367","v":{"$error":"#REF!"}}]
[33,895,"Carolina Sail & Power Sqd",92,78,88,77,88,77,{"$f":"#REF!+#REF!+D368","v":{"$error":"#REF!"}},{"$f":"#REF!+#REF!+E368","v":{"$error":"#REF!"}},{"$f":"#REF!+#REF!+F368","v":{"$error":"#REF!"}},{"$f":"#REF!+#REF!+G368","v":{"$error":"#REF!"}},{"$f":"#REF!+#REF!+H368","v":{"$error":"#REF!"}},{"$f":"#REF!+#REF!+I368","v":{"$error":"#REF!"}}]
[33,2385,"Humacao Power Squadron   ",142,144,139,140,139,140,{"$f":"#REF!+#REF!+D369","v":{"$error":"#REF!"}},{"$f":"#REF!+#REF!+E369","v":{"$error":"#REF!"}},{"$f":"#REF!+#REF!+F369","v":{"$error":"#REF!"}},{"$f":"#REF!+#REF!+G369","v":{"$error":"#REF!"}},{"$f":"#REF!+#REF!+H369","v":{"$error":"#REF!"}},{"$f":"#REF!+#REF!+I369","v":{"$error":"#REF!"}}]
[33,4455,"Ponce Power Squadron     ",256,160,243,160,243,160,{"$f":"#REF!+#REF!+D370","v":{"$error":"#REF!"}},{"$f":"#REF!+#REF!+E370","v":{"$error":"#REF!"}},{"$f":"#REF!+#REF!+F370","v":{"$error":"#REF!"}},{"$f":"#REF!+#REF!+G370","v":{"$error":"#REF!"}},{"$f":"#REF!+#REF!+H370","v":{"$error":"#REF!"}},{"$f":"#REF!+#REF!+I370","v":{"$error":"#REF!"}}]
[33,5205,"San Juan Power Squadron  ",451,414,398,339,398,339,{"$f":"#REF!+#REF!+D371","v":{"$error":"#REF!"}},{"$f":"#REF!+#REF!+E371","v":{"$error":"#REF!"}},{"$f":"#REF!+#REF!+F371","v":{"$error":"#REF!"}},{"$f":"#REF!+#REF!+G371","v":{"$error":"#REF!"}},{"$f":"#REF!+#REF!+H371","v":{"$error":"#REF!"}},{"$f":"#REF!+#REF!+I371","v":{"$error":"#REF!"}}]
[33,4950,"St. Croix Power Squadron ",0,0,0,0,0,0,{"$f":"#REF!+#REF!+D372","v":{"$error":"#REF!"}},{"$f":"#REF!+#REF!+E372","v":{"$error":"#REF!"}},{"$f":"#REF!+#REF!+F372","v":{"$error":"#REF!"}},{"$f":"#REF!+#REF!+G372","v":{"$error":"#REF!"}},{"$f":"#REF!+#REF!+H372","v":{"$error":"#REF!"}},{"$f":"#REF!+#REF!+I372","v":{"$error":"#REF!"}}]
[33,5045,"St. Thomas Power Squadron",0,0,0,0,0,0,{"$f":"#REF!+#REF!+D373","v":{"$error":"#REF!"}},{"$f":"#REF!+#REF!+E373","v":{"$error":"#REF!"}},{"$f":"#REF!+#REF!+F373","v":{"$error":"#REF!"}},{"$f":"#REF!+#REF!+G373","v":{"$error":"#REF!"}},{"$f":"#REF!+#REF!+H373","v":{"$error":"#REF!"}},{"$f":"#REF!+#REF!+I373","v":{"$error":"#REF!"}}]
[99,6404,"Internet Membership      ",0,0,0,0,0,0,{"$f":"#REF!+#REF!+D374","v":{"$error":"#REF!"}},{"$f":"#REF!+#REF!+E374","v":{"$error":"#REF!"}},{"$f":"#REF!+#REF!+F374","v":{"$error":"#REF!"}},{"$f":"#REF!+#REF!+G374","v":{"$error":"#REF!"}},{"$f":"#REF!+#REF!+H374","v":{"$error":"#REF!"}},{"$f":"#REF!+#REF!+I374","v":{"$error":"#REF!"}}]
[99,6405,"Unattached Members       ",0,0,0,0,0,0,{"$f":"#REF!+#REF!+D375","v":{"$error":"#REF!"}},{"$f":"#REF!+#REF!+E375","v":{"$error":"#REF!"}},{"$f":"#REF!+#REF!+F375","v":{"$error":"#REF!"}},{"$f":"#REF!+#REF!+G375","v":{"$error":"#REF!"}},{"$f":"#REF!+#REF!+H375","v":{"$error":"#REF!"}},{"$f":"#REF!+#REF!+I375","v":{"$error":"#REF!"}}]
[99,6403,"USPS University          ",0,0,0,0,0,0,{"$f":"#REF!+#REF!+D376","v":{"$error":"#REF!"}},{"$f":"#REF!+#REF!+E376","v":{"$error":"#REF!"}},{"$f":"#REF!+#REF!+F376","v":{"$error":"#REF!"}},{"$f":"#REF!+#REF!+G376","v":{"$error":"#REF!"}},{"$f":"#REF!+#REF!+H376","v":{"$error":"#REF!"}},{"$f":"#REF!+#REF!+I376","v":{"$error":"#REF!"}}]
[null,null,null,null,null,null,null,null,null,{"$f":"#REF!+#REF!+D377","v":{"$error":"#REF!"}},{"$f":"#REF!+#REF!+E377","v":{"$error":"#REF!"}},{"$f":"#REF!+#REF!+F377","v":{"$error":"#REF!"}},{"$f":"#REF!+#REF!+G377","v":{"$error":"#REF!"}},{"$f":"#REF!+#REF!+H377","v":{"$error":"#REF!"}},{"$f":"#REF!+#REF!+I377","v":{"$error":"#REF!"}}]
[null,null,null,null,null,null,null,null,null,{"$f":"#REF!+#REF!+D378","v":{"$error":"#REF!"}},{"$f":"#REF!+#REF!+E378","v":{"$error":"#REF!"}},{"$f":"#REF!+#REF!+F378","v":{"$error":"#REF!"}},{"$f":"#REF!+#REF!+G378","v":{"$error":"#REF!"}},{"$f":"#REF!+#REF!+H378","v":{"$error":"#REF!"}},{"$f":"#REF!+#REF!+I378","v":{"$error":"#REF!"}}]
[null,null,null,null,null,null,null,null,null,{"$f":"#REF!+#REF!+D379","v":{"$error":"#REF!"}},{"$f":"#REF!+#REF!+E379","v":{"$error":"#REF!"}},{"$f":"#REF!+#REF!+F379","v":{"$error":"#REF!"}},{"$f":"#REF!+#REF!+G379","v":{"$error":"#REF!"}},{"$f":"#REF!+#REF!+H379","v":{"$error":"#REF!"}},{"$f":"#REF!+#REF!+I379","v":{"$error":"#REF!"}}]
[]
[]
[]
[]
[]
[]
[]
[null,{"$f":"COUNTA(B4:B386)","v":373},"Totals",{"$f":"SUM(D4:D386)","v":8992},8117,8079,7315,8035,7264,{"$error":"#REF!"},{"$error":"#REF!"},{"$error":"#REF!"},{"$error":"#REF!"},{"$error":"#REF!"},{"$error":"#REF!"}]
[null,null,null,"13-14","14-15",{"$f":"D388","v":"13-14"},{"$f":"E388","v":"14-15"},{"$f":"D388","v":"13-14"},{"$f":"E388","v":"14-15"},{"$f":"#REF!","v":{"$error":"#REF!"}},{"$f":"#REF!","v":{"$error":"#REF!"}},{"$f":"#REF!","v":{"$error":"#REF!"}},{"$f":"#REF!","v":{"$error":"#REF!"}},{"$f":"#REF!","v":{"$error":"#REF!"}},{"$f":"#REF!","v":{"$error":"#REF!"}}]
[null,null,null,"Registration",null,"Examined",null,"Passed",null,"Registration",null,"Examined",null,"Passed"]
[null,null,null,"ABC",null,null,null,null,null,"Total"]

{"sheet":"ED272A Classes YTD by Squadron","index":4,"n_rows":427,"n_cols":14,"rows_kept":427,"cut":false,"hidden":false,"merged":[[1,7,1,8],[424,7,424,8],[424,5,424,6],[1,0,2,0],[1,1,2,1],[1,2,2,2],[424,3,424,4],[425,3,425,4],[425,5,425,6],[0,0,0,2],[0,5,0,6],[1,5,1,6],[0,3,0,4],[1,3,1,4]]}
[{"$f":"'ED272 Students YTD by Squadron'!A1:C1","v":"2016-07-29"},null,null,"ABC",null,"Total"]
["District","Sqdn #","Squadron Name","No. of Classes",null,"No. of Classes",null,"Reported"]
[null,null,null,{"$f":"'ED272 Students YTD by Squadron'!D3","v":"14-15"},{"$f":"'ED272 Students YTD by Squadron'!E3","v":"15-16"},{"$f":"#REF!","v":{"$error":"#REF!"}},{"$f":"#REF!","v":{"$error":"#REF!"}},"Prev Yr.","Curr. Yr.",null,null,null,null,"Squadron"]
[1,2220,"Hartford Power Squadron  ",2,1,18,5,18,5,null,null,null,"D/","Count"]
[1,3060,"Manchester Power Squadron",4,0,15,0,15,0,null,null,null,1,{"$f":"COUNTIF(A$4:A$421,M5)","v":13}]
[1,3210,"Meriden Power Squadron   ",1,1,13,16,13,16,null,null,null,{"$f":"1+M5","v":2},15]
[1,3300,"Middletown Sail & Power  ",1,1,23,0,23,0,null,null,null,{"$f":"1+M6","v":3},16]
[1,3375,"Milford Power Squadron   ",0,2,0,0,0,0,null,null,null,4,14]
[1,3690,"New Britain Power Squad  ",1,0,11,0,11,0,null,null,null,5,31]
[1,3705,"New Haven Power Squadron ",1,3,0,2,0,2,null,null,null,6,15]
[1,3720,"New London Power Squadron",1,2,14,10,14,10,null,null,null,7,12]
[1,3915,"Norwich Power Squadron   ",0,0,10,0,10,0,null,null,null,8,13]
[1,5340,"Saybrook Power Squadron  ",1,0,0,8,0,8,null,null,null,9,20]
[1,5655,"Springfield Power Squad  ",1,3,18,0,18,0,null,null,null,10,11]
[1,6150,"Waterbury Power Squadron ",1,2,6,0,6,0,null,null,null,11,5]
[1,6240,"Westerly Power Squadron  ",0,0,0,0,0,0,null,null,null,12,9]
[2,480,"Berkshire Sail & Power Sq",2,2,8,4,8,4,null,null,null,13,11]
[2,990,"Champlain Power Squadron ",0,0,11,0,11,0,null,null,null,14,7]
[2,1365,"Darien Sail & Power Squad",2,2,62,0,62,0,null,null,null,15,8]
[2,875,"Greenwich Sail & Power Sq",5,2,36,12,36,12,null,null,null,16,16]
[2,2730,"Lake Candlewood Power Sqd",3,1,0,7,0,7,null,null,null,17,12]
[2,2760,"Lake George Power Squad  ",0,0,1,0,1,0,null,null,null,18,0]
[2,3315,"Mid-Hudson Power Squadron",1,1,9,0,9,0,null,null,null,19,10]
[2,3480,"Mohawk Hudson Sail &     ",1,1,10,16,10,16,null,null,null,20,15]
[2,3900,"Norwalk Sail & Power Sqd ",2,4,5,0,5,0,null,null,null,21,12]
[2,4290,"Penfield Sail & Power Sqd",1,0,36,0,36,0,null,null,null,22,17]
[2,4875,"Sacandaga Power Squadron ",5,1,36,3,36,3,null,null,null,23,8]
[2,5310,"Saugatuck River Sail &   ",2,2,2,0,2,0,null,null,null,24,7]
[2,5670,"Stamford Sail & Power Sqd",3,2,4,2,4,2,null,null,null,25,7]
[2,5710,"Storm King Power Squadron",1,1,30,25,30,25,null,null,null,{"$f":"1+M29","v":26},14]
[2,6225,"Westchester Power Squad  ",3,3,15,2,15,2,null,null,null,27,20]
[3,390,"Bayside Power Squadron   ",3,3,16,4,16,4,null,null,null,28,4]
[3,690,"Brooklyn Power Squadron  ",0,0,0,0,0,0,null,null,null,29,7]
[3,885,"Captree Power Squadron   ",6,3,66,9,66,9,null,null,null,30,7]
[3,2070,"Great South Bay Sail &   ",3,3,46,0,46,0,null,null,null,{"$f":"1+M34","v":31},0]
[3,2265,"Hempstead Bay Power Squad",10,4,47,26,47,26,null,null,null,32,6]
[3,2520,"Jones Beach Power Squad  ",1,2,39,0,39,0,null,null,null,33,8]
[3,3510,"Moriches Bay Power Squad ",2,3,32,7,32,7,null,null,null,90,0]
[3,3645,"Neptune Power Squadron   ",1,3,91,0,91,0,null,null,null,99,3]
[3,4035,"Old Field Point Power Sqd",0,0,6,0,6,0,null,null,null,null,{"$f":"SUM(N5:N39)","v":373}]
[3,4125,"Oyster Bay Power Squadron",5,6,22,10,22,10]
[3,4215,"Patchogue Bay Power Squad",6,9,30,9,30,9]
[3,4260,"Peconic Bay Power Squad  ",5,6,128,4,113,4]
[3,2865,"Port Washington Sail &   ",2,2,6,5,6,5]
[3,5430,"Sewanhaka Power Squadron ",3,4,22,8,22,8]
[3,5520,"Smithtown Bay Power Squad",2,3,26,3,26,3]
[3,5640,"South Shore Power Squad  ",7,5,30,2,30,2]
[4,360,"Barnegat Bay Sail & Power",0,0,0,0,0,0]
[4,675,"Bronx Power Squadron     ",0,0,0,0,0,0]
[4,1100,"City Island Power Squad  ",2,1,9,2,9,2]
[4,2715,"Lackawanna Sail & Power  ",2,0,12,0,12,0]
[4,2340,"Lake Hopatcong Sail &    ",2,0,7,11,7,11]
[4,2840,"Liberty Harbor Power Sqd ",0,0,0,0,0,0]
[4,3780,"New York Sail & Power Sqd",0,1,0,0,0,0]
[4,3885,"North River Power Squad  ",0,2,20,0,20,0]
[4,3855,"Northern New Jersey Sail ",3,2,19,10,19,10]
[4,4155,"Palisades Power Squadron ",5,1,50,36,50,36]
[4,4650,"Raritan Bay Power Squad  ",2,1,23,0,23,0]
[4,5475,"Shrewsbury Power Squadron",0,0,0,0,0,0]
[4,5700,"Staten Island Power Squad",3,3,51,3,51,3]
[4,6135,"Watchung Sail & Power Sqd",3,1,3,5,3,5]
[5,15,"Absecon Island Power Sqd ",4,0,23,13,23,13]
[5,165,"Annapolis Sail & Power Sq",0,0,0,0,0,0]
[5,765,"Cambridge Sail & Power Sq",0,1,0,0,0,0]
[5,1156,"Colonial Sail & Power Sqd",0,0,0,0,0,0]
[5,1440,"Delaware River Power Sqd ",5,1,13,11,13,11]
[5,1455,"Delhigh Power Squadron   ",1,0,5,21,5,21]
[5,1485,"Delsea Power Squadron    ",3,3,56,0,56,0]
[5,1560,"Dundalk Sail & Power Sqd ",7,5,21,16,21,16]
[5,1620,"Elizabeth River Power Sq ",0,0,0,0,0,0]
[5,2205,"Hampton Roads Power Squad",0,1,0,0,0,0]
[5,2590,"Kent Narrows Sail & Power",1,2,13,0,13,0]
[5,2685,"Kingsway Power Squadron  ",0,0,0,0,0,0]
[5,3045,"Main Line Power Squadron ",9,8,44,2,44,2]
[5,3340,"Mid-Potomac Power Squad  ",1,2,0,0,0,0]
[5,3360,"Miles River Sail & Power ",0,0,0,0,0,0]
[5,3600,"Nansemond River Power Sqd",2,2,35,15,35,15]
[5,3605,"Nanticoke River Sail &   ",0,0,13,0,13,0]
[5,3850,"Northern Neck Sail &     ",0,0,0,0,0,0]
[5,3870,"Northrn Virginia Sail &  ",0,0,0,0,0,0]
[5,3980,"Ocean City Power Squadron",3,2,27,6,27,6]
[5,4200,"Patapsco River Power Sqd ",3,1,23,0,23,0]
[5,4230,"Patuxent River Sail &    ",3,1,18,6,18,6]
[5,4545,"Potomac River Power Sqd  ",3,3,25,4,25,4]
[5,4710,"Richmond Sail & Power Sqd",0,0,0,0,0,0]
[5,4785,"Rockville Sail & Power   ",1,2,0,0,0,0]
[5,5055,"Salisbury Power Squadron ",2,1,4,0,4,0]
[5,4860,"Smith Mtn Lake Sail &    ",4,6,8,4,8,4]
[5,5745,"Susquehannock Power Squad",1,1,39,33,39,33]
[5,6090,"Virginia Beach Sail &    ",4,3,7,0,7,0]
[5,6270,"Wilmington Power Squadron",0,1,15,6,15,6]
[5,6375,"York Sail & Power Squad  ",2,2,0,0,0,0]
[6,270,"Auburn Power Squadron    ",0,0,6,8,6,8]
[6,705,"Buffalo Power Squadron   ",1,0,0,0,0,0]
[6,2190,"Hamburg Power Squadron   ",1,0,14,0,14,0]
[6,2455,"Iroquois Power Squadron  ",3,2,17,0,17,0]
[6,2460,"Ithaca Sail & Power Squad",5,5,8,6,8,6]
[6,2895,"Lockport Power Squadron  ",1,0,70,48,66,46]
[6,3795,"Niagara                  ",0,0,21,0,21,0]
[6,4680,"Red Jacket Power Squadron",1,0,0,0,0,0]
[6,4755,"Rochester Power Squadron ",4,1,8,0,8,0]
[6,5400,"Seneca Sail &            ",1,1,15,0,15,0]
[6,4980,"St. Lawrence Power Squad ",7,1,4,3,4,3]
[6,5760,"Susquenango Power Squad  ",2,1,17,38,17,38]
[6,5775,"Swiftwater Power Squadron",1,2,16,9,16,9]
[6,5790,"Syracuse Sail & Power Sqd",5,4,9,0,9,0]
[6,6000,"Utica Sail & Power Squad ",3,3,59,7,53,6]
[7,45,"Akron Power Squadron     ",5,5,10,0,10,0]
[7,495,"Berea Power Squadron     ",6,4,55,39,55,39]
[7,1125,"Cleveland Power Squadron ",0,0,31,20,31,20]
[7,2555,"Kanawha River Power Squad",0,0,0,0,0,0]
[7,3090,"Mansfield Power Squadron ",2,2,11,0,11,0]
[7,3330,"Mid Ohio Valley Power Sqd",0,0,4,5,4,5]
[7,4395,"Pittsburgh Power Squadron",2,4,0,0,0,0]
[7,4815,"Rocky River Sail & Power ",3,3,14,0,14,0]
[7,5610,"South Hills Power Squad  ",0,0,56,10,56,10]
[7,5685,"Stark County Power Squad ",2,1,0,0,0,0]
[7,5895,"Ten Mile Power Squadron  ",1,1,4,10,4,10]
[7,6060,"Vermilion Power Squadron ",2,3,9,0,9,0]
[8,1230,"Coral Ridge Power Squad  ",0,1,8,0,8,0]
[8,1800,"Ft. Lauderdale Power Sqd ",6,6,2,0,2,0]
[8,2280,"Hollywood Power Squadron ",2,3,17,0,17,0]
[8,2295,"Homestead Power Squadron ",0,0,50,26,49,26]
[8,2625,"Key West Sail & Power Sqd",6,9,76,0,71,0]
[8,3105,"Marathon Sail & Power Sqd",0,0,10,0,10,0]
[8,3255,"Miami Sail & Power Squad ",0,0,67,49,67,49]
[8,4170,"Palm Beach Sail & Power  ",12,12,0,0,0,0]
[8,4440,"Pompano Beach Power Squad",5,5,0,0,0,0]
[8,4510,"Port St. Lucie Power Sqd ",3,1,80,59,80,59]
[8,5371,"Sebastian Inlet Sail &   ",4,4,124,60,124,60]
[8,5010,"St. Lucie River Power Sqd",5,10,34,24,34,24]
[8,6075,"Vero Beach Power Squadron",5,6,37,17,37,17]
[9,120,"Anchor Bay Power Squadron",2,1,15,22,15,22]
[9,180,"Ann Arbor Power Squadron ",2,1,67,72,67,72]
[9,525,"Birmingham Power Squadron",9,5,0,1,0,1]
[9,1410,"Dearborn Sail & Power Sqd",4,2,25,0,25,0]
[9,1515,"Detroit Power Squadron   ",3,3,20,24,20,24]
[9,1755,"Flint Power Squadron     ",1,1,13,3,13,3]
[9,2010,"Grand Rapids Power Squad ",2,1,42,0,42,0]
[9,2025,"Grand Traverse Bay Sail &",4,2,10,0,10,0]
[9,2160,"Grosse Pointe Power Squad",2,1,11,0,11,0]
[9,2550,"Kalamazoo Sail & Power Sq",3,3,2,2,2,2]
[9,2820,"Lansing Sail & Power Sqd ",3,4,7,0,7,0]
[9,3540,"Mount Clemens Power Squad",2,2,10,8,9,8]
[9,3570,"Muskegon Power Squadron  ",2,3,21,0,16,0]
[9,4485,"Port Huron Power Squadron",1,3,10,7,10,7]
[9,3010,"Sable Point Sail & Power ",1,1,25,0,25,0]
[9,4920,"Saginaw Bay Power Squad  ",0,0,15,0,15,0]
[9,5595,"South Bend Power Squadron",5,3,4,2,4,2]
[9,4945,"St. Clair Shores Sail &  ",1,0,0,0,0,0]
[9,5903,"Tip of the Mitt Power Sq ",0,0,35,13,34,13]
[9,6345,"Wyandotte Power Squadron ",3,3,0,0,0,0]
[10,955,"Central Wisconsin Sail&  ",1,1,0,0,0,0]
[10,5715,"Door County Power Squad  ",1,0,28,18,27,18]
[10,1545,"Duluth Sail & Power Squad",1,2,7,0,7,0]
[10,2085,"Green Bay Sail & Power Sq",1,1,7,0,7,0]
[10,2267,"Hiawatha Valley Sail &   ",1,2,25,0,25,0]
[10,3030,"Madison Power Squadron   ",1,0,20,0,20,0]
[10,3140,"Marinette Menominee Sail&",0,0,12,0,12,0]
[10,3390,"Milwaukee Sail & Power Sq",3,3,7,0,7,0]
[10,3405,"Minnetonka Power Squadron",3,3,12,0,12,0]
[10,4095,"Oshkosh Power Squadron   ",1,1,13,10,13,10]
[10,5025,"St. Paul Sail & Power Sqd",0,0,27,15,24,15]
[11,315,"Bald Eagle Power Squadron",1,1,75,39,74,39]
[11,1635,"Erie Power Squadron      ",1,1,6,0,6,0]
[11,2670,"Kinzua Power Squadron    ",1,0,0,2,0,2]
[11,3525,"Mosquito Lake Power Squad",1,1,24,0,24,0]
[11,3700,"New Castle Power Squadron",3,3,37,0,37,0]
[12,345,"Bare Cove Power Squadron ",1,0,3,0,3,0]
[12,510,"Beverly-Marblehead Sail &",2,8,15,21,10,21]
[12,660,"Broad Sound Power Squad  ",0,0,9,0,9,0]
[12,1005,"Charles River Sail &     ",1,0,19,0,19,0]
[12,2040,"Great Blue Hill Sail &   ",1,2,2,0,2,0]
[12,3420,"Minute Man Sail & Power  ",1,0,19,0,19,0]
[12,3810,"Nobscot Sail & Power Sqd ",0,0,54,0,54,0]
[12,4020,"Old Colony Power Squadron",2,4,42,0,42,0]
[12,6330,"Worcester County Power   ",2,0,13,0,13,0]
[13,75,"Alamitos Power Squadron  ",3,1,7,0,7,0]
[13,195,"Arrowhead Sail & Power Sq",6,1,15,0,15,0]
[13,2225,"Hawaii Sail & Power Squad",9,1,6,0,6,0]
[13,2310,"Honolulu Power Squadron  ",4,0,12,1,12,1]
[13,2835,"Las Vegas Sail & Power Sq",3,2,9,7,9,7]
[13,2925,"Long Beach Power Squadron",1,1,0,0,0,0]
[13,5235,"Santa Barbara Sail &     ",2,0,157,86,157,86]
[13,5898,"The Valley Sail & Power  ",5,0,88,13,88,13]
[13,5900,"Tokyo Sail & Power Squad ",0,0,10,7,10,7]
[13,5926,"Tres Rios Power Squadron ",2,0,0,0,0,0]
[13,6045,"Ventura Power Squadron   ",2,2,16,9,16,9]
[14,735,"Buzzards Bay Sail & Power",2,2,0,4,0,3]
[14,825,"Cape Cod Sail & Power Sqd",2,2,0,0,0,0]
[14,2130,"Greenwich Bay Sail &     ",0,0,2,1,2,1]
[14,3165,"Mattapoisett Power Squad ",0,0,24,22,24,22]
[14,3630,"Narragansett Bay Power Sq",0,0,30,5,30,5]
[14,3750,"Newport Sail & Power Sqd ",0,0,64,45,64,45]
[14,5880,"Taunton River Power Squad",3,2,0,0,0,0]
[15,375,"Baton Rouge Sail & Power ",2,0,0,0,0,0]
[15,1860,"Ft. Walton Sail & Power  ",6,6,0,0,0,0]
[15,2793,"Lake Pontchartrain Sail  ",1,2,0,0,0,0]
[15,3451,"Mississippi Gulf Coast   ",0,1,30,16,30,16]
[15,3465,"Mobile Sail & Power Squad",0,0,7,0,7,0]
[15,3735,"New Orleans Power Squad  ",6,3,114,39,109,39]
[15,4320,"Pensacola Sail & Power   ",4,1,18,0,18,0]
[15,4355,"Perdido Bay Power Squad  ",5,5,0,0,0,0]
[16,30,"Agate Pass Sail & Power  ",1,1,37,29,37,29]
[16,450,"Bellevue Sail & Power Sqd",4,5,0,16,0,15]
[16,465,"Bellingham Sail & Power  ",3,3,38,31,38,31]
[16,630,"Bremerton Sail & Power Sq",8,12,17,0,17,0]
[16,1430,"Deception Pass Sail &    ",3,1,58,39,58,39]
[16,1680,"Everett Sail & Power Sqd ",4,4,48,35,48,35]
[16,1955,"Friday Harbor Power Squad",4,2,28,15,27,15]
[16,3875,"North Olympic Sail &     ",3,2,41,1,41,1]
[16,76,"North Star Sail &        ",0,0,28,24,28,24]
[16,4050,"Olympia Sail & Power Sqd ",2,2,17,63,17,63]
[16,4560,"Poverty Bay Sail & Power ",9,8,8,19,8,19]
[16,4396,"Pt. Wilson Sail & Power  ",1,1,0,0,0,0]
[16,5370,"Seattle Sail & Power Sqd ",5,3,20,4,19,4]
[16,5495,"Skagit Bay Sail & Power  ",1,1,57,35,57,35]
[16,5565,"Spokane Sail & Power Sqd ",1,2,9,0,9,0]
[16,5805,"Tacoma Power Squadron    ",2,2,0,39,0,39]
[17,240,"Atlanta Sail & Power Sqd ",8,3,26,6,26,6]
[17,210,"Blue Ridge Sail & Power  ",0,0,9,2,9,2]
[17,1050,"Chattanooga Power Squad  ",2,1,17,5,17,5]
[17,2400,"Huntsville Power Squadron",3,3,67,40,64,40]
[17,2505,"Johnson City Power Squad ",0,0,0,0,0,0]
[17,2700,"Knoxville Power Squadron ",3,1,3,4,3,4]
[17,3195,"Memphis Sail & Power     ",0,0,9,16,9,16]
[17,3585,"Montgomery Power Squadron",0,0,0,0,0,0]
[17,3555,"Muscogee Sail & Power Sqd",0,0,27,14,27,14]
[17,3560,"Music City               ",1,3,0,0,0,0]
[17,3960,"Oak Ridge Power Squadron ",0,0,0,0,0,0]
[17,6105,"Vulcan Power Squadron    ",1,0,0,0,0,0]
[19,105,"Amoskeag Power Squadron  ",1,3,3,9,2,9]
[19,193,"Aroostook Valley Sail &  ",0,0,5,0,5,0]
[19,2580,"Kennebec River Sail &    ",1,0,3,0,3,0]
[19,2794,"Lakes Region Sail & Power",4,3,0,0,0,0]
[19,3225,"Merrimac River Sail &    ",1,0,7,0,7,0]
[19,3305,"Mid-Coast Sail & Power Sq",0,0,0,0,0,0]
[19,4305,"Penobscot Bay Sail &     ",2,2,0,0,0,0]
[19,4505,"Portland Head Sail &     ",0,1,95,31,95,31]
[19,4515,"Portsmouth Power Squadron",1,0,5,0,4,0]
[19,6210,"Wawenock Sail & Power Sqd",5,7,0,0,0,0]
[20,975,"Chain-O-Lakes Sail &     ",1,1,16,5,16,4]
[20,1080,"Chicago Power Squadron   ",4,3,5,0,5,0]
[20,1425,"Decatur Power Squadron   ",0,0,10,8,10,8]
[20,1575,"DuPage Sail & Power Squad",0,0,37,11,37,11]
[20,1935,"Fox Valley Power Squadron",6,5,0,0,0,0]
[20,2430,"Illinois Valley Power Sqd",2,2,5,0,5,0]
[20,2560,"Kankakee Valley Sail &   ",1,1,16,12,16,12]
[20,2805,"Land of Lincoln Power Sqd",2,4,0,0,0,0]
[20,3285,"Michigan City Power Squad",1,2,6,0,6,0]
[20,3316,"Mid Illini Power Squadron",1,3,0,0,0,0]
[20,4635,"Racine Sail & Power Squad",0,0,11,8,11,8]
[20,4770,"Rockford Power Squadron  ",1,1,0,0,0,0]
[20,5505,"Skokie Valley Power Squad",4,2,10,0,10,0]
[20,1140,"Two Rivers Power Squadron",0,0,25,0,25,0]
[20,6195,"Waukegan Sail & Power Sqd",2,0,9,0,9,0]
[21,285,"Austin Power Squadron    ",1,1,15,0,15,0]
[21,1335,"Dallas Sail & Power Squad",2,4,8,0,8,0]
[21,1890,"Ft. Worth Power Squadron ",2,2,0,0,0,0]
[21,1980,"Galveston Bay Power Squad",8,5,8,0,8,0]
[21,2370,"Houston Sail & Power Sqd ",18,18,10,6,10,6]
[21,2745,"Lake Charles Sail &      ",1,3,0,0,0,0]
[21,3005,"Lower Rio Grande Valley  ",1,0,15,5,13,5]
[21,4005,"Oklahoma City Sail &     ",0,1,23,0,23,0]
[21,4110,"Ouachita Power Squadron  ",1,1,0,0,0,0]
[21,4850,"Sabine Sail &            ",0,0,3,0,3,0]
[21,5085,"San Antonio Sail & Power ",1,0,32,11,32,11]
[21,5460,"Shreveport Power Squadron",1,4,95,84,95,84]
[22,150,"Anna Maria Island Power  ",3,4,25,0,25,0]
[22,585,"Boca Ciega Sail & Power  ",1,2,0,0,0,0]
[22,840,"Cape Coral Power Squadron",8,9,0,4,0,4]
[22,1110,"Clearwater Sail & Power  ",9,3,1,0,1,0]
[22,1305,"Crystal River Power Squad",3,3,5,0,5,0]
[22,1815,"Ft. Myers Power Squadron ",2,2,0,0,0,0]
[22,2775,"Lakeland Sail & Power Sqd",4,3,18,5,18,5]
[22,3055,"Manatee Sail & Power Sqd ",3,2,61,25,61,24]
[22,3125,"Marco Island Sail & Power",4,4,10,8,10,8]
[22,3615,"Naples Sail & Power Squad",1,1,304,169,304,169]
[22,4245,"Peace River Sail & Power ",10,11,38,21,38,21]
[22,5100,"San Carlos Bay Sail &    ",6,5,14,5,14,5]
[22,5071,"Sanibel Captiva Sail &   ",4,4,10,23,10,23]
[22,5295,"Sarasota Power Squadron  ",8,10,44,31,44,31]
[22,5040,"St. Petersburg Sail &    ",3,4,54,57,54,57]
[22,5835,"Tampa Power Squadron     ",1,4,29,32,28,31]
[22,6030,"Venice Sail & Power Squad",4,5,12,5,12,5]
[23,330,"Banana River Sail & Power",3,3,72,71,72,71]
[23,935,"Central Florida Sail &   ",3,2,25,58,25,58]
[23,1155,"Cocoa Beach Power Squad  ",5,5,29,37,29,37]
[23,1395,"Daytona Beach Power Squad",0,0,140,88,139,88]
[23,1965,"Gainesville Sail & Power ",0,0,71,42,71,42]
[23,2210,"Harris Chain Sail & Power",4,5,14,8,14,8]
[23,2490,"Jacksonville Sail & Power",7,4,16,23,16,23]
[23,5905,"Titusville Sail & Power  ",0,1,40,14,40,14]
[24,570,"Bluegrass Power Squadron ",2,1,22,11,20,11]
[24,1095,"Cincinnati Sail & Power  ",3,3,60,26,60,24]
[24,1380,"Dayton Sail & Power Squad",0,2,0,0,0,0]
[24,1670,"Evansville Bend Power Sqd",2,1,3,0,3,0]
[24,2325,"Hoosier Sail & Power Sqd ",0,0,52,12,52,12]
[24,2970,"Louisville Sail & Power  ",2,4,42,36,41,36]
[24,6120,"Wabash Valley Power Squad",3,0,0,0,0,0]
[25,1530,"Diablo Sail & Power Squad",1,0,7,5,7,5]
[25,3487,"Monterey Bay Sail & Power",0,0,6,4,6,4]
[25,4350,"Peralta Sail & Power Sqd ",1,2,0,0,0,0]
[25,4700,"Redwood Power Squadron   ",0,0,22,0,21,0]
[25,4890,"Sacramento Power Squadron",3,1,0,0,0,0]
[25,5190,"San Joaquin Delta        ",2,3,20,6,20,6]
[25,5250,"Santa Clara Power Squad  ",3,4,11,1,11,1]
[26,405,"Beaufort Sail & Power Sqd",2,2,0,0,0,0]
[26,1020,"Charleston Sail & Power  ",4,3,10,6,9,5]
[26,1540,"Dreher Shoals Provis     ",0,1,2,0,2,0]
[26,5896,"Golden Corner Lakes Sail ",3,2,0,0,0,0]
[26,2000,"Golden Isles Sail & Power",2,3,13,0,13,0]
[26,2270,"Hilton Head Sail & Power ",2,2,4,0,4,0]
[26,2100,"Lake Hartwell Sail &     ",3,3,16,2,14,2]
[26,2785,"Lake Murray Power Squad  ",3,4,16,2,16,2]
[26,2910,"Long Bay Power Squadron  ",1,1,7,9,7,9]
[26,3890,"North Strand Sail & Power",2,1,46,44,46,44]
[26,5325,"Savannah River Sail &    ",0,1,109,35,109,35]
[26,5765,"Swamp Fox Power Squadron ",0,0,16,7,16,7]
[26,5897,"Thurmond Lake Sail &     ",1,2,16,8,16,8]
[26,5970,"Tybee Light Sail & Power ",3,4,45,52,45,52]
[27,80,"Albemarle Sail & Power Sq",0,2,21,17,21,15]
[27,855,"Cape Fear Sail & Power Sq",3,3,49,17,49,17]
[27,870,"Cape Lookout Sail & Power",1,2,15,14,14,14]
[27,930,"Catawba Power Squadron   ",3,3,14,23,14,23]
[27,1035,"Charlotte Power Squadron ",3,4,0,0,0,0]
[27,1590,"Durham Sail & Power Squad",2,2,0,0,0,0]
[27,1740,"Fayetteville Sail & Power",2,1,11,0,11,0]
[27,1810,"Fort Macon Sail & Power  ",5,3,62,21,62,21]
[27,2005,"Goldsboro Sail & Power Sq",2,1,4,0,4,0]
[27,2090,"Greensboro Power Squadron",2,1,103,78,103,78]
[27,2655,"Kinston Power Squadron   ",1,2,23,8,23,8]
[27,2791,"Lake Norman Sail & Power ",4,3,3,19,3,19]
[27,3765,"New River Sail & Power Sq",4,5,29,8,29,8]
[27,4175,"Pamlico Sail & Power Sqd ",4,4,1,3,1,3]
[27,4665,"Raleigh Sail & Power Sqd ",2,3,4,0,4,0]
[27,4800,"Rocky Mount Power Squad  ",1,3,17,14,17,14]
[27,5435,"Shallotte River Sail &   ",1,1,18,0,18,0]
[27,5630,"Southport Sail & Power Sq",1,1,20,20,20,20]
[27,5855,"Tar River Power Squadron ",2,5,0,0,0,0]
[27,6320,"Winston Salem Sail &     ",3,1,206,81,203,79]
[28,300,"Balboa Power Squadron    ",3,2,5,7,5,7]
[28,4365,"Phoenix Sail & Power Sqd ",8,2,5,15,5,15]
[28,5115,"San Diego Sail & Power   ",1,2,12,5,12,5]
[28,5220,"San Luis Rey             ",1,2,0,0,0,0]
[29,1185,"Columbus Sail & Power    ",1,2,10,0,10,0]
[29,1905,"Findlay Sail & Power Sqd ",2,1,10,9,10,9]
[29,1875,"Ft. Wayne Sail & Power Sq",0,0,5,11,5,11]
[29,2850,"Lima Power Squadron      ",1,2,7,0,7,0]
[29,4470,"Port Clinton Power Squad ",1,1,5,13,5,13]
[29,5130,"Sandusky Power Squadron  ",3,3,8,2,8,2]
[29,5910,"Toledo Power Squadron    ",3,3,0,3,0,3]
[30,620,"Boulder Valley Sail &    ",2,0,19,14,19,14]
[30,1500,"Des Moines Power Squadron",2,1,20,16,20,16]
[30,945,"Four Rivers Power Squad  ",1,0,0,0,0,0]
[30,2007,"Grand Lake Sail & Power  ",3,2,24,26,24,26]
[30,2565,"Kansas City Power Squad  ",0,0,10,6,10,6]
[30,4995,"St. Louis Power Squadron ",2,1,0,0,0,0]
[30,6170,"Waterloo Sail & Power Sqd",0,0,16,5,16,5]
[32,425,"Beaverton Sail &         ",3,3,8,0,8,0]
[32,1215,"Coos Bay Power Squadron  ",3,4,10,0,10,0]
[32,1845,"Ft. Vancouver Sail &     ",0,0,19,6,18,6]
[32,3000,"Lower Columbia Power Sqd ",0,0,40,0,40,0]
[32,4500,"Portland Power Squadron  ",0,0,2,0,2,0]
[32,4955,"St. Helens Sail & Power  ",1,1,13,8,13,8]
[33,192,"Arecibo Power Squadron   ",3,3,6,0,6,0]
[33,595,"Boqueron Power Squadron  ",3,2,0,0,0,0]
[33,895,"Carolina Sail & Power Sqd",5,3,0,0,0,0]
[33,2385,"Humacao Power Squadron   ",4,4,0,2,0,2]
[33,4455,"Ponce Power Squadron     ",5,6,0,0,0,0]
[33,5205,"San Juan Power Squadron  ",5,5,2,0,2,0]
[33,4950,"St. Croix Power Squadron ",0,0,20,10,20,10]
[33,5045,"St. Thomas Power Squadron",0,0,3,0,3,0]
[99,6404,"Internet Membership      ",0,0,9,1,9,1]
[99,6405,"Unattached Members       ",0,0,12,7,12,7]
[99,6403,"USPS University          ",0,0,0,0,0,0]
[]
[]
[]
[]
[]
[]
[]
[]
[]
[]
[]
[]
[]
[]
[]
[]
[]
[]
[null,null,null,null,null,0,0]
[null,null,null,null,null,{"$f":"#REF!+#REF!+D396","v":{"$error":"#REF!"}},{"$f":"#REF!+#REF!+E396","v":{"$error":"#REF!"}},{"$f":"IF((+D396)=0,\" \",D396)","v":" "},{"$f":"IF((+E396)=0,\" \",E396)","v":" "}]
[null,null,null,null,null,{"$f":"#REF!+#REF!+D397","v":{"$error":"#REF!"}},{"$f":"#REF!+#REF!+E397","v":{"$error":"#REF!"}}," "," "]
[null,null,null,null,null,{"$f":"#REF!+#REF!+D398","v":{"$error":"#REF!"}},{"$f":"#REF!+#REF!+E398","v":{"$error":"#REF!"}}," "," "]
[null,null,null,null,null,{"$f":"#REF!+#REF!+D399","v":{"$error":"#REF!"}},{"$f":"#REF!+#REF!+E399","v":{"$error":"#REF!"}}," "," "]
[null,null,null,null,null,{"$f":"#REF!+#REF!+D400","v":{"$error":"#REF!"}},{"$f":"#REF!+#REF!+E400","v":{"$error":"#REF!"}}," "," "]
[null,null,null,null,null,{"$f":"#REF!+#REF!+D401","v":{"$error":"#REF!"}},{"$f":"#REF!+#REF!+E401","v":{"$error":"#REF!"}}," "," "]
[null,null,null,null,null,{"$f":"#REF!+#REF!+D402","v":{"$error":"#REF!"}},{"$f":"#REF!+#REF!+E402","v":{"$error":"#REF!"}}," "," "]
[null,null,null,null,null,{"$f":"#REF!+#REF!+D403","v":{"$error":"#REF!"}},{"$f":"#REF!+#REF!+E403","v":{"$error":"#REF!"}}," "," "]
[null,null,null,null,null,{"$f":"#REF!+#REF!+D404","v":{"$error":"#REF!"}},{"$f":"#REF!+#REF!+E404","v":{"$error":"#REF!"}}," "," "]
[null,null,null,null,null,null,null," "," "]
[null,null,null,null,null,null,null," "," "]
[null,null,null,null,null,null,null," "," "]
[null,null,null,null,null,null,null," "," "]
[null,null,null,null,null,null,null," "," "]
[null,null,null,null,null,null,null," "," "]
[null,null,null,null,null,null,null," "," "]
[null,null,null,null,null,null,null," "," "]
[null,null,null,null,null,null,null," "," "]
[null,null,null,null,null,null,null," "," "]
[null,null,null,null,null,null,null," "," "]
[null,null,null,null,null,null,null," "," "]
[null,null,null,null,null,null,null," "," "]
[null,null,null,null,null,null,null," "," "]
[null,null,null,null,null,null,null," "," "]
[null,null,null,null,null,null,null," "," "]
[null,null,null,null,null,null,null," "," "]
["No. of Sqd.",{"$f":"COUNTA(B4:B420)","v":373},null,null,null,null,null," "," "]
[null,null,"Totals",{"$f":"SUM(D4:D422)","v":837},747,{"$f":"SUM(F4:F422)","v":{"$error":"#REF!"}},{"$f":"SUM(G4:G422)","v":{"$error":"#REF!"}},{"$f":"COUNT(H4:H421)","v":373},{"$f":"COUNT(I4:I421)","v":373}]
[null,null,null,{"$f":"D3","v":"14-15"},{"$f":"E3","v":"15-16"},{"$f":"#REF!","v":{"$error":"#REF!"}},{"$f":"#REF!","v":{"$error":"#REF!"}},"Prev. Yr.","Curr. Yr."]
["Squadrons Reporting",null,null,"No. of Classes",null,"No. of Classes",null,"Count"]
["Prev. Yr.","Curr. Yr.",null,"ABC",null,"Total"]
[{"$f":"H423","v":373},{"$f":"I423","v":373}]

{"sheet":"ED273 Students YTD by District","index":5,"n_rows":50,"n_cols":21,"rows_kept":50,"cut":false,"hidden":false,"merged":[[2,1,2,3],[0,0,0,3],[0,4,0,9],[1,4,1,5],[1,6,1,7],[1,14,1,15],[0,10,0,15],[1,8,1,9],[1,10,1,11],[1,12,1,13],[49,10,49,15],[47,1,47,3],[49,4,49,9],[48,10,48,11],[48,12,48,13],[48,6,48,7],[48,8,48,9],[48,14,48,15],[48,4,48,5]]}
[{"$f":"'ED272 Students YTD by Squadron'!A1:C1","v":"2016-07-29"},null,null,null,"ABC",null,null,null,null,null,"Total"]
[null,null,null,null,"Registration",null,"Examined",null,"Passed",null,"Registration",null,"Examined",null,"Passed",null,null,"Edits For "]
["D/","Squadrons Reporting",null,null,{"$f":"'ED272 Students YTD by Squadron'!D3","v":"14-15"},{"$f":"'ED272 Students YTD by Squadron'!E3","v":"15-16"},{"$f":"E3","v":"14-15"},{"$f":"F3","v":"15-16"},"13-14","14-15",{"$f":"#REF!","v":{"$error":"#REF!"}},{"$f":"#REF!","v":{"$error":"#REF!"}},{"$f":"#REF!","v":{"$error":"#REF!"}},{"$f":"#REF!","v":{"$error":"#REF!"}},{"$f":"#REF!","v":{"$error":"#REF!"}},{"$f":"#REF!","v":{"$error":"#REF!"}},null,"Defunct/New/Reassigned Squadrons",{"$f":"A3","v":"D/"},null,"orig values"]
[null,null,null,null,null,null,null,null,null,null,null,null,null,null,null,null,null,null,0]
[1,8,"of",13,116,133,108,126,108,126,{"$f":"#REF!+#REF!+E5","v":{"$error":"#REF!"}},{"$f":"#REF!+#REF!+F5","v":{"$error":"#REF!"}},{"$f":"#REF!+#REF!+G5","v":{"$error":"#REF!"}},{"$f":"#REF!+#REF!+H5","v":{"$error":"#REF!"}},{"$f":"#REF!+#REF!+I5","v":{"$error":"#REF!"}},{"$f":"#REF!+#REF!+J5","v":{"$error":"#REF!"}},null,null,1]
[2,12,"of",15,366,311,327,290,327,290,{"$f":"#REF!+#REF!+E6","v":{"$error":"#REF!"}},{"$f":"#REF!+#REF!+F6","v":{"$error":"#REF!"}},{"$f":"#REF!+#REF!+G6","v":{"$error":"#REF!"}},{"$f":"#REF!+#REF!+H6","v":{"$error":"#REF!"}},{"$f":"#REF!+#REF!+I6","v":{"$error":"#REF!"}},{"$f":"#REF!+#REF!+J6","v":{"$error":"#REF!"}},null,null,2]
[3,14,"of",16,327,423,295,383,295,373,{"$f":"#REF!+#REF!+E7","v":{"$error":"#REF!"}},{"$f":"#REF!+#REF!+F7","v":{"$error":"#REF!"}},{"$f":"#REF!+#REF!+G7","v":{"$error":"#REF!"}},{"$f":"#REF!+#REF!+H7","v":{"$error":"#REF!"}},{"$f":"#REF!+#REF!+I7","v":{"$error":"#REF!"}},{"$f":"#REF!+#REF!+J7","v":{"$error":"#REF!"}},null,null,3]
[4,8,"of",14,158,90,152,88,152,88,{"$f":"#REF!+#REF!+E8","v":{"$error":"#REF!"}},{"$f":"#REF!+#REF!+F8","v":{"$error":"#REF!"}},{"$f":"#REF!+#REF!+G8","v":{"$error":"#REF!"}},{"$f":"#REF!+#REF!+H8","v":{"$error":"#REF!"}},{"$f":"#REF!+#REF!+I8","v":{"$error":"#REF!"}},{"$f":"#REF!+#REF!+J8","v":{"$error":"#REF!"}},null,null,4]
[5,18,"of",31,450,417,377,389,377,389,{"$f":"#REF!+#REF!+E9","v":{"$error":"#REF!"}},{"$f":"#REF!+#REF!+F9","v":{"$error":"#REF!"}},{"$f":"#REF!+#REF!+G9","v":{"$error":"#REF!"}},{"$f":"#REF!+#REF!+H9","v":{"$error":"#REF!"}},{"$f":"#REF!+#REF!+I9","v":{"$error":"#REF!"}},{"$f":"#REF!+#REF!+J9","v":{"$error":"#REF!"}},null,31,5,null,32]
[null,null,null,null,null,null,null,null,null,null,null,null,null,null,null,null,null,null,0]
[6,9,"of",15,287,144,271,136,267,136,{"$f":"#REF!+#REF!+E11","v":{"$error":"#REF!"}},{"$f":"#REF!+#REF!+F11","v":{"$error":"#REF!"}},{"$f":"#REF!+#REF!+G11","v":{"$error":"#REF!"}},{"$f":"#REF!+#REF!+H11","v":{"$error":"#REF!"}},{"$f":"#REF!+#REF!+I11","v":{"$error":"#REF!"}},{"$f":"#REF!+#REF!+J11","v":{"$error":"#REF!"}},null,null,6]
[7,8,"of",12,202,181,173,154,172,153,{"$f":"#REF!+#REF!+E12","v":{"$error":"#REF!"}},{"$f":"#REF!+#REF!+F12","v":{"$error":"#REF!"}},{"$f":"#REF!+#REF!+G12","v":{"$error":"#REF!"}},{"$f":"#REF!+#REF!+H12","v":{"$error":"#REF!"}},{"$f":"#REF!+#REF!+I12","v":{"$error":"#REF!"}},{"$f":"#REF!+#REF!+J12","v":{"$error":"#REF!"}},null,null,7]
[8,10,"of",13,529,572,485,520,475,515,{"$f":"#REF!+#REF!+E13","v":{"$error":"#REF!"}},{"$f":"#REF!+#REF!+F13","v":{"$error":"#REF!"}},{"$f":"#REF!+#REF!+G13","v":{"$error":"#REF!"}},{"$f":"#REF!+#REF!+H13","v":{"$error":"#REF!"}},{"$f":"#REF!+#REF!+I13","v":{"$error":"#REF!"}},{"$f":"#REF!+#REF!+J13","v":{"$error":"#REF!"}},null,null,8]
[9,16,"of",20,355,332,303,296,302,294,{"$f":"#REF!+#REF!+E14","v":{"$error":"#REF!"}},{"$f":"#REF!+#REF!+F14","v":{"$error":"#REF!"}},{"$f":"#REF!+#REF!+G14","v":{"$error":"#REF!"}},{"$f":"#REF!+#REF!+H14","v":{"$error":"#REF!"}},{"$f":"#REF!+#REF!+I14","v":{"$error":"#REF!"}},{"$f":"#REF!+#REF!+J14","v":{"$error":"#REF!"}},null,null,9]
[10,7,"of",11,201,154,183,130,182,129,{"$f":"#REF!+#REF!+E15","v":{"$error":"#REF!"}},{"$f":"#REF!+#REF!+F15","v":{"$error":"#REF!"}},{"$f":"#REF!+#REF!+G15","v":{"$error":"#REF!"}},{"$f":"#REF!+#REF!+H15","v":{"$error":"#REF!"}},{"$f":"#REF!+#REF!+I15","v":{"$error":"#REF!"}},{"$f":"#REF!+#REF!+J15","v":{"$error":"#REF!"}},null,null,10]
[null,null,null,null,null,null,null,null,null,null,null,null,null,null,null,null,null,null,0]
[11,3,"of",5,55,54,55,50,55,50,{"$f":"#REF!+#REF!+E17","v":{"$error":"#REF!"}},{"$f":"#REF!+#REF!+F17","v":{"$error":"#REF!"}},{"$f":"#REF!+#REF!+G17","v":{"$error":"#REF!"}},{"$f":"#REF!+#REF!+H17","v":{"$error":"#REF!"}},{"$f":"#REF!+#REF!+I17","v":{"$error":"#REF!"}},{"$f":"#REF!+#REF!+J17","v":{"$error":"#REF!"}},null,null,11]
[12,3,"of",9,137,267,116,227,116,226,{"$f":"#REF!+#REF!+E18","v":{"$error":"#REF!"}},{"$f":"#REF!+#REF!+F18","v":{"$error":"#REF!"}},{"$f":"#REF!+#REF!+G18","v":{"$error":"#REF!"}},{"$f":"#REF!+#REF!+H18","v":{"$error":"#REF!"}},{"$f":"#REF!+#REF!+I18","v":{"$error":"#REF!"}},{"$f":"#REF!+#REF!+J18","v":{"$error":"#REF!"}},null,9,12,null,10]
[13,5,"of",11,304,64,242,48,240,48,{"$f":"#REF!+#REF!+E19","v":{"$error":"#REF!"}},{"$f":"#REF!+#REF!+F19","v":{"$error":"#REF!"}},{"$f":"#REF!+#REF!+G19","v":{"$error":"#REF!"}},{"$f":"#REF!+#REF!+H19","v":{"$error":"#REF!"}},{"$f":"#REF!+#REF!+I19","v":{"$error":"#REF!"}},{"$f":"#REF!+#REF!+J19","v":{"$error":"#REF!"}},null,null,13]
[14,3,"of",7,133,85,119,69,119,69,{"$f":"#REF!+#REF!+E20","v":{"$error":"#REF!"}},{"$f":"#REF!+#REF!+F20","v":{"$error":"#REF!"}},{"$f":"#REF!+#REF!+G20","v":{"$error":"#REF!"}},{"$f":"#REF!+#REF!+H20","v":{"$error":"#REF!"}},{"$f":"#REF!+#REF!+I20","v":{"$error":"#REF!"}},{"$f":"#REF!+#REF!+J20","v":{"$error":"#REF!"}},null,null,14]
[15,6,"of",8,224,236,207,208,206,208,{"$f":"#REF!+#REF!+E21","v":{"$error":"#REF!"}},{"$f":"#REF!+#REF!+F21","v":{"$error":"#REF!"}},{"$f":"#REF!+#REF!+G21","v":{"$error":"#REF!"}},{"$f":"#REF!+#REF!+H21","v":{"$error":"#REF!"}},{"$f":"#REF!+#REF!+I21","v":{"$error":"#REF!"}},{"$f":"#REF!+#REF!+J21","v":{"$error":"#REF!"}},null,null,15]
[null,null,null,null,null,null,null,null,null,null,null,null,null,null,null,null,null,null,0]
[16,15,"of",16,604,480,554,443,554,437,{"$f":"#REF!+#REF!+E23","v":{"$error":"#REF!"}},{"$f":"#REF!+#REF!+F23","v":{"$error":"#REF!"}},{"$f":"#REF!+#REF!+G23","v":{"$error":"#REF!"}},{"$f":"#REF!+#REF!+H23","v":{"$error":"#REF!"}},{"$f":"#REF!+#REF!+I23","v":{"$error":"#REF!"}},{"$f":"#REF!+#REF!+J23","v":{"$error":"#REF!"}},null,null,16]
[17,5,"of",12,151,48,147,44,147,44,{"$f":"#REF!+#REF!+E24","v":{"$error":"#REF!"}},{"$f":"#REF!+#REF!+F24","v":{"$error":"#REF!"}},{"$f":"#REF!+#REF!+G24","v":{"$error":"#REF!"}},{"$f":"#REF!+#REF!+H24","v":{"$error":"#REF!"}},{"$f":"#REF!+#REF!+I24","v":{"$error":"#REF!"}},{"$f":"#REF!+#REF!+J24","v":{"$error":"#REF!"}},null,null,17]
[18,0,"of",0,0,0,0,0,0,0,{"$f":"#REF!+#REF!+E25","v":{"$error":"#REF!"}},{"$f":"#REF!+#REF!+F25","v":{"$error":"#REF!"}},{"$f":"#REF!+#REF!+G25","v":{"$error":"#REF!"}},{"$f":"#REF!+#REF!+H25","v":{"$error":"#REF!"}},{"$f":"#REF!+#REF!+I25","v":{"$error":"#REF!"}},{"$f":"#REF!+#REF!+J25","v":{"$error":"#REF!"}},null,null,18]
[19,5,"of",10,150,180,139,166,137,163,{"$f":"#REF!+#REF!+E26","v":{"$error":"#REF!"}},{"$f":"#REF!+#REF!+F26","v":{"$error":"#REF!"}},{"$f":"#REF!+#REF!+G26","v":{"$error":"#REF!"}},{"$f":"#REF!+#REF!+H26","v":{"$error":"#REF!"}},{"$f":"#REF!+#REF!+I26","v":{"$error":"#REF!"}},{"$f":"#REF!+#REF!+J26","v":{"$error":"#REF!"}},null,null,19]
[20,10,"of",15,114,91,86,83,86,82,{"$f":"#REF!+#REF!+E27","v":{"$error":"#REF!"}},{"$f":"#REF!+#REF!+F27","v":{"$error":"#REF!"}},{"$f":"#REF!+#REF!+G27","v":{"$error":"#REF!"}},{"$f":"#REF!+#REF!+H27","v":{"$error":"#REF!"}},{"$f":"#REF!+#REF!+I27","v":{"$error":"#REF!"}},{"$f":"#REF!+#REF!+J27","v":{"$error":"#REF!"}},null,null,20]
[null,null,null,null,null,null,null,null,null,null,null,null,null,null,null,null,null,null,0]
[21,8,"of",12,178,194,165,187,163,183,{"$f":"#REF!+#REF!+E29","v":{"$error":"#REF!"}},{"$f":"#REF!+#REF!+F29","v":{"$error":"#REF!"}},{"$f":"#REF!+#REF!+G29","v":{"$error":"#REF!"}},{"$f":"#REF!+#REF!+H29","v":{"$error":"#REF!"}},{"$f":"#REF!+#REF!+I29","v":{"$error":"#REF!"}},{"$f":"#REF!+#REF!+J29","v":{"$error":"#REF!"}},null,null,21]
[22,17,"of",17,1070,1059,970,933,967,932,{"$f":"#REF!+#REF!+E30","v":{"$error":"#REF!"}},{"$f":"#REF!+#REF!+F30","v":{"$error":"#REF!"}},{"$f":"#REF!+#REF!+G30","v":{"$error":"#REF!"}},{"$f":"#REF!+#REF!+H30","v":{"$error":"#REF!"}},{"$f":"#REF!+#REF!+I30","v":{"$error":"#REF!"}},{"$f":"#REF!+#REF!+J30","v":{"$error":"#REF!"}},null,null,22]
[23,6,"of",8,221,188,193,148,189,147,{"$f":"#REF!+#REF!+E31","v":{"$error":"#REF!"}},{"$f":"#REF!+#REF!+F31","v":{"$error":"#REF!"}},{"$f":"#REF!+#REF!+G31","v":{"$error":"#REF!"}},{"$f":"#REF!+#REF!+H31","v":{"$error":"#REF!"}},{"$f":"#REF!+#REF!+I31","v":{"$error":"#REF!"}},{"$f":"#REF!+#REF!+J31","v":{"$error":"#REF!"}},null,null,23]
[24,4,"of",7,37,69,33,56,33,55,{"$f":"#REF!+#REF!+E32","v":{"$error":"#REF!"}},{"$f":"#REF!+#REF!+F32","v":{"$error":"#REF!"}},{"$f":"#REF!+#REF!+G32","v":{"$error":"#REF!"}},{"$f":"#REF!+#REF!+H32","v":{"$error":"#REF!"}},{"$f":"#REF!+#REF!+I32","v":{"$error":"#REF!"}},{"$f":"#REF!+#REF!+J32","v":{"$error":"#REF!"}},null,null,24]
[25,4,"of",7,67,83,47,73,43,72,{"$f":"#REF!+#REF!+E33","v":{"$error":"#REF!"}},{"$f":"#REF!+#REF!+F33","v":{"$error":"#REF!"}},{"$f":"#REF!+#REF!+G33","v":{"$error":"#REF!"}},{"$f":"#REF!+#REF!+H33","v":{"$error":"#REF!"}},{"$f":"#REF!+#REF!+I33","v":{"$error":"#REF!"}},{"$f":"#REF!+#REF!+J33","v":{"$error":"#REF!"}},null,null,25]
[null,null,null,null,null,null,null,null,null,null,null,null,null,null,null,null,null,null,0]
[26,13,"of",14,362,371,329,336,327,334,{"$f":"#REF!+#REF!+E35","v":{"$error":"#REF!"}},{"$f":"#REF!+#REF!+F35","v":{"$error":"#REF!"}},{"$f":"#REF!+#REF!+G35","v":{"$error":"#REF!"}},{"$f":"#REF!+#REF!+H35","v":{"$error":"#REF!"}},{"$f":"#REF!+#REF!+I35","v":{"$error":"#REF!"}},{"$f":"#REF!+#REF!+J35","v":{"$error":"#REF!"}},null,null,26]
[27,20,"of",20,562,483,478,453,475,451,{"$f":"#REF!+#REF!+E36","v":{"$error":"#REF!"}},{"$f":"#REF!+#REF!+F36","v":{"$error":"#REF!"}},{"$f":"#REF!+#REF!+G36","v":{"$error":"#REF!"}},{"$f":"#REF!+#REF!+H36","v":{"$error":"#REF!"}},{"$f":"#REF!+#REF!+I36","v":{"$error":"#REF!"}},{"$f":"#REF!+#REF!+J36","v":{"$error":"#REF!"}},null,null,27]
[28,4,"of",4,71,48,64,45,64,45,{"$f":"#REF!+#REF!+E37","v":{"$error":"#REF!"}},{"$f":"#REF!+#REF!+F37","v":{"$error":"#REF!"}},{"$f":"#REF!+#REF!+G37","v":{"$error":"#REF!"}},{"$f":"#REF!+#REF!+H37","v":{"$error":"#REF!"}},{"$f":"#REF!+#REF!+I37","v":{"$error":"#REF!"}},{"$f":"#REF!+#REF!+J37","v":{"$error":"#REF!"}},null,4,28,null,5]
[29,6,"of",7,103,167,89,158,86,158,{"$f":"#REF!+#REF!+E38","v":{"$error":"#REF!"}},{"$f":"#REF!+#REF!+F38","v":{"$error":"#REF!"}},{"$f":"#REF!+#REF!+G38","v":{"$error":"#REF!"}},{"$f":"#REF!+#REF!+H38","v":{"$error":"#REF!"}},{"$f":"#REF!+#REF!+I38","v":{"$error":"#REF!"}},{"$f":"#REF!+#REF!+J38","v":{"$error":"#REF!"}},null,7,29,null,8]
[30,3,"of",7,41,27,35,22,35,22,{"$f":"#REF!+#REF!+E39","v":{"$error":"#REF!"}},{"$f":"#REF!+#REF!+F39","v":{"$error":"#REF!"}},{"$f":"#REF!+#REF!+G39","v":{"$error":"#REF!"}},{"$f":"#REF!+#REF!+H39","v":{"$error":"#REF!"}},{"$f":"#REF!+#REF!+I39","v":{"$error":"#REF!"}},{"$f":"#REF!+#REF!+J39","v":{"$error":"#REF!"}},null,null,30]
[null,null,null,null,null,null,null,null,null,null,null,null,null,null,null,null,null,null,0]
[31,0,"of",0,0,0,0,0,0,0,{"$f":"#REF!+#REF!+E41","v":{"$error":"#REF!"}},{"$f":"#REF!+#REF!+F41","v":{"$error":"#REF!"}},{"$f":"#REF!+#REF!+G41","v":{"$error":"#REF!"}},{"$f":"#REF!+#REF!+H41","v":{"$error":"#REF!"}},{"$f":"#REF!+#REF!+I41","v":{"$error":"#REF!"}},{"$f":"#REF!+#REF!+J41","v":{"$error":"#REF!"}},null,null,31]
[32,3,"of",6,23,39,22,37,22,36,{"$f":"#REF!+#REF!+E42","v":{"$error":"#REF!"}},{"$f":"#REF!+#REF!+F42","v":{"$error":"#REF!"}},{"$f":"#REF!+#REF!+G42","v":{"$error":"#REF!"}},{"$f":"#REF!+#REF!+H42","v":{"$error":"#REF!"}},{"$f":"#REF!+#REF!+I42","v":{"$error":"#REF!"}},{"$f":"#REF!+#REF!+J42","v":{"$error":"#REF!"}},null,null,32]
[33,6,"of",8,1394,1127,1315,1017,1314,1009,{"$f":"#REF!+#REF!+E43","v":{"$error":"#REF!"}},{"$f":"#REF!+#REF!+F43","v":{"$error":"#REF!"}},{"$f":"#REF!+#REF!+G43","v":{"$error":"#REF!"}},{"$f":"#REF!+#REF!+H43","v":{"$error":"#REF!"}},{"$f":"#REF!+#REF!+I43","v":{"$error":"#REF!"}},{"$f":"#REF!+#REF!+J43","v":{"$error":"#REF!"}},null,null,33]
[90,0,"of",0,0,0,0,0,0,0,{"$f":"#REF!+#REF!+E44","v":{"$error":"#REF!"}},{"$f":"#REF!+#REF!+F44","v":{"$error":"#REF!"}},{"$f":"#REF!+#REF!+G44","v":{"$error":"#REF!"}},{"$f":"#REF!+#REF!+H44","v":{"$error":"#REF!"}},{"$f":"#REF!+#REF!+I44","v":{"$error":"#REF!"}},{"$f":"#REF!+#REF!+J44","v":{"$error":"#REF!"}},null,null,90]
[99,0,"of",3,0,0,0,0,0,0,{"$f":"#REF!+#REF!+E45","v":{"$error":"#REF!"}},{"$f":"#REF!+#REF!+F45","v":{"$error":"#REF!"}},{"$f":"#REF!+#REF!+G45","v":{"$error":"#REF!"}},{"$f":"#REF!+#REF!+H45","v":{"$error":"#REF!"}},{"$f":"#REF!+#REF!+I45","v":{"$error":"#REF!"}},{"$f":"#REF!+#REF!+J45","v":{"$error":"#REF!"}},null,null,99]
["Totals",{"$f":"SUM(B5:B45)","v":259},"of",{"$f":"SUM(D5:D45)","v":373},8992,8117,8079,7315,8035,7264,{"$error":"#REF!"},{"$error":"#REF!"},{"$error":"#REF!"},{"$error":"#REF!"},{"$error":"#REF!"},{"$error":"#REF!"}]
["Var",null,null,null,null,{"$f":"F46-E46","v":-875},null,{"$f":"H46-G46","v":-764},null,{"$f":"J46-I46","v":-771},null,{"$f":"L46-K46","v":{"$error":"#REF!"}},null,{"$f":"N46-M46","v":{"$error":"#REF!"}},null,{"$f":"P46-O46","v":{"$error":"#REF!"}}]
["D/","Squadrons Reporting",null,null,{"$f":"E3","v":"14-15"},"15-16","14-15","15-16","13-14","14-15",{"$error":"#REF!"},{"$error":"#REF!"},{"$error":"#REF!"},{"$error":"#REF!"},{"$error":"#REF!"},{"$error":"#REF!"}]
[null,null,null,null,"Registration",null,"Examined",null,"Passed",null,"Registration",null,"Examined",null,"Passed"]
[null,null,null,null,"ABC",null,null,null,null,null,"Total"]

{"sheet":"Classes by District","index":6,"n_rows":53,"n_cols":11,"rows_kept":53,"cut":false,"hidden":false,"merged":[[2,2,2,4],[46,2,46,4],[47,2,47,4],[47,5,47,6],[47,9,47,10],[0,9,0,10],[1,9,1,10],[0,5,0,6],[1,5,1,6],[48,5,48,6],[48,9,48,10]]}
[{"$f":"'ED272 Students YTD by Squadron'!A1:C1","v":"2016-07-29"},null,null,null,null,"ABC",null,null,null,"Total"]
[null,null,"Squadrons ",null,null,"No. of Classes",null,null,null,"No. of Classes"]
["District",null,"Reporting",null,null,{"$f":"'ED272 Students YTD by Squadron'!D3","v":"14-15"},{"$f":"'ED272 Students YTD by Squadron'!E3","v":"15-16"},null,null,{"$f":"#REF!","v":{"$error":"#REF!"}},{"$f":"#REF!","v":{"$error":"#REF!"}}]
[1,null,{"$f":"'ED273 Students YTD by District'!B5","v":8},"of",{"$f":"'ED273 Students YTD by District'!D5","v":13},{"$f":"SUMIF('ED272A Classes YTD by Squadron'!$A4:$A421,'Classes by District'!$A4,'ED272A Classes YTD by Squadron'!D4:D421)","v":14},{"$f":"SUMIF('ED272A Classes YTD by Squadron'!$A4:$A421,'Classes by District'!$A4,'ED272A Classes YTD by Squadron'!E4:E421)","v":15},null,null,{"$f":"#REF!+#REF!+F4","v":{"$error":"#REF!"}},{"$f":"#REF!+#REF!+G4","v":{"$error":"#REF!"}}]
[{"$f":"1+A4","v":2},null,{"$f":"'ED273 Students YTD by District'!B6","v":12},"of",{"$f":"'ED273 Students YTD by District'!D6","v":15},{"$f":"SUMIF('ED272A Classes YTD by Squadron'!$A5:$A422,'Classes by District'!$A5,'ED272A Classes YTD by Squadron'!D5:D422)","v":31},{"$f":"SUMIF('ED272A Classes YTD by Squadron'!$A5:$A422,'Classes by District'!$A5,'ED272A Classes YTD by Squadron'!E5:E422)","v":22},null,null,{"$f":"#REF!+#REF!+F5","v":{"$error":"#REF!"}},{"$f":"#REF!+#REF!+G5","v":{"$error":"#REF!"}}]
[{"$f":"1+A5","v":3},null,{"$f":"'ED273 Students YTD by District'!B7","v":14},"of",{"$f":"'ED273 Students YTD by District'!D7","v":16},{"$f":"SUMIF('ED272A Classes YTD by Squadron'!$A6:$A423,'Classes by District'!$A6,'ED272A Classes YTD by Squadron'!D6:D423)","v":56},{"$f":"SUMIF('ED272A Classes YTD by Squadron'!$A6:$A423,'Classes by District'!$A6,'ED272A Classes YTD by Squadron'!E6:E423)","v":56},null,null,{"$f":"#REF!+#REF!+F6","v":{"$error":"#REF!"}},{"$f":"#REF!+#REF!+G6","v":{"$error":"#REF!"}}]
[4,null,{"$f":"'ED273 Students YTD by District'!B8","v":8},"of",{"$f":"'ED273 Students YTD by District'!D8","v":14},{"$f":"SUMIF('ED272A Classes YTD by Squadron'!$A7:$A424,'Classes by District'!$A7,'ED272A Classes YTD by Squadron'!D7:D424)","v":22},{"$f":"SUMIF('ED272A Classes YTD by Squadron'!$A7:$A424,'Classes by District'!$A7,'ED272A Classes YTD by Squadron'!E7:E424)","v":12},null,null,{"$f":"#REF!+#REF!+F7","v":{"$error":"#REF!"}},{"$f":"#REF!+#REF!+G7","v":{"$error":"#REF!"}}]
[5,null,{"$f":"'ED273 Students YTD by District'!B9","v":18},"of",{"$f":"'ED273 Students YTD by District'!D9","v":31},{"$f":"SUMIF('ED272A Classes YTD by Squadron'!$A8:$A425,'Classes by District'!$A8,'ED272A Classes YTD by Squadron'!D8:D425)","v":59},{"$f":"SUMIF('ED272A Classes YTD by Squadron'!$A8:$A425,'Classes by District'!$A8,'ED272A Classes YTD by Squadron'!E8:E425)","v":48},null,null,{"$f":"#REF!+#REF!+F8","v":{"$error":"#REF!"}},{"$f":"#REF!+#REF!+G8","v":{"$error":"#REF!"}}]
[]
[{"$f":"1+A8","v":6},null,{"$f":"'ED273 Students YTD by District'!B11","v":9},"of",{"$f":"'ED273 Students YTD by District'!D11","v":15},{"$f":"SUMIF('ED272A Classes YTD by Squadron'!$A9:$A426,'Classes by District'!$A10,'ED272A Classes YTD by Squadron'!D9:D426)","v":35},{"$f":"SUMIF('ED272A Classes YTD by Squadron'!$A9:$A426,'Classes by District'!$A10,'ED272A Classes YTD by Squadron'!E9:E426)","v":20},null,null,{"$f":"#REF!+#REF!+F10","v":{"$error":"#REF!"}},{"$f":"#REF!+#REF!+G10","v":{"$error":"#REF!"}}]
[7,null,{"$f":"'ED273 Students YTD by District'!B12","v":8},"of",{"$f":"'ED273 Students YTD by District'!D12","v":12},{"$f":"SUMIF('ED272A Classes YTD by Squadron'!$A10:$A427,'Classes by District'!$A11,'ED272A Classes YTD by Squadron'!D10:D427)","v":23},{"$f":"SUMIF('ED272A Classes YTD by Squadron'!$A10:$A427,'Classes by District'!$A11,'ED272A Classes YTD by Squadron'!E10:E427)","v":23},null,null,{"$f":"#REF!+#REF!+F11","v":{"$error":"#REF!"}},{"$f":"#REF!+#REF!+G11","v":{"$error":"#REF!"}}]
[8,null,{"$f":"'ED273 Students YTD by District'!B13","v":10},"of",{"$f":"'ED273 Students YTD by District'!D13","v":13},{"$f":"SUMIF('ED272A Classes YTD by Squadron'!$A11:$A428,'Classes by District'!$A12,'ED272A Classes YTD by Squadron'!D11:D428)","v":48},{"$f":"SUMIF('ED272A Classes YTD by Squadron'!$A11:$A428,'Classes by District'!$A12,'ED272A Classes YTD by Squadron'!E11:E428)","v":57},null,null,{"$f":"#REF!+#REF!+F12","v":{"$error":"#REF!"}},{"$f":"#REF!+#REF!+G12","v":{"$error":"#REF!"}}]
[9,null,{"$f":"'ED273 Students YTD by District'!B14","v":16},"of",{"$f":"'ED273 Students YTD by District'!D14","v":20},{"$f":"SUMIF('ED272A Classes YTD by Squadron'!$A12:$A429,'Classes by District'!$A13,'ED272A Classes YTD by Squadron'!D12:D429)","v":50},{"$f":"SUMIF('ED272A Classes YTD by Squadron'!$A12:$A429,'Classes by District'!$A13,'ED272A Classes YTD by Squadron'!E12:E429)","v":39},null,null,{"$f":"#REF!+#REF!+F13","v":{"$error":"#REF!"}},{"$f":"#REF!+#REF!+G13","v":{"$error":"#REF!"}}]
[10,null,{"$f":"'ED273 Students YTD by District'!B15","v":7},"of",{"$f":"'ED273 Students YTD by District'!D15","v":11},{"$f":"SUMIF('ED272A Classes YTD by Squadron'!$A13:$A430,'Classes by District'!$A14,'ED272A Classes YTD by Squadron'!D13:D430)","v":13},{"$f":"SUMIF('ED272A Classes YTD by Squadron'!$A13:$A430,'Classes by District'!$A14,'ED272A Classes YTD by Squadron'!E13:E430)","v":13},null,null,{"$f":"#REF!+#REF!+F14","v":{"$error":"#REF!"}},{"$f":"#REF!+#REF!+G14","v":{"$error":"#REF!"}}]
[]
[{"$f":"1+A14","v":11},null,{"$f":"'ED273 Students YTD by District'!B17","v":3},"of",{"$f":"'ED273 Students YTD by District'!D17","v":5},{"$f":"SUMIF('ED272A Classes YTD by Squadron'!$A14:$A431,'Classes by District'!$A16,'ED272A Classes YTD by Squadron'!D14:D431)","v":7},{"$f":"SUMIF('ED272A Classes YTD by Squadron'!$A14:$A431,'Classes by District'!$A16,'ED272A Classes YTD by Squadron'!E14:E431)","v":6},null,null,{"$f":"#REF!+#REF!+F16","v":{"$error":"#REF!"}},{"$f":"#REF!+#REF!+G16","v":{"$error":"#REF!"}}]
[12,null,{"$f":"'ED273 Students YTD by District'!B18","v":3},"of",{"$f":"'ED273 Students YTD by District'!D18","v":9},{"$f":"SUMIF('ED272A Classes YTD by Squadron'!$A15:$A432,'Classes by District'!$A17,'ED272A Classes YTD by Squadron'!D15:D432)","v":10},{"$f":"SUMIF('ED272A Classes YTD by Squadron'!$A15:$A432,'Classes by District'!$A17,'ED272A Classes YTD by Squadron'!E15:E432)","v":14},null,null,{"$f":"#REF!+#REF!+F17","v":{"$error":"#REF!"}},{"$f":"#REF!+#REF!+G17","v":{"$error":"#REF!"}}]
[13,null,{"$f":"'ED273 Students YTD by District'!B19","v":5},"of",{"$f":"'ED273 Students YTD by District'!D19","v":11},{"$f":"SUMIF('ED272A Classes YTD by Squadron'!$A16:$A433,'Classes by District'!$A18,'ED272A Classes YTD by Squadron'!D16:D433)","v":37},{"$f":"SUMIF('ED272A Classes YTD by Squadron'!$A16:$A433,'Classes by District'!$A18,'ED272A Classes YTD by Squadron'!E16:E433)","v":8},null,null,{"$f":"#REF!+#REF!+F18","v":{"$error":"#REF!"}},{"$f":"#REF!+#REF!+G18","v":{"$error":"#REF!"}}]
[14,null,{"$f":"'ED273 Students YTD by District'!B20","v":3},"of",{"$f":"'ED273 Students YTD by District'!D20","v":7},{"$f":"SUMIF('ED272A Classes YTD by Squadron'!$A17:$A434,'Classes by District'!$A19,'ED272A Classes YTD by Squadron'!D17:D434)","v":7},{"$f":"SUMIF('ED272A Classes YTD by Squadron'!$A17:$A434,'Classes by District'!$A19,'ED272A Classes YTD by Squadron'!E17:E434)","v":6},null,null,{"$f":"#REF!+#REF!+F19","v":{"$error":"#REF!"}},{"$f":"#REF!+#REF!+G19","v":{"$error":"#REF!"}}]
[15,null,{"$f":"'ED273 Students YTD by District'!B21","v":6},"of",{"$f":"'ED273 Students YTD by District'!D21","v":8},{"$f":"SUMIF('ED272A Classes YTD by Squadron'!$A18:$A435,'Classes by District'!$A20,'ED272A Classes YTD by Squadron'!D18:D435)","v":24},{"$f":"SUMIF('ED272A Classes YTD by Squadron'!$A18:$A435,'Classes by District'!$A20,'ED272A Classes YTD by Squadron'!E18:E435)","v":18},null,null,{"$f":"#REF!+#REF!+F20","v":{"$error":"#REF!"}},{"$f":"#REF!+#REF!+G20","v":{"$error":"#REF!"}}]
[]
[{"$f":"1+A20","v":16},null,{"$f":"'ED273 Students YTD by District'!B23","v":15},"of",{"$f":"'ED273 Students YTD by District'!D23","v":16},{"$f":"SUMIF('ED272A Classes YTD by Squadron'!$A19:$A436,'Classes by District'!$A22,'ED272A Classes YTD by Squadron'!D19:D436)","v":51},{"$f":"SUMIF('ED272A Classes YTD by Squadron'!$A19:$A436,'Classes by District'!$A22,'ED272A Classes YTD by Squadron'!E19:E436)","v":49},null,null,{"$f":"#REF!+#REF!+F22","v":{"$error":"#REF!"}},{"$f":"#REF!+#REF!+G22","v":{"$error":"#REF!"}}]
[17,null,{"$f":"'ED273 Students YTD by District'!B24","v":5},"of",{"$f":"'ED273 Students YTD by District'!D24","v":12},{"$f":"SUMIF('ED272A Classes YTD by Squadron'!$A20:$A437,'Classes by District'!$A23,'ED272A Classes YTD by Squadron'!D20:D437)","v":18},{"$f":"SUMIF('ED272A Classes YTD by Squadron'!$A20:$A437,'Classes by District'!$A23,'ED272A Classes YTD by Squadron'!E20:E437)","v":11},null,null,{"$f":"#REF!+#REF!+F23","v":{"$error":"#REF!"}},{"$f":"#REF!+#REF!+G23","v":{"$error":"#REF!"}}]
[18,null,{"$f":"'ED273 Students YTD by District'!B25","v":0},"of",{"$f":"'ED273 Students YTD by District'!D25","v":0},{"$f":"SUMIF('ED272A Classes YTD by Squadron'!$A21:$A438,'Classes by District'!$A24,'ED272A Classes YTD by Squadron'!D21:D438)","v":0},{"$f":"SUMIF('ED272A Classes YTD by Squadron'!$A21:$A438,'Classes by District'!$A24,'ED272A Classes YTD by Squadron'!E21:E438)","v":0},null,null,{"$f":"#REF!+#REF!+F24","v":{"$error":"#REF!"}},{"$f":"#REF!+#REF!+G24","v":{"$error":"#REF!"}}]
[19,null,{"$f":"'ED273 Students YTD by District'!B26","v":5},"of",{"$f":"'ED273 Students YTD by District'!D26","v":10},{"$f":"SUMIF('ED272A Classes YTD by Squadron'!$A22:$A439,'Classes by District'!$A25,'ED272A Classes YTD by Squadron'!D22:D439)","v":15},{"$f":"SUMIF('ED272A Classes YTD by Squadron'!$A22:$A439,'Classes by District'!$A25,'ED272A Classes YTD by Squadron'!E22:E439)","v":16},null,null,{"$f":"#REF!+#REF!+F25","v":{"$error":"#REF!"}},{"$f":"#REF!+#REF!+G25","v":{"$error":"#REF!"}}]
[20,null,{"$f":"'ED273 Students YTD by District'!B27","v":10},"of",{"$f":"'ED273 Students YTD by District'!D27","v":15},{"$f":"SUMIF('ED272A Classes YTD by Squadron'!$A23:$A440,'Classes by District'!$A26,'ED272A Classes YTD by Squadron'!D23:D440)","v":25},{"$f":"SUMIF('ED272A Classes YTD by Squadron'!$A23:$A440,'Classes by District'!$A26,'ED272A Classes YTD by Squadron'!E23:E440)","v":24},null,null,{"$f":"#REF!+#REF!+F26","v":{"$error":"#REF!"}},{"$f":"#REF!+#REF!+G26","v":{"$error":"#REF!"}}]
[]
[{"$f":"1+A26","v":21},null,{"$f":"'ED273 Students YTD by District'!B29","v":8},"of",{"$f":"'ED273 Students YTD by District'!D29","v":12},{"$f":"SUMIF('ED272A Classes YTD by Squadron'!$A24:$A441,'Classes by District'!$A28,'ED272A Classes YTD by Squadron'!D24:D441)","v":36},{"$f":"SUMIF('ED272A Classes YTD by Squadron'!$A24:$A441,'Classes by District'!$A28,'ED272A Classes YTD by Squadron'!E24:E441)","v":39},null,null,{"$f":"#REF!+#REF!+F28","v":{"$error":"#REF!"}},{"$f":"#REF!+#REF!+G28","v":{"$error":"#REF!"}}]
[22,null,{"$f":"'ED273 Students YTD by District'!B30","v":17},"of",{"$f":"'ED273 Students YTD by District'!D30","v":17},{"$f":"SUMIF('ED272A Classes YTD by Squadron'!$A25:$A442,'Classes by District'!$A29,'ED272A Classes YTD by Squadron'!D25:D442)","v":74},{"$f":"SUMIF('ED272A Classes YTD by Squadron'!$A25:$A442,'Classes by District'!$A29,'ED272A Classes YTD by Squadron'!E25:E442)","v":76},null,null,{"$f":"#REF!+#REF!+F29","v":{"$error":"#REF!"}},{"$f":"#REF!+#REF!+G29","v":{"$error":"#REF!"}}]
[23,null,{"$f":"'ED273 Students YTD by District'!B31","v":6},"of",{"$f":"'ED273 Students YTD by District'!D31","v":8},{"$f":"SUMIF('ED272A Classes YTD by Squadron'!$A26:$A443,'Classes by District'!$A30,'ED272A Classes YTD by Squadron'!D26:D443)","v":22},{"$f":"SUMIF('ED272A Classes YTD by Squadron'!$A26:$A443,'Classes by District'!$A30,'ED272A Classes YTD by Squadron'!E26:E443)","v":20},null,null,{"$f":"#REF!+#REF!+F30","v":{"$error":"#REF!"}},{"$f":"#REF!+#REF!+G30","v":{"$error":"#REF!"}}]
[24,null,{"$f":"'ED273 Students YTD by District'!B32","v":4},"of",{"$f":"'ED273 Students YTD by District'!D32","v":7},{"$f":"SUMIF('ED272A Classes YTD by Squadron'!$A27:$A444,'Classes by District'!$A31,'ED272A Classes YTD by Squadron'!D27:D444)","v":12},{"$f":"SUMIF('ED272A Classes YTD by Squadron'!$A27:$A444,'Classes by District'!$A31,'ED272A Classes YTD by Squadron'!E27:E444)","v":11},null,null,{"$f":"#REF!+#REF!+F31","v":{"$error":"#REF!"}},{"$f":"#REF!+#REF!+G31","v":{"$error":"#REF!"}}]
[25,null,{"$f":"'ED273 Students YTD by District'!B33","v":4},"of",{"$f":"'ED273 Students YTD by District'!D33","v":7},{"$f":"SUMIF('ED272A Classes YTD by Squadron'!$A28:$A445,'Classes by District'!$A32,'ED272A Classes YTD by Squadron'!D28:D445)","v":10},{"$f":"SUMIF('ED272A Classes YTD by Squadron'!$A28:$A445,'Classes by District'!$A32,'ED272A Classes YTD by Squadron'!E28:E445)","v":10},null,null,{"$f":"#REF!+#REF!+F32","v":{"$error":"#REF!"}},{"$f":"#REF!+#REF!+G32","v":{"$error":"#REF!"}}]
[]
[{"$f":"1+A32","v":26},null,{"$f":"'ED273 Students YTD by District'!B35","v":13},"of",{"$f":"'ED273 Students YTD by District'!D35","v":14},{"$f":"SUMIF('ED272A Classes YTD by Squadron'!$A29:$A446,'Classes by District'!$A34,'ED272A Classes YTD by Squadron'!D29:D446)","v":26},{"$f":"SUMIF('ED272A Classes YTD by Squadron'!$A29:$A446,'Classes by District'!$A34,'ED272A Classes YTD by Squadron'!E29:E446)","v":29},null,null,{"$f":"#REF!+#REF!+F34","v":{"$error":"#REF!"}},{"$f":"#REF!+#REF!+G34","v":{"$error":"#REF!"}}]
[27,null,{"$f":"'ED273 Students YTD by District'!B36","v":20},"of",{"$f":"'ED273 Students YTD by District'!D36","v":20},{"$f":"SUMIF('ED272A Classes YTD by Squadron'!$A30:$A447,'Classes by District'!$A35,'ED272A Classes YTD by Squadron'!D30:D447)","v":46},{"$f":"SUMIF('ED272A Classes YTD by Squadron'!$A30:$A447,'Classes by District'!$A35,'ED272A Classes YTD by Squadron'!E30:E447)","v":50},null,null,{"$f":"#REF!+#REF!+F35","v":{"$error":"#REF!"}},{"$f":"#REF!+#REF!+G35","v":{"$error":"#REF!"}}]
[28,null,{"$f":"'ED273 Students YTD by District'!B37","v":4},"of",{"$f":"'ED273 Students YTD by District'!D37","v":4},{"$f":"SUMIF('ED272A Classes YTD by Squadron'!$A31:$A448,'Classes by District'!$A36,'ED272A Classes YTD by Squadron'!D31:D448)","v":13},{"$f":"SUMIF('ED272A Classes YTD by Squadron'!$A31:$A448,'Classes by District'!$A36,'ED272A Classes YTD by Squadron'!E31:E448)","v":8},null,null,{"$f":"#REF!+#REF!+F36","v":{"$error":"#REF!"}},{"$f":"#REF!+#REF!+G36","v":{"$error":"#REF!"}}]
[29,null,{"$f":"'ED273 Students YTD by District'!B38","v":6},"of",{"$f":"'ED273 Students YTD by District'!D38","v":7},{"$f":"SUMIF('ED272A Classes YTD by Squadron'!$A32:$A449,'Classes by District'!$A37,'ED272A Classes YTD by Squadron'!D32:D449)","v":11},{"$f":"SUMIF('ED272A Classes YTD by Squadron'!$A32:$A449,'Classes by District'!$A37,'ED272A Classes YTD by Squadron'!E32:E449)","v":12},null,null,{"$f":"#REF!+#REF!+F37","v":{"$error":"#REF!"}},{"$f":"#REF!+#REF!+G37","v":{"$error":"#REF!"}}]
[30,null,{"$f":"'ED273 Students YTD by District'!B39","v":3},"of",{"$f":"'ED273 Students YTD by District'!D39","v":7},{"$f":"SUMIF('ED272A Classes YTD by Squadron'!$A33:$A450,'Classes by District'!$A38,'ED272A Classes YTD by Squadron'!D33:D450)","v":10},{"$f":"SUMIF('ED272A Classes YTD by Squadron'!$A33:$A450,'Classes by District'!$A38,'ED272A Classes YTD by Squadron'!E33:E450)","v":4},null,null,{"$f":"#REF!+#REF!+F38","v":{"$error":"#REF!"}},{"$f":"#REF!+#REF!+G38","v":{"$error":"#REF!"}}]
[]
[{"$f":"1+A38","v":31},null,{"$f":"'ED273 Students YTD by District'!B41","v":0},"of",{"$f":"'ED273 Students YTD by District'!D41","v":0},{"$f":"SUMIF('ED272A Classes YTD by Squadron'!$A34:$A451,'Classes by District'!$A40,'ED272A Classes YTD by Squadron'!D34:D451)","v":0},{"$f":"SUMIF('ED272A Classes YTD by Squadron'!$A34:$A451,'Classes by District'!$A40,'ED272A Classes YTD by Squadron'!E34:E451)","v":0},null,null,{"$f":"#REF!+#REF!+F40","v":{"$error":"#REF!"}},{"$f":"#REF!+#REF!+G40","v":{"$error":"#REF!"}}]
[32,null,{"$f":"'ED273 Students YTD by District'!B42","v":3},"of",{"$f":"'ED273 Students YTD by District'!D42","v":6},{"$f":"SUMIF('ED272A Classes YTD by Squadron'!$A35:$A452,'Classes by District'!$A41,'ED272A Classes YTD by Squadron'!D35:D452)","v":7},{"$f":"SUMIF('ED272A Classes YTD by Squadron'!$A35:$A452,'Classes by District'!$A41,'ED272A Classes YTD by Squadron'!E35:E452)","v":8},null,null,{"$f":"#REF!+#REF!+F41","v":{"$error":"#REF!"}},{"$f":"#REF!+#REF!+G41","v":{"$error":"#REF!"}}]
[33,null,{"$f":"'ED273 Students YTD by District'!B43","v":6},"of",{"$f":"'ED273 Students YTD by District'!D43","v":8},{"$f":"SUMIF('ED272A Classes YTD by Squadron'!$A36:$A453,'Classes by District'!$A42,'ED272A Classes YTD by Squadron'!D36:D453)","v":25},{"$f":"SUMIF('ED272A Classes YTD by Squadron'!$A36:$A453,'Classes by District'!$A42,'ED272A Classes YTD by Squadron'!E36:E453)","v":23},null,null,{"$f":"#REF!+#REF!+F42","v":{"$error":"#REF!"}},{"$f":"#REF!+#REF!+G42","v":{"$error":"#REF!"}}]
[90,null,{"$f":"'ED273 Students YTD by District'!B44","v":0},"of",{"$f":"'ED273 Students YTD by District'!D44","v":0},{"$f":"SUMIF('ED272A Classes YTD by Squadron'!$A37:$A454,'Classes by District'!$A43,'ED272A Classes YTD by Squadron'!D37:D454)","v":0},{"$f":"SUMIF('ED272A Classes YTD by Squadron'!$A37:$A454,'Classes by District'!$A43,'ED272A Classes YTD by Squadron'!E37:E454)","v":0},null,null,{"$f":"#REF!+#REF!+F43","v":{"$error":"#REF!"}},{"$f":"#REF!+#REF!+G43","v":{"$error":"#REF!"}}]
[99,null,{"$f":"'ED273 Students YTD by District'!B45","v":0},"of",{"$f":"'ED273 Students YTD by District'!D45","v":3},{"$f":"SUMIF('ED272A Classes YTD by Squadron'!$A38:$A455,'Classes by District'!$A44,'ED272A Classes YTD by Squadron'!D38:D455)","v":0},{"$f":"SUMIF('ED272A Classes YTD by Squadron'!$A38:$A455,'Classes by District'!$A44,'ED272A Classes YTD by Squadron'!E38:E455)","v":0},null,null,{"$f":"#REF!+#REF!+F44","v":{"$error":"#REF!"}},{"$f":"#REF!+#REF!+G44","v":{"$error":"#REF!"}}]
["Total",null,{"$f":"SUM(C4:C44)","v":259},"of",{"$f":"SUM(E4:E44)","v":373},{"$f":"SUM(F4:F44)","v":837},747,null,null,{"$error":"#REF!"},{"$error":"#REF!"}]
["Var",null,null,null,null,null,{"$f":"G45-F45","v":-90},null,null,null,{"$f":"K45-J45","v":{"$error":"#REF!"}}]
[null,null,"Squadrons",null,null,{"$f":"F3","v":"14-15"},{"$f":"G3","v":"15-16"},null,null,{"$f":"#REF!","v":{"$error":"#REF!"}},{"$f":"#REF!","v":{"$error":"#REF!"}}]
[null,null,"Reporting",null,null,"No. of Classes",null,null,null,"No. of Classes"]
[null,null,null,null,null,"ABC",null,null,null,"Total"]
[]
["Macros: (Note: security settings must be set to allow macros to run for the macros listed below to work.)"]
["Ctrl_shift M",null,"Creates sheets with values instead of formulas for ED273 and this sheet."]
["Ctrl_Shift T",null,"Must be run after above macro.  Creates values sheets with \"n of m,\" columns merged into one column."]

{"sheet":"Monthly Summary","index":7,"n_rows":50,"n_cols":17,"rows_kept":50,"cut":false,"hidden":false,"merged":[[0,2,0,3],[0,4,0,5],[0,6,0,7],[0,8,0,9],[16,2,16,3],[16,4,16,5],[16,6,16,7],[16,8,16,9]]}
["2014-2015",null,"Registration",null,"Examined",null,"Passed",null,"No. of Classes"]
["Ed Year Month No.","Month",65,"14-15","13-14","14-15","13-14","14-15","14-15","14-15"]
[1,"July",9743,454,8848,430,8772,428,881,41]
[2,"August",null,682,8963,637,8884,632,null,61]
[3,"September",null,1056,8963,949,8884,942,null,98]
[4,"October",null,1780,8955,1564,8874,1555,895,155]
[5,"November",null,2256,8959,2001,8878,1993,896,234]
[6,"December",null,2648,8959,2360,8878,2352,896,269]
[7,"January",null,2853,8971,2545,8890,2536,896,301]
[8,"February",null,3471,8971,3086,8890,3075,896,344]
[9,"March",null,4622,8971,4105,8890,4090,896,447]
[10,"April",null,5835,8971,5240,8890,5223,null,563]
[11,"May",null,7213,8971,6417,8890,6394,null,685]
[12,"EOY",null,8791,8958,7888,8877,7843,895,813]
[]
[null,null,null,null,null,null,null,null,null,null,null,null,null,null,"This Year - Last Year"]
["2015-2016",null,"Registration",null,"Examined",null,"Passed",null,"No. of Classes",null,null,null,null,{"$f":"$D$18","v":"15-'16"},{"$f":"$N$17","v":"15-'16"},{"$f":"$N$17","v":"15-'16"},"15-'16"]
["Ed Year Month No.","Month",{"$f":"'ED272, ED272A Ed YTD by Squad.'!D19","v":98},"15-'16","13-14",{"$f":"D18","v":"15-'16"},"13-14",{"$f":"D18","v":"15-'16"},{"$f":"$D$18","v":"15-'16"},{"$f":"D18","v":"15-'16"},null,"Ed Year Month No.","Month","Registration","Examined","Passed","No. of Classes"]
[1,"July",9743,142,7889,138,7844,137,813,23,null,1,"July",{"$f":"IF(D19<>0,D19-D3, \" \")","v":-312},{"$f":"IF(F19<>0,F19-F3, \" \")","v":-292},{"$f":"IF(H19<>0,H19-H3, \" \")","v":-291},{"$f":"IF(J19<>0,J19-J3,\" \")","v":-18}]
[{"$f":"1+A19","v":2},"August",null,354,8042,329,7998,327,834,47,null,{"$f":"1+L19","v":2},"Aug",-328,-308,-305,-14]
[{"$f":"1+A20","v":3},"September",null,733,8081,651,8037,648,839,95,null,{"$f":"1+L20","v":3},"Sept",-323,-298,-294,-3]
[4,"October",null,1328,8081,1214,8037,1210,839,142,null,4,"Oct",-452,-350,-345,-13]
[5,"November",null,1821,8091,1655,8047,1650,839,202,null,5,"Nov",-435,-346,-343,-32]
[6,"December",null,2102,8091,1870,8047,1857,839,232,null,6,"Dec",-546,-490,-495,-37]
[7,"January",null,2429,8091,2171,8047,2157,839,259,null,7,"Jan",{"$f":"IF(D25<>0,D25-D9, \" \")","v":-424},{"$f":"IF(F25<>0,F25-F9, \" \")","v":-374},{"$f":"IF(H25<>0,H25-H9, \" \")","v":-379},{"$f":"IF(J25<>0,J25-J9,\" \")","v":-42}]
[8,"February",null,3075,8091,2741,8047,2729,839,316,null,8,"Feb",{"$f":"IF(D26<>0,D26-D10, \" \")","v":-396},{"$f":"IF(F26<>0,F26-F10, \" \")","v":-345},{"$f":"IF(H26<>0,H26-H10, \" \")","v":-346},{"$f":"IF(J26<>0,J26-J10,\" \")","v":-28}]
[9,"March",null,4095,8084,3661,8040,3638,836,404,null,9,"Mar",{"$f":"IF(D27<>0,D27-D11, \" \")","v":-527},{"$f":"IF(F27<>0,F27-F11, \" \")","v":-444},{"$f":"IF(H27<>0,H27-H11, \" \")","v":-452},{"$f":"IF(J27<>0,J27-J11,\" \")","v":-43}]
[10,"April",null,4981,8091,4474,8047,4448,837,493,null,10,"Apr",{"$f":"IF(D28<>0,D28-D12, \" \")","v":-854},{"$f":"IF(F28<>0,F28-F12, \" \")","v":-766},{"$f":"IF(H28<>0,H28-H12, \" \")","v":-775},{"$f":"IF(J28<>0,J28-J12,\" \")","v":-70}]
[11,"May",null,6660,8091,5958,8047,5913,837,627,null,11,"May",{"$f":"IF(D29<>0,D29-D13, \" \")","v":-553},{"$f":"IF(F29<>0,F29-F13, \" \")","v":-459},{"$f":"IF(H29<>0,H29-H13, \" \")","v":-481},{"$f":"IF(J29<>0,J29-J13,\" \")","v":-58}]
[12,"EOY",null,8117,8079,7315,8035,7264,837,747,null,12,"June",{"$f":"IF(D30<>0,D30-D14, \" \")","v":-674},{"$f":"IF(F30<>0,F30-F14, \" \")","v":-573},{"$f":"IF(H30<>0,H30-H14, \" \")","v":-579},{"$f":"IF(J30<>0,J30-J14,\" \")","v":-66}]
[]
["EOY (End of Year) data includes Ed year resuls thru end of July"]
[]
["Copy totals values Col. F-L from ED273 Studnts & Cls by Distr tab to Columns D to J in row for each month."]
[]
[null,null,null,null,null,null,null,null,null,null,null,null,null,null,"Monthly Values"]
[null,null,null,null,null,null,null,null,null,null,null,null,null,{"$f":"$D$18","v":"15-'16"},{"$f":"$N$17","v":"15-'16"},{"$f":"$N$17","v":"15-'16"},"15-'16"]
[null,null,null,null,null,null,null,null,null,null,null,"Ed Year Month No.","Month","Registration","Examined","Passed","No. of Classes"]
[null,"2013-2014",null,null,null,null,null,null,null,null,null,1,"July",{"$f":"D19","v":142},{"$f":"F19","v":138},{"$f":"H19","v":137},{"$f":"J19","v":23}]
[null,"Year End",null,9743,null,8848,null,8772,null,846,null,{"$f":"1+L39","v":2},"Aug",{"$f":"IF(D20<>0,D20-D19, \" \")","v":212},{"$f":"IF(F20<>0,F20-F19, \" \")","v":191},{"$f":"IF(H20<>0,H20-H19, \" \")","v":190},{"$f":"IF(J20<>0,J20-J19, \" \")","v":24}]
[null,"Last Month",null,9341,8918,8490,8850,8412,825,846,null,{"$f":"1+L40","v":3},"Sept",{"$f":"IF(D21<>0,D21-D20, \" \")","v":379},{"$f":"IF(F21<>0,F21-F20, \" \")","v":322},{"$f":"IF(H21<>0,H21-H20, \" \")","v":321},{"$f":"IF(J21<>0,J21-J20, \" \")","v":48}]
[null,null,null,null,null,null,null,null,null,null,null,4,"Oct",595,563,562,47]
[null,"2014-2015",null,null,null,null,null,null,null,null,null,5,"Nov",493,{"$f":"IF(F23<>0,F23-F22, \" \")","v":441},{"$f":"IF(H23<>0,H23-H22, \" \")","v":440},{"$f":"IF(J23<>0,J23-J22, \" \")","v":60}]
[null,"Year End",null,8791,8958,7888,8877,7843,895,813,null,6,"Dec",{"$f":"IF(D24<>0,D24-D23, \" \")","v":281},{"$f":"IF(F24<>0,F24-F23, \" \")","v":215},{"$f":"IF(H24<>0,H24-H23, \" \")","v":207},{"$f":"IF(J24<>0,J24-J23, \" \")","v":30}]
[null,"Last Month",null,8412,null,7531,null,7493,null,785,null,7,"Jan",327,301,300,27]
[null,null,null,null,null,null,null,null,null,null,null,8,"Feb",646,570,572,57]
[null,"2015-2016",null,null,null,null,null,null,null,null,null,9,"Mar",1020,920,909,88]
[null,"Year End",null,null,null,null,null,null,null,null,null,10,"Apr",886,813,810,89]
[null,"Last Month",null,7771,8078,7000,8034,6951,836,705,null,11,"May",1679,1484,1465,134]
[null,null,null,null,null,null,null,null,null,null,null,12,"June",1457,1357,1351,120]

{"sheet":"Long Term Data","index":8,"n_rows":8,"n_cols":9,"rows_kept":8,"cut":false,"hidden":false,"merged":[[1,1,1,2],[1,3,1,4],[1,5,1,6],[1,7,1,8],[0,1,0,6],[0,7,0,8]]}
["Educ.","ABC",null,null,null,null,null,"ABC"]
["Yr.","Registration",null,"Examined",null,"Passed",null,"No. of Classes"]
[null,"11-12","12-13","11-12","12-13","11-12","12-13","11-12","12-13"]
["11-12",9523,2403,8588,2184,8465,2172,823,235]
["12-13",9758,2630,8897,2343,8829,2335,820,234]
["13-14",9866,1056,8963,949,8884,942,895,98]
["14-15",8412,8971,7531,8890,7493,896,785,785]
["15-16",{"$f":"'ED273 Stdnts & Cls YTD by Distr'!F46","v":8117},{"$f":"'ED273 Stdnts & Cls YTD by Distr'!G46","v":8079},{"$f":"'ED273 Stdnts & Cls YTD by Distr'!H46","v":7315},{"$f":"'ED273 Stdnts & Cls YTD by Distr'!I46","v":8035},{"$f":"'ED273 Stdnts & Cls YTD by Distr'!J46","v":7264},{"$f":"'ED273 Stdnts & Cls YTD by Distr'!K46","v":837},{"$f":"'ED273 Stdnts & Cls YTD by Distr'!L46","v":747}]

{"sheet":"Chart - Year to Year Comparison","index":9,"n_rows":0,"n_cols":0,"rows_kept":0,"cut":false,"hidden":false,"merged":[]}

{"sheet":"Chart - Monthly Values","index":10,"n_rows":0,"n_cols":0,"rows_kept":0,"cut":false,"hidden":false,"merged":[]}

{"sheet":"273 XLATR","index":11,"n_rows":112,"n_cols":20,"rows_kept":112,"cut":false,"hidden":false,"merged":[]}
[1,8,13,116,133,108,126,108,126]
[2,12,15,366,311,327,290,327,290]
[3,14,16,327,423,295,383,295,373]
[4,8,14,158,90,152,88,152,88]
[5,18,32,450,417,377,389,377,389]
[6,9,15,287,144,271,136,267,136]
[7,8,12,202,181,173,154,172,153]
[8,10,13,529,572,485,520,475,515]
[9,16,20,355,332,303,296,302,294]
[10,7,11,201,154,183,130,182,129]
[11,3,5,55,54,55,50,55,50]
[12,3,10,137,267,116,227,116,226]
[13,5,11,304,64,242,48,240,48]
[14,3,7,133,85,119,69,119,69]
[15,6,8,224,236,207,208,206,208]
[16,15,16,604,480,554,443,554,437]
[17,5,12,151,48,147,44,147,44]
[19,5,10,150,180,139,166,137,163,null,"Directions:"]
[20,10,15,114,91,86,83,86,82,null,"Block copy values from WK273C.csv file to matrix at left"]
[21,8,12,178,194,165,187,163,183,null,"Block copy matrix below to ED273 Students YTD by District sheet"]
[22,17,17,1070,1059,970,933,967,932,null,"Update Date on first two sheets."]
[23,6,8,221,188,193,148,189,147,null,"Hide intermediate data sheets w/ macro before transmitting."]
[24,4,7,37,69,33,56,33,55]
[25,4,7,67,83,47,73,43,72]
[26,13,14,362,371,329,336,327,334]
[27,20,20,562,483,478,453,475,451]
[28,4,5,71,48,64,45,64,45]
[29,6,8,103,167,89,158,86,158]
[30,3,7,41,27,35,22,35,22]
[32,3,6,23,39,22,37,22,36]
[33,6,8,1394,1127,1315,1017,1314,1009]
[90,0,0,0,0,0,0,0,0]
[99,0,3,0,0,0,0,0,0]
[]
[]
[]
[{"$f":"A1","v":1},{"$f":"B1","v":8},13,116,133,108,126,108,126]
[{"$f":"A2","v":2},12,15,366,311,327,290,327,290]
[{"$f":"A3","v":3},14,16,327,423,295,383,295,373]
[{"$f":"A4","v":4},8,14,158,90,152,88,152,88]
[{"$f":"A5","v":5},18,32,450,417,377,389,377,389]
[{"$f":"A6","v":6},9,15,287,144,271,136,267,136]
[{"$f":"A7","v":7},8,12,202,181,173,154,172,153]
[{"$f":"A8","v":8},10,13,529,572,485,520,475,515]
[{"$f":"A9","v":9},16,20,355,332,303,296,302,294]
[{"$f":"A10","v":10},7,11,201,154,183,130,182,129]
[{"$f":"A11","v":11},3,5,55,54,55,50,55,50]
[{"$f":"A12","v":12},3,10,137,267,116,227,116,226]
[{"$f":"A13","v":13},5,11,304,64,242,48,240,48]
[{"$f":"A14","v":14},3,7,133,85,119,69,119,69]
[{"$f":"A15","v":15},6,8,224,236,207,208,206,208]
[{"$f":"A16","v":16},15,16,604,480,554,443,554,437]
[{"$f":"A17","v":17},5,12,151,48,147,44,147,44]
[18]
[{"$f":"A18","v":19},{"$f":"B18","v":5},10,150,180,139,166,137,163]
[{"$f":"A19","v":20},10,15,114,91,86,83,86,82]
[{"$f":"A20","v":21},8,12,178,194,165,187,163,183]
[{"$f":"A21","v":22},17,17,1070,1059,970,933,967,932]
[{"$f":"A22","v":23},6,8,221,188,193,148,189,147]
[{"$f":"A23","v":24},4,7,37,69,33,56,33,55]
[{"$f":"A24","v":25},4,7,67,83,47,73,43,72]
[{"$f":"A25","v":26},13,14,362,371,329,336,327,334]
[{"$f":"A26","v":27},20,20,562,483,478,453,475,451]
[{"$f":"A27","v":28},4,5,71,48,64,45,64,45]
[{"$f":"A28","v":29},6,8,103,167,89,158,86,158]
[{"$f":"A29","v":30},3,7,41,27,35,22,35,22]
[31]
[{"$f":"A30","v":32},{"$f":"B30","v":3},6,23,39,22,37,22,36]
[{"$f":"A31","v":33},6,8,1394,1127,1315,1017,1314,1009]
[{"$f":"A32","v":90},0,0,0,0,0,0,0,0]
[{"$f":"A33","v":99},0,3,0,0,0,0,0,0]
[null,null,null,null,null,null,null,null,null,null,{"$f":"A37","v":1},8,"of",{"$f":"C37","v":13},{"$f":"D37","v":116},133,108,126,108,{"$f":"I37","v":126}]
[null,null,null,null,null,null,null,null,null,null,2,12,"of",{"$f":"C38","v":15},366,311,327,290,327,{"$f":"I38","v":290}]
[null,null,null,null,null,null,null,null,null,null,3,14,"of",{"$f":"C39","v":16},327,423,295,383,295,{"$f":"I39","v":373}]
[null,null,null,null,null,null,null,null,null,null,4,8,"of",{"$f":"C40","v":14},158,90,152,88,152,{"$f":"I40","v":88}]
[null,null,null,null,null,null,null,null,null,null,5,18,"of",{"$f":"C41","v":32},450,417,377,389,377,{"$f":"I41","v":389}]
[]
[null,null,null,null,null,null,null,null,null,null,{"$f":"A42","v":6},9,"of",{"$f":"C42","v":15},{"$f":"D42","v":287},144,271,136,267,136]
[null,null,null,null,null,null,null,null,null,null,7,8,"of",{"$f":"C43","v":12},202,181,173,154,172,153]
[null,null,null,null,null,null,null,null,null,null,8,10,"of",{"$f":"C44","v":13},529,572,485,520,475,515]
[null,null,null,null,null,null,null,null,null,null,9,16,"of",{"$f":"C45","v":20},355,332,303,296,302,294]
[null,null,null,null,null,null,null,null,null,null,10,7,"of",{"$f":"C46","v":11},201,154,183,130,182,129]
[]
[null,null,null,null,null,null,null,null,null,null,{"$f":"A47","v":11},3,"of",{"$f":"C47","v":5},{"$f":"D47","v":55},54,55,50,55,50]
[null,null,null,null,null,null,null,null,null,null,12,3,"of",{"$f":"C48","v":10},137,267,116,227,116,226]
[null,null,null,null,null,null,null,null,null,null,13,5,"of",{"$f":"C49","v":11},304,64,242,48,240,48]
[null,null,null,null,null,null,null,null,null,null,14,3,"of",{"$f":"C50","v":7},133,85,119,69,119,69]
[null,null,null,null,null,null,null,null,null,null,15,6,"of",{"$f":"C51","v":8},224,236,207,208,206,208]
[]
[null,null,null,null,null,null,null,null,null,null,{"$f":"A52","v":16},15,"of",{"$f":"C52","v":16},{"$f":"D52","v":604},480,554,443,554,437]
[null,null,null,null,null,null,null,null,null,null,17,5,"of",{"$f":"C53","v":12},151,48,147,44,147,44]
[null,null,null,null,null,null,null,null,null,null,18,0,"of",{"$f":"C54","v":0},0,0,0,0,0,0]
[null,null,null,null,null,null,null,null,null,null,19,5,"of",{"$f":"C55","v":10},150,180,139,166,137,163]
[null,null,null,null,null,null,null,null,null,null,20,10,"of",{"$f":"C56","v":15},114,91,86,83,86,82]
[]
[null,null,null,null,null,null,null,null,null,null,{"$f":"A57","v":21},8,"of",{"$f":"C57","v":12},{"$f":"D57","v":178},194,165,187,163,183]
[null,null,null,null,null,null,null,null,null,null,22,17,"of",{"$f":"C58","v":17},1070,1059,970,933,967,932]
[null,null,null,null,null,null,null,null,null,null,23,6,"of",{"$f":"C59","v":8},221,188,193,148,189,147]
[null,null,null,null,null,null,null,null,null,null,24,4,"of",{"$f":"C60","v":7},37,69,33,56,33,55]
[null,null,null,null,null,null,null,null,null,null,25,4,"of",{"$f":"C61","v":7},67,83,47,73,43,72]
[]
[null,null,null,null,null,null,null,null,null,null,{"$f":"A62","v":26},13,"of",{"$f":"C62","v":14},{"$f":"D62","v":362},371,329,336,327,{"$f":"I62","v":334}]
[null,null,null,null,null,null,null,null,null,null,27,20,"of",{"$f":"C63","v":20},562,483,478,453,475,{"$f":"I63","v":451}]
[null,null,null,null,null,null,null,null,null,null,28,4,"of",{"$f":"C64","v":5},71,48,64,45,64,{"$f":"I64","v":45}]
[null,null,null,null,null,null,null,null,null,null,29,6,"of",{"$f":"C65","v":8},103,167,89,158,86,{"$f":"I65","v":158}]
[null,null,null,null,null,null,null,null,null,null,30,3,"of",{"$f":"C66","v":7},41,27,35,22,35,{"$f":"I66","v":22}]
[]
[null,null,null,null,null,null,null,null,null,null,{"$f":"A67","v":31},0,"of",{"$f":"C67","v":0},{"$f":"D67","v":0},0,0,0,0,0]
[null,null,null,null,null,null,null,null,null,null,32,3,"of",{"$f":"C68","v":6},{"$f":"D68","v":23},39,22,37,22,36]
[null,null,null,null,null,null,null,null,null,null,33,6,"of",{"$f":"C69","v":8},1394,1127,1315,1017,1314,1009]
[null,null,null,null,null,null,null,null,null,null,90,0,"of",{"$f":"C70","v":0},0,0,0,0,0,0]
[null,null,null,null,null,null,null,null,null,null,99,0,"of",{"$f":"C71","v":3},0,0,0,0,0,0]